{"text_format":"1","workbook":"xlsx","n_sheets":10,"sheets":["0-Instruções de preenchimento","I-Cenário Base","II-a) Medidas a implementar","II-b) Vinculos","II-c) Reflexos","III-Cenário Ajustado","IV-Verificações","V-Parâmetros","V-Parâmetros (2)","VI-Referência"],"not_rendered":{"charts":0,"images":0,"macros":1,"external_links":0,"defined_names":0,"comments":0,"pivot_tables":0},"unopened":[],"bounds":{"document_bytes":16777216,"sheet_cells":100000,"rows_first":2000,"rows_last":500,"rows_between":2000,"halvings":0,"cell_chars":16384,"cell_head_chars":4096},"cells_cut":0,"cells_raw":0,"read":"whole","date_system":"1900"}

{"sheet":"0-Instruções de preenchimento","index":0,"n_rows":43,"n_cols":1,"rows_kept":43,"cut":false,"hidden":false,"merged":[[41,16378,41,16379],[41,16380,41,16381],[41,16382,41,16383],[41,16368,41,16369],[41,16370,41,16371],[41,16372,41,16373],[41,16374,41,16375],[41,16376,41,16377],[41,16358,41,16359],[41,16360,41,16361],[41,16362,41,16363],[41,16364,41,16365],[41,16366,41,16367],[41,16348,41,16349],[41,16350,41,16351],[41,16352,41,16353],[41,16354,41,16355],[41,16356,41,16357],[41,16338,41,16339],[41,16340,41,16341],[41,16342,41,16343],[41,16344,41,16345],[41,16346,41,16347],[41,16328,41,16329],[41,16330,41,16331],[41,16332,41,16333],[41,16334,41,16335],[41,16336,41,16337],[41,16318,41,16319],[41,16320,41,16321],[41,16322,41,16323],[41,16324,41,16325],[41,16326,41,16327],[41,16308,41,16309],[41,16310,41,16311],[41,16312,41,16313],[41,16314,41,16315],[41,16316,41,16317],[41,16298,41,16299],[41,16300,41,16301],[41,16302,41,16303],[41,16304,41,16305],[41,16306,41,16307],[41,16288,41,16289],[41,16290,41,16291],[41,16292,41,16293],[41,16294,41,16295],[41,16296,41,16297],[41,16278,41,16279],[41,16280,41,16281],[41,16282,41,16283],[41,16284,41,16285],[41,16286,41,16287],[41,16268,41,16269],[41,16270,41,16271],[41,16272,41,16273],[41,16274,41,16275],[41,16276,41,16277],[41,16258,41,16259],[41,16260,41,16261],[41,16262,41,16263],[41,16264,41,16265],[41,16266,41,16267],[41,16248,41,16249],[41,16250,41,16251],[41,16252,41,16253],[41,16254,41,16255],[41,16256,41,16257],[41,16238,41,16239],[41,16240,41,16241],[41,16242,41,16243],[41,16244,41,16245],[41,16246,41,16247],[41,16228,41,16229],[41,16230,41,16231],[41,16232,41,16233],[41,16234,41,16235],[41,16236,41,16237],[41,16218,41,16219],[41,16220,41,16221],[41,16222,41,16223],[41,16224,41,16225],[41,16226,41,16227],[41,16208,41,16209],[41,16210,41,16211],[41,16212,41,16213],[41,16214,41,16215],[41,16216,41,16217],[41,16198,41,16199],[41,16200,41,16201],[41,16202,41,16203],[41,16204,41,16205],[41,16206,41,16207],[41,16188,41,16189],[41,16190,41,16191],[41,16192,41,16193],[41,16194,41,16195],[41,16196,41,16197],[41,16178,41,16179],[41,16180,41,16181],[41,16182,41,16183],[41,16184,41,16185],[41,16186,41,16187],[41,16168,41,16169],[41,16170,41,16171],[41,16172,41,16173],[41,16174,41,16175],[41,16176,41,16177],[41,16158,41,16159],[41,16160,41,16161],[41,16162,41,16163],[41,16164,41,16165],[41,16166,41,16167],[41,16148,41,16149],[41,16150,41,16151],[41,16152,41,16153],[41,16154,41,16155],[41,16156,41,16157],[41,16138,41,16139],[41,16140,41,16141],[41,16142,41,16143],[41,16144,41,16145],[41,16146,41,16147],[41,16128,41,16129],[41,16130,41,16131],[41,16132,41,16133],[41,16134,41,16135],[41,16136,41,16137],[41,16118,41,16119],[41,16120,41,16121],[41,16122,41,16123],[41,16124,41,16125],[41,16126,41,16127],[41,16108,41,16109],[41,16110,41,16111],[41,16112,41,16113],[41,16114,41,16115],[41,16116,41,16117],[41,16098,41,16099],[41,16100,41,16101],[41,16102,41,16103],[41,16104,41,16105],[41,16106,41,16107],[41,16088,41,16089],[41,16090,41,16091],[41,16092,41,16093],[41,16094,41,16095],[41,16096,41,16097],[41,16078,41,16079],[41,16080,41,16081],[41,16082,41,16083],[41,16084,41,16085],[41,16086,41,16087],[41,16068,41,16069],[41,16070,41,16071],[41,16072,41,16073],[41,16074,41,16075],[41,16076,41,16077],[41,16058,41,16059],[41,16060,41,16061],[41,16062,41,16063],[41,16064,41,16065],[41,16066,41,16067],[41,16048,41,16049],[41,16050,41,16051],[41,16052,41,16053],[41,16054,41,16055],[41,16056,41,16057],[41,16038,41,16039],[41,16040,41,16041],[41,16042,41,16043],[41,16044,41,16045],[41,16046,41,16047],[41,16028,41,16029],[41,16030,41,16031],[41,16032,41,16033],[41,16034,41,16035],[41,16036,41,16037],[41,16018,41,16019],[41,16020,41,16021],[41,16022,41,16023],[41,16024,41,16025],[41,16026,41,16027],[41,16008,41,16009],[41,16010,41,16011],[41,16012,41,16013],[41,16014,41,16015],[41,16016,41,16017],[41,15998,41,15999],[41,16000,41,16001],[41,16002,41,16003],[41,16004,41,16005],[41,16006,41,16007],[41,15988,41,15989],[41,15990,41,15991],[41,15992,41,15993],[41,15994,41,15995],[41,15996,41,15997],[41,15978,41,15979],[41,15980,41,15981],[41,15982,41,15983],[41,15984,41,15985],[41,15986,41,15987],[41,15968,41,15969],[41,15970,41,15971],[41,15972,41,15973],[41,15974,41,15975],[41,15976,41,15977],[41,15958,41,15959],[41,15960,41,15961],[41,15962,41,15963],[41,15964,41,15965],[41,15966,41,15967],[41,15948,41,15949],[41,15950,41,15951],[41,15952,41,15953],[41,15954,41,15955],[41,15956,41,15957],[41,15938,41,15939],[41,15940,41,15941],[41,15942,41,15943],[41,15944,41,15945],[41,15946,41,15947],[41,15928,41,15929],[41,15930,41,15931],[41,15932,41,15933],[41,15934,41,15935],[41,15936,41,15937],[41,15918,41,15919],[41,15920,41,15921],[41,15922,41,15923],[41,15924,41,15925],[41,15926,41,15927],[41,15908,41,15909],[41,15910,41,15911],[41,15912,41,15913],[41,15914,41,15915],[41,15916,41,15917],[41,15898,41,15899],[41,15900,41,15901],[41,15902,41,15903],[41,15904,41,15905],[41,15906,41,15907],[41,15888,41,15889],[41,15890,41,15891],[41,15892,41,15893],[41,15894,41,15895],[41,15896,41,15897],[41,15878,41,15879],[41,15880,41,15881],[41,15882,41,15883],[41,15884,41,15885],[41,15886,41,15887],[41,15868,41,15869],[41,15870,41,15871],[41,15872,41,15873],[41,15874,41,15875],[41,15876,41,15877],[41,15858,41,15859],[41,15860,41,15861],[41,15862,41,15863],[41,15864,41,15865],[41,15866,41,15867],[41,15848,41,15849],[41,15850,41,15851],[41,15852,41,15853],[41,15854,41,15855],[41,15856,41,15857],[41,15838,41,15839],[41,15840,41,15841],[41,15842,41,15843],[41,15844,41,15845],[41,15846,41,15847],[41,15828,41,15829],[41,15830,41,15831],[41,15832,41,15833],[41,15834,41,15835],[41,15836,41,15837],[41,15818,41,15819],[41,15820,41,15821],[41,15822,41,15823],[41,15824,41,15825],[41,15826,41,15827],[41,15808,41,15809],[41,15810,41,15811],[41,15812,41,15813],[41,15814,41,15815],[41,15816,41,15817],[41,15798,41,15799],[41,15800,41,15801],[41,15802,41,15803],[41,15804,41,15805],[41,15806,41,15807],[41,15788,41,15789],[41,15790,41,15791],[41,15792,41,15793],[41,15794,41,15795],[41,15796,41,15797],[41,15778,41,15779],[41,15780,41,15781],[41,15782,41,15783],[41,15784,41,15785],[41,15786,41,15787],[41,15768,41,15769],[41,15770,41,15771],[41,15772,41,15773],[41,15774,41,15775],[41,15776,41,15777],[41,15758,41,15759],[41,15760,41,15761],[41,15762,41,15763],[41,15764,41,15765],[41,15766,41,15767],[41,15748,41,15749],[41,15750,41,15751],[41,15752,41,15753],[41,15754,41,15755],[41,15756,41,15757],[41,15738,41,15739],[41,15740,41,15741],[41,15742,41,15743],[41,15744,41,15745],[41,15746,41,15747],[41,15728,41,15729],[41,15730,41,15731],[41,15732,41,15733],[41,15734,41,15735],[41,15736,41,15737],[41,15718,41,15719],[41,15720,41,15721],[41,15722,41,15723],[41,15724,41,15725],[41,15726,41,15727],[41,15708,41,15709],[41,15710,41,15711],[41,15712,41,15713],[41,15714,41,15715],[41,15716,41,15717],[41,15698,41,15699],[41,15700,41,15701],[41,15702,41,15703],[41,15704,41,15705],[41,15706,41,15707],[41,15688,41,15689],[41,15690,41,15691],[41,15692,41,15693],[41,15694,41,15695],[41,15696,41,15697],[41,15678,41,15679],[41,15680,41,15681],[41,15682,41,15683],[41,15684,41,15685],[41,15686,41,15687],[41,15668,41,15669],[41,15670,41,15671],[41,15672,41,15673],[41,15674,41,15675],[41,15676,41,15677],[41,15658,41,15659],[41,15660,41,15661],[41,15662,41,15663],[41,15664,41,15665],[41,15666,41,15667],[41,15648,41,15649],[41,15650,41,15651],[41,15652,41,15653],[41,15654,41,15655],[41,15656,41,15657],[41,15638,41,15639],[41,15640,41,15641],[41,15642,41,15643],[41,15644,41,15645],[41,15646,41,15647],[41,15628,41,15629],[41,15630,41,15631],[41,15632,41,15633],[41,15634,41,15635],[41,15636,41,15637],[41,15618,41,15619],[41,15620,41,15621],[41,15622,41,15623],[41,15624,41,15625],[41,15626,41,15627],[41,15608,41,15609],[41,15610,41,15611],[41,15612,41,15613],[41,15614,41,15615],[41,15616,41,15617],[41,15598,41,15599],[41,15600,41,15601],[41,15602,41,15603],[41,15604,41,15605],[41,15606,41,15607],[41,15588,41,15589],[41,15590,41,15591],[41,15592,41,15593],[41,15594,41,15595],[41,15596,41,15597],[41,15578,41,15579],[41,15580,41,15581],[41,15582,41,15583],[41,15584,41,15585],[41,15586,41,15587],[41,15568,41,15569],[41,15570,41,15571],[41,15572,41,15573],[41,15574,41,15575],[41,15576,41,15577],[41,15558,41,15559],[41,15560,41,15561],[41,15562,41,15563],[41,15564,41,15565],[41,15566,41,15567],[41,15548,41,15549],[41,15550,41,15551],[41,15552,41,15553],[41,15554,41,15555],[41,15556,41,15557],[41,15538,41,15539],[41,15540,41,15541],[41,15542,41,15543],[41,15544,41,15545],[41,15546,41,15547],[41,15528,41,15529],[41,15530,41,15531],[41,15532,41,15533],[41,15534,41,15535],[41,15536,41,15537],[41,15518,41,15519],[41,15520,41,15521],[41,15522,41,15523],[41,15524,41,15525],[41,15526,41,15527],[41,15508,41,15509],[41,15510,41,15511],[41,15512,41,15513],[41,15514,41,15515],[41,15516,41,15517],[41,15498,41,15499],[41,15500,41,15501],[41,15502,41,15503],[41,15504,41,15505],[41,15506,41,15507],[41,15488,41,15489],[41,15490,41,15491],[41,15492,41,15493],[41,15494,41,15495],[41,15496,41,15497],[41,15478,41,15479],[41,15480,41,15481],[41,15482,41,15483],[41,15484,41,15485],[41,15486,41,15487],[41,15468,41,15469],[41,15470,41,15471],[41,15472,41,15473],[41,15474,41,15475],[41,15476,41,15477],[41,15458,41,15459],[41,15460,41,15461],[41,15462,41,15463],[41,15464,41,15465],[41,15466,41,15467],[41,15448,41,15449],[41,15450,41,15451],[41,15452,41,15453],[41,15454,41,15455],[41,15456,41,15457],[41,15438,41,15439],[41,15440,41,15441],[41,15442,41,15443],[41,15444,41,15445],[41,15446,41,15447],[41,15428,41,15429],[41,15430,41,15431],[41,15432,41,15433],[41,15434,41,15435],[41,15436,41,15437],[41,15418,41,15419],[41,15420,41,15421],[41,15422,41,15423],[41,15424,41,15425],[41,15426,41,15427],[41,15408,41,15409],[41,15410,41,15411],[41,15412,41,15413],[41,15414,41,15415],[41,15416,41,15417],[41,15398,41,15399],[41,15400,41,15401],[41,15402,41,15403],[41,15404,41,15405],[41,15406,41,15407],[41,15388,41,15389],[41,15390,41,15391],[41,15392,41,15393],[41,15394,41,15395],[41,15396,41,15397],[41,15378,41,15379],[41,15380,41,15381],[41,15382,41,15383],[41,15384,41,15385],[41,15386,41,15387],[41,15368,41,15369],[41,15370,41,15371],[41,15372,41,15373],[41,15374,41,15375],[41,15376,41,15377],[41,15358,41,15359],[41,15360,41,15361],[41,15362,41,15363],[41,15364,41,15365],[41,15366,41,15367],[41,15348,41,15349],[41,15350,41,15351],[41,15352,41,15353],[41,15354,41,15355],[41,15356,41,15357],[41,15338,41,15339],[41,15340,41,15341],[41,15342,41,15343],[41,15344,41,15345],[41,15346,41,15347],[41,15328,41,15329],[41,15330,41,15331],[41,15332,41,15333],[41,15334,41,15335],[41,15336,41,15337],[41,15318,41,15319],[41,15320,41,15321],[41,15322,41,15323],[41,15324,41,15325],[41,15326,41,15327],[41,15308,41,15309],[41,15310,41,15311],[41,15312,41,15313],[41,15314,41,15315],[41,15316,41,15317],[41,15298,41,15299],[41,15300,41,15301],[41,15302,41,15303],[41,15304,41,15305],[41,15306,41,15307],[41,15288,41,15289],[41,15290,41,15291],[41,15292,41,15293],[41,15294,41,15295],[41,15296,41,15297],[41,15278,41,15279],[41,15280,41,15281],[41,15282,41,15283],[41,15284,41,15285],[41,15286,41,15287],[41,15268,41,15269],[41,15270,41,15271],[41,15272,41,15273],[41,15274,41,15275],[41,15276,41,15277],[41,15258,41,15259],[41,15260,41,15261],[41,15262,41,15263],[41,15264,41,15265],[41,15266,41,15267],[41,15248,41,15249],[41,15250,41,15251],[41,15252,41,15253],[41,15254,41,15255],[41,15256,41,15257],[41,15238,41,15239],[41,15240,41,15241],[41,15242,41,15243],[41,15244,41,15245],[41,15246,41,15247],[41,15228,41,15229],[41,15230,41,15231],[41,15232,41,15233],[41,15234,41,15235],[41,15236,41,15237],[41,15218,41,15219],[41,15220,41,15221],[41,15222,41,15223],[41,15224,41,15225],[41,15226,41,15227],[41,15208,41,15209],[41,15210,41,15211],[41,15212,41,15213],[41,15214,41,15215],[41,15216,41,15217],[41,15198,41,15199],[41,15200,41,15201],[41,15202,41,15203],[41,15204,41,15205],[41,15206,41,15207],[41,15188,41,15189],[41,15190,41,15191],[41,15192,41,15193],[41,15194,41,15195],[41,15196,41,15197],[41,15178,41,15179],[41,15180,41,15181],[41,15182,41,15183],[41,15184,41,15185],[41,15186,41,15187],[41,15168,41,15169],[41,15170,41,15171],[41,15172,41,15173],[41,15174,41,15175],[41,15176,41,15177],[41,15158,41,15159],[41,15160,41,15161],[41,15162,41,15163],[41,15164,41,15165],[41,15166,41,15167],[41,15148,41,15149],[41,15150,41,15151],[41,15152,41,15153],[41,15154,41,15155],[41,15156,41,15157],[41,15138,41,15139],[41,15140,41,15141],[41,15142,41,15143],[41,15144,41,15145],[41,15146,41,15147],[41,15128,41,15129],[41,15130,41,15131],[41,15132,41,15133],[41,15134,41,15135],[41,15136,41,15137],[41,15118,41,15119],[41,15120,41,15121],[41,15122,41,15123],[41,15124,41,15125],[41,15126,41,15127],[41,15108,41,15109],[41,15110,41,15111],[41,15112,41,15113],[41,15114,41,15115],[41,15116,41,15117],[41,15098,41,15099],[41,15100,41,15101],[41,15102,41,15103],[41,15104,41,15105],[41,15106,41,15107],[41,15088,41,15089],[41,15090,41,15091],[41,15092,41,15093],[41,15094,41,15095],[41,15096,41,15097],[41,15078,41,15079],[41,15080,41,15081],[41,15082,41,15083],[41,15084,41,15085],[41,15086,41,15087],[41,15068,41,15069],[41,15070,41,15071],[41,15072,41,15073],[41,15074,41,15075],[41,15076,41,15077],[41,15058,41,15059],[41,15060,41,15061],[41,15062,41,15063],[41,15064,41,15065],[41,15066,41,15067],[41,15048,41,15049],[41,15050,41,15051],[41,15052,41,15053],[41,15054,41,15055],[41,15056,41,15057],[41,15038,41,15039],[41,15040,41,15041],[41,15042,41,15043],[41,15044,41,15045],[41,15046,41,15047],[41,15028,41,15029],[41,15030,41,15031],[41,15032,41,15033],[41,15034,41,15035],[41,15036,41,15037],[41,15018,41,15019],[41,15020,41,15021],[41,15022,41,15023],[41,15024,41,15025],[41,15026,41,15027],[41,15008,41,15009],[41,15010,41,15011],[41,15012,41,15013],[41,15014,41,15015],[41,15016,41,15017],[41,14998,41,14999],[41,15000,41,15001],[41,15002,41,15003],[41,15004,41,15005],[41,15006,41,15007],[41,14988,41,14989],[41,14990,41,14991],[41,14992,41,14993],[41,14994,41,14995],[41,14996,41,14997],[41,14978,41,14979],[41,14980,41,14981],[41,14982,41,14983],[41,14984,41,14985],[41,14986,41,14987],[41,14968,41,14969],[41,14970,41,14971],[41,14972,41,14973],[41,14974,41,14975],[41,14976,41,14977],[41,14958,41,14959],[41,14960,41,14961],[41,14962,41,14963],[41,14964,41,14965],[41,14966,41,14967],[41,14948,41,14949],[41,14950,41,14951],[41,14952,41,14953],[41,14954,41,14955],[41,14956,41,14957],[41,14938,41,14939],[41,14940,41,14941],[41,14942,41,14943],[41,14944,41,14945],[41,14946,41,14947],[41,14928,41,14929],[41,14930,41,14931],[41,14932,41,14933],[41,14934,41,14935],[41,14936,41,14937],[41,14918,41,14919],[41,14920,41,14921],[41,14922,41,14923],[41,14924,41,14925],[41,14926,41,14927],[41,14908,41,14909],[41,14910,41,14911],[41,14912,41,14913],[41,14914,41,14915],[41,14916,41,14917],[41,14898,41,14899],[41,14900,41,14901],[41,14902,41,14903],[41,14904,41,14905],[41,14906,41,14907],[41,14888,41,14889],[41,14890,41,14891],[41,14892,41,14893],[41,14894,41,14895],[41,14896,41,14897],[41,14878,41,14879],[41,14880,41,14881],[41,14882,41,14883],[41,14884,41,14885],[41,14886,41,14887],[41,14868,41,14869],[41,14870,41,14871],[41,14872,41,14873],[41,14874,41,14875],[41,14876,41,14877],[41,14858,41,14859],[41,14860,41,14861],[41,14862,41,14863],[41,14864,41,14865],[41,14866,41,14867],[41,14848,41,14849],[41,14850,41,14851],[41,14852,41,14853],[41,14854,41,14855],[41,14856,41,14857],[41,14838,41,14839],[41,14840,41,14841],[41,14842,41,14843],[41,14844,41,14845],[41,14846,41,14847],[41,14828,41,14829],[41,14830,41,14831],[41,14832,41,14833],[41,14834,41,14835],[41,14836,41,14837],[41,14818,41,14819],[41,14820,41,14821],[41,14822,41,14823],[41,14824,41,14825],[41,14826,41,14827],[41,14808,41,14809],[41,14810,41,14811],[41,14812,41,14813],[41,14814,41,14815],[41,14816,41,14817],[41,14798,41,14799],[41,14800,41,14801],[41,14802,41,14803],[41,14804,41,14805],[41,14806,41,14807],[41,14788,41,14789],[41,14790,41,14791],[41,14792,41,14793],[41,14794,41,14795],[41,14796,41,14797],[41,14778,41,14779],[41,14780,41,14781],[41,14782,41,14783],[41,14784,41,14785],[41,14786,41,14787],[41,14768,41,14769],[41,14770,41,14771],[41,14772,41,14773],[41,14774,41,14775],[41,14776,41,14777],[41,14758,41,14759],[41,14760,41,14761],[41,14762,41,14763],[41,14764,41,14765],[41,14766,41,14767],[41,14748,41,14749],[41,14750,41,14751],[41,14752,41,14753],[41,14754,41,14755],[41,14756,41,14757],[41,14738,41,14739],[41,14740,41,14741],[41,14742,41,14743],[41,14744,41,14745],[41,14746,41,14747],[41,14728,41,14729],[41,14730,41,14731],[41,14732,41,14733],[41,14734,41,14735],[41,14736,41,14737],[41,14718,41,14719],[41,14720,41,14721],[41,14722,41,14723],[41,14724,41,14725],[41,14726,41,14727],[41,14708,41,14709],[41,14710,41,14711],[41,14712,41,14713],[41,14714,41,14715],[41,14716,41,14717],[41,14698,41,14699],[41,14700,41,14701],[41,14702,41,14703],[41,14704,41,14705],[41,14706,41,14707],[41,14688,41,14689],[41,14690,41,14691],[41,14692,41,14693],[41,14694,41,14695],[41,14696,41,14697],[41,14678,41,14679],[41,14680,41,14681],[41,14682,41,14683],[41,14684,41,14685],[41,14686,41,14687],[41,14668,41,14669],[41,14670,41,14671],[41,14672,41,14673],[41,14674,41,14675],[41,14676,41,14677],[41,14658,41,14659],[41,14660,41,14661],[41,14662,41,14663],[41,14664,41,14665],[41,14666,41,14667],[41,14648,41,14649],[41,14650,41,14651],[41,14652,41,14653],[41,14654,41,14655],[41,14656,41,14657],[41,14638,41,14639],[41,14640,41,14641],[41,14642,41,14643],[41,14644,41,14645],[41,14646,41,14647],[41,14628,41,14629],[41,14630,41,14631],[41,14632,41,14633],[41,14634,41,14635],[41,14636,41,14637],[41,14618,41,14619],[41,14620,41,14621],[41,14622,41,14623],[41,14624,41,14625],[41,14626,41,14627],[41,14608,41,14609],[41,14610,41,14611],[41,14612,41,14613],[41,14614,41,14615],[41,14616,41,14617],[41,14598,41,14599],[41,14600,41,14601],[41,14602,41,14603],[41,14604,41,14605],[41,14606,41,14607],[41,14588,41,14589],[41,14590,41,14591],[41,14592,41,14593],[41,14594,41,14595],[41,14596,41,14597],[41,14578,41,14579],[41,14580,41,14581],[41,14582,41,14583],[41,14584,41,14585],[41,14586,41,14587],[41,14568,41,14569],[41,14570,41,14571],[41,14572,41,14573],[41,14574,41,14575],[41,14576,41,14577],[41,14558,41,14559],[41,14560,41,14561],[41,14562,41,14563],[41,14564,41,14565],[41,14566,41,14567],[41,14548,41,14549],[41,14550,41,14551],[41,14552,41,14553],[41,14554,41,14555],[41,14556,41,14557],[41,14538,41,14539],[41,14540,41,14541],[41,14542,41,14543],[41,14544,41,14545],[41,14546,41,14547],[41,14528,41,14529],[41,14530,41,14531],[41,14532,41,14533],[41,14534,41,14535],[41,14536,41,14537],[41,14518,41,14519],[41,14520,41,14521],[41,14522,41,14523],[41,14524,41,14525],[41,14526,41,14527],[41,14508,41,14509],[41,14510,41,14511],[41,14512,41,14513],[41,14514,41,14515],[41,14516,41,14517],[41,14498,41,14499],[41,14500,41,14501],[41,14502,41,14503],[41,14504,41,14505],[41,14506,41,14507],[41,14488,41,14489],[41,14490,41,14491],[41,14492,41,14493],[41,14494,41,14495],[41,14496,41,14497],[41,14478,41,14479],[41,14480,41,14481],[41,14482,41,14483],[41,14484,41,14485],[41,14486,41,14487],[41,14468,41,14469],[41,14470,41,14471],[41,14472,41,14473],[41,14474,41,14475],[41,14476,41,14477],[41,14458,41,14459],[41,14460,41,14461],[41,14462,41,14463],[41,14464,41,14465],[41,14466,41,14467],[41,14448,41,14449],[41,14450,41,14451],[41,14452,41,14453],[41,14454,41,14455],[41,14456,41,14457],[41,14438,41,14439],[41,14440,41,14441],[41,14442,41,14443],[41,14444,41,14445],[41,14446,41,14447],[41,14428,41,14429],[41,14430,41,14431],[41,14432,41,14433],[41,14434,41,14435],[41,14436,41,14437],[41,14418,41,14419],[41,14420,41,14421],[41,14422,41,14423],[41,14424,41,14425],[41,14426,41,14427],[41,14408,41,14409],[41,14410,41,14411],[41,14412,41,14413],[41,14414,41,14415],[41,14416,41,14417],[41,14398,41,14399],[41,14400,41,14401],[41,14402,41,14403],[41,14404,41,14405],[41,14406,41,14407],[41,14388,41,14389],[41,14390,41,14391],[41,14392,41,14393],[41,14394,41,14395],[41,14396,41,14397],[41,14378,41,14379],[41,14380,41,14381]],"merged_total":8215,"flags":["merged_cut"]}
["PLANO DE RECUPERAÇÃO FISCAL"]
["Instruções de preenchimento"]
[]
["Orientações Gerais"]
["1. Receitas"]
["As receitas consideram valores arrecadados."]
["Não devem ser consideradas receitas com fonte de recurso RPPS."]
["Os repasses para o Fundeb integram a base de receitas, e devem ser lançados na linha \"Deduções para formação do Fundeb (IIa)\"."]
["2. Despesas"]
["Todas as despesas consideram valores empenhados."]
["Não devem ser consideradas despesas com fonte de recursos RPPS."]
[]
["Instruções de preenchimento"]
["1. Cenário Base"]
["Informar Exercício Corrente e Ano-base para a limitação de despesas (no exercício de 2021, o ano-base pode ser escolhido a partir de 2017)."]
["Preencher valores realizados até o exercício anterior, e projeções para o exercício atual e seguintes (substituir as fórmulas-padrão, que realizam projeção com base no IPCA e na variação do PIB real Nacional)."]
["Em alguns casos, são necessárias informações do exercício X-4, para algum cálculo que se dê de forma incremental (como Restos a Pagar)."]
[]
["2. Medidas a implementar"]
["Informar, para cada uma das medidas de ajuste a implementar constante da documentação descritiva do PRF (Notas Técnicas), os fluxos afetados (um por linha) e impactos esperados."]
["O nome de cada fluxo afetado deve ser idêntico à linha correspondente nas planilhas \"I-Cenário Base\" e \"III-Cenário Ajustado\"."]
[]
["3. Vinculações"]
["Esta aba possibilita gerar os reflexos indiretos das medidas a implementar."]
["Cada linha representa um \"Fluxo afetado - reflexo\" (Y), que será afetado na proporção indicada cada vez que uma medida trouxer impacto a um \"Fluxo afetado pela medida\"(X), podendo a proporção ser positiva ou negativa (caso em que um aumento do fluxo X gera redução no fluxo Y)."]
["Importante destacar que, caso haja mais de uma vinculação afetando o mesmo fluxo, o percentual incidente deve ser o final (percentual real), e não o percentual listado no normativo (percentual nominal). Esses percentuais podem ser diferentes consoante a ordem de aplicação.\nExemplo: sobre uma receita incide 25% de transferências aos municípios e 20% de dedução do Fundeb - esses são os percentuais nominais. Entretanto, como é feita a dedução do montante transferido aos municípios antes da dedução do Fundeb, essa dedução, na verdade, é de 20% sobre os 75% restantes, ou seja, 15% sobre o total. Na coluna \"Proporção\" da vinculação do Fundeb, deve constar, portanto, 15%."]
["Ao fim, pressionar o botão para executar a macro e gerar os reflexos das medidas a implementar."]
[]
["4. Cenário Ajustado"]
["Os dados do Cenário Ajustado são obtidos automaticamente através da soma das projeções do Cenário Base com os impactos das Medidas a implementar e seus Reflexos."]
[]
["5. Verificações"]
["A aba de verificações averigua:\na) o cumprimento da limitação de despesas do inciso V do § 1º do artigo 2º da Lei Complementar nº 159/2017; e\nb) o atingimento do equilíbrio ao fim do Regime"]
["Para a verificação do cumprimento da limitação de despesas, devem ser informados dados do pagamento de passivos não financeiros e das despesas não incluídas no cálculo, referentes ao ano-base do cálculo da limitação e aos anos posteriores."]
["O serviço da dívida por competência será informado pela STN."]
["O respeito à limitação de despesas ao longo de todo o Regime é condição necessária à aprovação do PRF."]
["Para a verificação das condições de equilíbrio, devem ser informadas as receitas e despesas extraordinárias não incluídas no cálculo do resultado primário para fins de apuração do equilíbrio, uma por linha (inserir linhas extras entre as já existentes, de forma a atualizar automaticamente a fórmula de soma das receitas e das despesas)."]
[]
["6. Parâmetros"]
["Na aba de parâmetros são informadas projeções de variáveis macroeconômicas úteis para a estimação de rubricas fiscais. Essas projeções, no entanto, poderão ser substituídas por outras que o Estado achar mais convenientes."]
[]
["Mapeamento de Contas RRF e Instruções"]
["Consultar a aba \"VI-Referência\"."]

{"sheet":"I-Cenário Base","index":1,"n_rows":111,"n_cols":17,"rows_kept":111,"cut":false,"hidden":false,"merged":[]}
["PLANO DE RECUPERAÇÃO FISCAL"]
["Anexo I - Demonstrativo de Resultados Fiscais"]
["Cenário Base - Dados anuais em R$ milhões"]
["Receitas arrecadadas, brutas do repasse para o Fundeb\nDespesas empenhadas, inclusive transferências a Municípios"]
[null,2018,2019,2020,2021,2022,2023,2024,2025,2026,2027,2028,2029,2030,2031,2032,2033]
["ACIMA DA LINHA - RECEITAS E DESPESAS"]
["Receita Total (I) = (II+IX)",null,{"$f":"C8+C33","v":0},93604.987400590006,111657.73254323,122365.90927024002,124824.92455555002,132492.83954979252,139147.46653841838,146167.15105952264,153770.81858985979,161656.50658892406,170313.71469042689,179479.278968859,189169.47770662504,199465.82491787535,{"$f":"Q8+Q33","v":210469.4357703632}]
["Receitas Correntes (II) = (III+IV+V+VI+VII-IIa)",null,{"$f":"C9+C15+C18+C21+C27-C31","v":0},93179.244610860012,107666.13633400999,119031.54037780002,121471.37122331002,129645.22043693151,137165.69909019605,144150.92727775741,152131.63324297493,160393.23143479516,169012.68800490635,178139.30436214979,187789.3229040342,198044.22050337287,{"$f":"Q9+Q15+Q18+Q21+Q27-Q31","v":209005.07389132131}]
["Receitas Tributárias (III)",null,{"$f":"SUM(C10:C14)","v":0},68620.988533400014,85643.755249069989,{"$f":"SUM(F10:F14)","v":91665.335065850013},{"$f":"SUM(G10:G14)","v":96820.673522800003},103675.22999174998,109640.04870870843,116031.09803178674,122861.51853816192,130107.39531439109,137676.95128669386,145709.69177314703,{"$f":"SUM(O10:O14)","v":154264.55344179177},163363.55503932064,{"$f":"SUM(Q10:Q14)","v":173038.04147884078}]
["ICMS",null,null,52509.448731780009,67891.975280450002,70674.173662200017,72002.91443106001,78016.612969527006,83511.036460759919,88515.660633508684,93958.557139498807,99600.002473865316,105617.40460749136,112010.72127974749,118833.64965468906,126102.64220165578,133843.12997377684]
["IPVA",null,null,6228.4339166999998,6669.6326495900003,7733.793405110001,11120.966370189999,11569.603040552518,11757.76576265398,12518.677516683025,13324.58479992536,14182.758408213647,15096.60110289914,16069.737651762905,17106.029331910311,18209.589380886395,19384.799458045316]
["ITCD",null,null,996.17345879000004,1567.8360798399999,1548.3951313200005,1860.7626529100003,1879.2407297549664,1712.6460940214652,1781.1519377823236,1834.5864959157934,1889.6240907932672,1946.312813517065,2004.7021979225769,2064.8432638602544,2126.7885617760617,2190.5922186293437]
["IRRF",null,null,5469.9511715299996,5307.5699886499997,6589.4122190899998,7059.46214685,7612.2228917265365,7908.9745775746696,8206.1571283587527,8515.9786302981811,8978.4513361845547,9320.4118636488147,9677.1780359631339,10049.49211564102,10438.138550667338,10843.946581453529]
["Outras Receitas Tributárias",null,null,3416.9812545999989,4206.7412505400025,5119.560648130001,4776.5679217900015,4597.5503601889468,4749.6258136984161,5009.4508154539435,5227.8114725237838,5456.5590053343085,5696.22089913745,5947.3526077509105,6210.5390756910974,6486.3963443350831,6775.5732469357472]
["Receitas de Contribuições (IV)",null,{"$f":"SUM(C16:C17)","v":0},4240.3815576999996,2864.1787328099999,{"$f":"SUM(F16:F17)","v":2995.0936400400005},{"$f":"SUM(G16:G17)","v":3431.3439473500002},{"$f":"SUM(H16:H17)","v":3068.5802840710203},3169.968327946212,3274.8257837583742,3383.286126547102,3541.875963934056,3659.7026347296414,3781.6331836785153,{"$f":"SUM(O16:O17)","v":3907.8267991089533},4038.449161719258,{"$f":"SUM(Q16:Q17)","v":4173.6727197726559}]
["Receitas Previdenciárias (a)",null,null,2807.0881268600001,1722.8381142699993,1696.1495981400003,1683.9932622799997,1662.83133709102,1719.5909334362118,1778.6162851360734,1840.0047575186329,1950.2457652273333,2018.4083382880165,2089.3200634099412,2163.0994871451217,2239.870429137512,2319.762220790858]
["Outras Receitas de Contribuições",null,null,1433.2934308399997,1141.3406185400004,1298.9440419,1747.3506850700005,1405.74894698,1450.3773945100002,1496.2094986223005,1543.2813690284688,1591.6301987067229,1641.2942964416252,1692.313120268574,1744.7273119638314,1798.5787325817457,1853.9104989817984]
["Receita Patrimonial (V)",null,{"$f":"SUM(C19:C20)","v":0},1971.9484768,4993.1708129899989,{"$f":"SUM(F19:F20)","v":5482.3988722000013},{"$f":"SUM(G19:G20)","v":6090.6691526399991},{"$f":"SUM(H19:H20)","v":5655.0884914253102},5739.3929555019404,6199.3709202758573,6463.6346845129137,6479.7994332190319,6611.2413311557484,6708.7463623459516,{"$f":"SUM(O19:O20)","v":6835.9850827026976},6988.169291011126,{"$f":"SUM(Q19:Q20)","v":7220.1805829672867}]
["Receita de Aplicações Financeiras (b)",null,null,223.08227150000002,783.59194783999942,3234.3781914800011,3365.391154829998,2817.0845384033664,2549.6698705076378,2430.5567188642758,2456.9785006812463,2353.826579834295,2241.011632307398,2128.7362666233162,2016.0801583045868,2015.0984626237744,1995.1354818598613]
["Outras Receitas Patrimoniais",null,null,1748.8662053,4209.5788651499997,2248.0206807199997,2725.2779978100016,2838.0039530219437,3189.7230849943026,3768.8142014115815,4006.6561838316675,4125.9728533847374,4370.2296988483504,4580.0100957226359,4819.9049243981108,4973.0708283873519,5225.0451011074256]
["Transferências Correntes (VI)",null,{"$f":"SUM(C22:C26)","v":0},23114.715951400001,23516.565472609997,29237.07270452,25871.059102210005,28687.827331681543,30912.890103612241,31612.063387689675,33222.949441105789,34984.567675969651,36769.573581688746,38692.638825747053,40655.861878145399,42733.148746083534,{"$f":"SUM(Q22:Q26)","v":44930.840579232936}]
["Cota-Parte do FPE",null,null,4179.9118239899999,5752.1886821499993,7255.5763223000004,7391.1742211700002,8945.0313065384835,9467.6715957169163,9997.444627526851,10560.980586291287,11156.281939979355,11785.139240372115,12449.443969073411,13151.194226722146,13892.500742894023,14675.593224769476]
["Cota-Parte do IPI-Exp. (LC nº 61/1989)",null,null,567.94316996999999,770.5926406100001,805.41889571000002,700.54317669000011,837.82751830000007,886.78010453923241,936.40077206882972,989.183810788806,1044.9421238353493,1103.8434214717006,1166.0648674532174,1231.7936119018204,1301.2273542175026,1374.574937720035]
["Transferências do FUNDEB",null,null,8577.5132857200006,11145.3296133,11630.79872753,11296.61775901,11916.450368587559,12506.997696440412,13244.241063582582,14018.908713128243,14846.259236067526,15726.111584578666,16659.513801700185,17652.516512987535,18707.812140221122,19828.988279343968]
["Royalties e Participações Especiais",null,null,19.54302053,32.8232,51.045227840000003,44.323923719999996,47.849864999999994,50.645636912219999,53.479564171280181,56.494100244486901,59.678559687068159,44.129764517656177,66.596101548553463,70.349990600642343,74.315478870819362,78.504493783809721]
["Outras Transferências Correntes",null,null,9769.8046511899993,5815.63133655,9494.2335311399984,6438.400021620002,6940.6682732554991,8000.795070003458,7380.4973603401349,7597.3822306529682,7877.40581640035,8110.3495707486136,8351.0200859716897,8550.007535933255,8757.2930298800638,8973.1796436156437]
["Demais Receitas Correntes (VII)",null,{"$f":"SUM(C28:C30)","v":0},4739.3505859800007,3121.7865236599996,3393.0819895899999,{"$f":"SUM(G28:G30)","v":3159.3949981500032},{"$f":"SUM(H28:H30)","v":3756.1543652767295},3949.1359401466389,4109.6805343512988,4253.9774916242768,4403.791783912312,4559.3568960505418,4720.9151378867855,{"$f":"SUM(O28:O30)","v":4888.7226235815015},5056.2954976419442,{"$f":"SUM(Q28:Q30)","v":5236.7113017164811}]
["Outras Receitas Financeiras (c)",null,null,4.6466806500000004,22.890753570000001,66.511425979999999,5.697469260000001,5.7540500000000003,5.9266114999999999,6.1043498449999998,6.2874203403499997,6.4759829505605007,6.6702024390773156,6.8702485122496357,7.0762959676171242,7.2885248466456387,7.5071205920450073]
["Compensações Financeiras entre o RGPS e o RPPS (d)",null,null,0,0,0,0,0,0,0,0,0,0,0,0,0,0]
["Receitas Correntes Restantes",null,null,4734.7039053300005,3098.8957700899996,3326.5705636100001,3153.697528890003,3750.4003152767295,3943.2093286466388,4103.5761845062989,4247.690071283927,4397.3158009617518,4552.6866936114648,4714.0448893745361,4881.6463276138848,5049.0069727952987,5229.2041811244362]
["Deduções para formação do Fundeb (IIa)",null,null,9508.1404944200003,12473.320457129998,13741.441894400004,13901.769499839998,15197.660027273078,16245.736945719385,17076.11138010455,18053.733038977094,19124.198736630988,20264.137725412216,21474.320920655591,22763.626921296142,24135.397232403648,25594.372771208829]
["Receitas Primárias Correntes (VIII) = (II-b-c)",null,{"$f":"C8-C19-C28","v":0},92951.515658710021,106859.65363259999,115730.65076034001,118100.28259922002,126822.38184852815,134610.1026081884,141714.26620904813,149668.36732195332,158032.92887201029,166765.00617015988,176003.69784701423,185766.16644976198,196021.83351590246,{"$f":"Q8-Q19-Q28","v":207002.43128886941}]
["Receitas de Capital (IX) = (X+XI+XII+XIII+XIV)",null,{"$f":"C34+C35+C36+C39+C40","v":0},425.74278973000003,3991.5962092200002,3334.3688924400003,{"$f":"G34+G35+G36+G39+G40","v":3353.5533322399997},{"$f":"H34+H35+H36+H39+H40","v":2847.6191128610008},1981.7674482223244,2016.2237817652335,1639.1853468848644,1263.275154128891,1301.026685520533,1339.9746067092078,{"$f":"O34+O35+O36+O39+O40","v":1380.1548025908432},1421.6044145024762,{"$f":"Q34+Q35+Q36+Q39+Q40","v":1464.3618790418955}]
["Operações de Crédito (X)",null,null,4.71734338,0.9147786,9.296383800000001,10.743106289999998,24.893275670000016,0,0,0,0,0,0,0,0,0]
["Amortização de Empréstimos (XI)",null,null,75.912059689999992,146.45234957,260.52298671,88.079639210000011,86.780991095999994,88.552030129999991,90.417816869964,92.379112920323735,94.436806774981193,96.591912421926011,98.845568166094395,101.19903566401229,103.653699164221,106.21106494792151]
["Alienação de Bens (XII)",null,{"$f":"SUM(C37:C38)","v":0},44.301966360000002,114.07480355000001,36.474302779999995,{"$f":"SUM(G37:G38)","v":53.602816189999999},{"$f":"SUM(H37:H38)","v":25.278086000000002},26.591235605374404,27.93305693371132,29.247138764134949,30.627479297491409,32.077579000497103,33.60112862206077,{"$f":"SUM(O37:O38)","v":35.202019708146636},36.884355703010527,{"$f":"SUM(Q37:Q38)","v":38.652463669671569}]
["Alienação de Bens Não Primária (e)",null,null,26.8055527,32.016428490000003,0.86622772999999997,0.22500000000000001,0.22500000000000001,0.23175000000000001,0.23870250000000001,0.245863575,0.25323948225000004,0.26083666671750005,0.26866176671902503,0.27672161972059578,0.28502326831221364,0.29357396636158006]
["Alienação de Bens Primária",null,null,17.496413660000002,82.058375060000003,35.608075049999997,53.377816189999997,25.053086,26.359485605374402,27.694354433711322,29.001275189134947,30.37423981524141,31.816742333779604,33.332466855341742,34.92529808842604,36.599332434698312,38.358889703309991]
["Transferências de Capital (XIII)",null,null,300.81142030000007,325.10375479000004,412.65136971000004,382.48319520000001,979.28561406500046,1008.6641824869499,1038.9241079615583,1070.0918312004057,1102.1945861364184,1135.2604237205098,1169.3182364321246,1204.3977835250885,1240.5297170308409,1277.7456085417664]
["Outras Receitas de Capital (XIV)",null,{"$f":"SUM(C41:C42)","v":0},0,3405.0505227100002,2615.4238494400001,{"$f":"SUM(G41:G42)","v":2818.6445753499997},{"$f":"SUM(H41:H42)","v":1731.3811460300005},857.96,858.94880000000001,447.467264,36.016281920000004,37.096770377600002,38.209673488928004,{"$f":"SUM(O41:O42)","v":39.355963693595839},40.536642604403717,{"$f":"SUM(Q41:Q42)","v":41.75274188253583}]
["Outras Receitas de Capital Não Primárias (f)",null,null,null,null,null,null,0,0,0,0,0,0,0,0,0,0]
["Outras Receitas de Capital Primárias",null,null,null,3405.0505227100002,2615.4238494400001,2818.6445753499997,1731.3811460300005,857.96,858.94880000000001,447.467264,36.016281920000004,37.096770377600002,38.209673488928004,39.355963693595839,40.536642604403717,41.75274188253583]
["Receitas Primárias de Capital (XV) = (IX-X-XI-e-f)",null,{"$f":"C33-C34-C35-C37-C41","v":0},318.30783396000004,3812.2126525600002,3063.6832942000001,{"$f":"G33-G34-G35-G37-G41","v":3254.5055867399997},{"$f":"H33-H34-H35-H37-H41","v":2735.7198460950008},1892.9836680923245,1925.5672623952694,1546.5603703895408,1168.5851078716598,1204.1739364318894,1240.8603767763943,{"$f":"O33-O34-O35-O37-O41","v":1278.6790453071105},1317.6656920699429,{"$f":"Q33-Q34-Q35-Q37-Q41","v":1357.8572401276122}]
["RECEITA PRIMÁRIA TOTAL (XVI) = (VIII+XV)",null,{"$f":"C32+C43","v":0},93269.823492670024,110671.86628515999,118794.33405454001,{"$f":"G32+G43","v":121354.78818596002},129558.10169462315,136503.08627628072,143639.83347144339,151214.92769234287,159201.51397988194,167969.18010659175,177244.55822379063,{"$f":"O32+O43","v":187044.84549506908},197339.4992079724,{"$f":"Q32+Q43","v":208360.28852899701}]
["Despesa Orçamentária (XVII) = (XVIII+XXIII)",null,{"$f":"C46+C58","v":0},96715.121379709948,112234.61559889998,119975.64943746994,124516.71308997006,129739.36439467638,140066.56300567984,148232.00771874067,156222.93259327117,164229.12976118154,173275.48298094561,180970.88590492451,190546.39574548209,200576.27035161122,{"$f":"Q46+Q58","v":210190.51040515187}]
["Despesas Correntes (XVIII) = (XIX+XX+XXI)",null,{"$f":"C47+C52+C53","v":0},90421.784450879946,100032.29326060999,106411.16995440994,{"$f":"G47+G52+G53","v":113403.28868751007},120880.50095535321,128297.6570796818,134996.31147565198,141416.81062465312,149063.98340721393,156193.33236257109,161559.01358837733,{"$f":"O47+O52+O53","v":168662.62526066281},175896.25335048707,{"$f":"Q47+Q52+Q53","v":188694.6022444916}]
["Pessoal e Encargos Sociais (XIX)",null,{"$f":"SUM(C48:C51)","v":0},42770.601044169969,40841.205020569992,46690.712886349975,{"$f":"SUM(G48:G51)","v":61655.360551030048},65454.803351559865,68521.424063664701,71449.983808598568,73619.169086299982,77125.837581615124,79887.976899510992,81016.774185643182,{"$f":"SUM(O48:O51)","v":83466.259053301241},85861.221233416043,{"$f":"SUM(Q48:Q51)","v":88405.575567851789}]
["Ativo",null,null,26788.565831749976,30673.516698439998,33993.957548609978,37302.108446110047,40101.014043559117,42216.054211824587,44003.340389171615,45149.030777630993,47010.887252947679,48308.203353146237,49622.588279965763,51025.490215965663,52371.062619662007,53847.05743099533]
["Inativos e Pensionistas",null,null,14480.357628889993,8849.9433287800002,10629.906222840002,20505.343475369998,23191.564139988932,24186.755529730952,25033.327870442881,25824.03605718058,27138.225854784185,28001.355401817298,28860.465681828755,29775.778630828831,30718.536034992881,31689.28674045729]
["Sentenças Judiciais - Pessoal",null,null,346.24718057000001,403.03864004999997,961.55679655999995,865.32678959999987,510.27688575999986,457.9435147800001,587.31276831999992,768.0812502600005,1046.3397630700001,1597.4159104000003,501.86557647000012,544.50920302999964,590.77678470000012,640.97631951999995]
["Outras Despesas com Pessoal",null,null,1155.4304029600005,914.70635329999982,1105.2923183400003,2982.5818399499994,1651.9482822518178,1660.6708073291697,1826.0027806640724,1878.0210012284031,1930.384710813255,1981.0022341474546,2031.8546473786712,2120.481003476737,2180.8457940611356,2228.2550768791598]
["Juros e Encargos da Dívida (XX)",null,null,6818.9844676999992,7056.8584360899995,2759.5451251700001,1595.9086516900002,1907.2793426700002,2791.3377084099998,3246.6968199299995,3685.9453641299988,4102.2238297899994,4476.7042544199994,4812.9484776999989,5108.9814107400034,5358.3228765199974,10471.400234610001]
["Outras Despesas Correntes (XXI)",null,{"$f":"SUM(C54:C56)","v":0},40832.198939009977,52134.229803950002,56960.911942889965,50152.019484790027,53518.418261123355,56984.89530760709,60299.630847123422,64111.696174223151,67835.921995808807,71828.651208640105,75729.290925034147,80087.384796621584,84676.709240551019,{"$f":"SUM(Q54:Q56)","v":89817.62644202981}]
["Transferências Constitucionais e Legais (g)",null,null,16237.488691380002,20303.507631410001,22268.129928239996,23759.670755010004,25282.302869874817,26952.223070236192,28373.47394267143,30404.063853823907,32257.59665630999,34233.743300551672,36334.350026798806,38574.818686643579,40961.368579573435,43502.600652063651]
["Sentenças Judiciais - Outras Correntes",null,null,49.390810120000005,114.24056122,353.35455477999994,507.02795120000008,274.06316919,271.65351367,297.93132264000008,332.44864588000002,382.44248247000002,475.43598509999987,310.24456617429991,324.02241290222901,338.44613436889597,353.74799822596282]
["Demais Despesas Correntes",null,null,24545.319437509974,31716.48161132,34339.42745986997,25885.320778580026,27962.052222058534,29761.018723700901,31628.225581811992,33375.183674519249,35195.882857028824,37119.471922988443,39084.696332061038,41188.543697075773,43376.894526608688,45961.277791740198]
["Despesas Primárias Correntes (XXII) = (XVIII-XX-h)",null,{"$f":"C46-C52","v":0},83602.799983179953,92975.434824519994,103651.62482923994,111807.38003582007,118973.22161268322,125506.31937127179,131749.61465572199,137730.86526052313,144961.75957742395,151716.62810815108,156746.06511067733,163553.64384992281,170537.93047396708,{"$f":"Q46-Q52","v":178223.20200988161}]
["Despesas de Capital (XXIII) = (XXIV+XXV+XXVI)",null,{"$f":"C59+C62+C66","v":0},6293.3369288300009,12202.322338289992,13564.479483060004,{"$f":"G59+G62+G66","v":11113.424402459996},{"$f":"H59+H62+H66","v":8858.8634393231605},11768.905925998049,13235.69624308868,14806.121968618045,15165.146353967612,17082.150618374526,{"$f":"N59+N62+N66","v":19411.872316547171},21883.770484819281,{"$f":"P59+P62+P66","v":24680.017001124164},{"$f":"Q59+Q62+Q66","v":21495.908160660285}]
["Investimentos (XXIV)",null,{"$f":"SUM(C60:C61)","v":0},1991.0215995500009,6402.4188148999929,9345.0957907600041,{"$f":"SUM(G60:G61)","v":7220.1632784299945},{"$f":"SUM(H60:H61)","v":6036.4413219231592},6781.4462203780486,6866.3027812486798,7005.1456306480459,7266.0597028590118,7679.7034649053694,{"$f":"SUM(N60:N61)","v":8167.2774324689353},8680.1597508768991,{"$f":"SUM(P60:P61)","v":9226.9191624514151},{"$f":"SUM(Q60:Q61)","v":9945.5693747919486}]
["Sentenças Judiciais - Investimentos",null,null,4.36472149,5.1943510000000005E-2,5.0094817899999997,0.72244967000000004,3.0791145000000002,2.9196212900000003,3.4377012199999997,4.1482414800000003,5.2228371899999999,7.3143830600000008,3.2764147399999999,3.4773885300000003,3.6931194500000002,3.9247920700000001]
["Demais Investimentos",null,null,1986.656878060001,6402.3668713899933,9340.0863089700033,7219.4408287599945,6033.3622074231589,6778.5265990880489,6862.8650800286796,7000.9973891680456,7260.8368656690118,7672.3890818453692,8164.001017728935,8676.682362346899,9223.2260430014157,9941.6445827219486]
["Inversões Financeiras (XXV)",null,{"$f":"SUM(C63:C65)","v":0},656.40168556999993,2447.5824040599996,1549.4363726200002,{"$f":"SUM(G63:G65)","v":1802.2389693500002},{"$f":"SUM(H63:H65)","v":1957.1318899100002},2546.3853787999997,2445.1255715700008,2300.8125486899999,733.72553039859986,858.73729627915782,{"$f":"SUM(N63:N65)","v":884.49941518823221},911.03439761237917,{"$f":"SUM(P63:P65)","v":1077.243792022751},{"$f":"SUM(Q63:Q65)","v":702.9204476383336}]
["Inversões Financeiras Não Primárias (h) 1)",null,null,2.8018994700000004,2.5091073399999999,4.9831865400000002,9.6793543399999997,28.948999999999998,29.963965000000002,31.009754000000001,31.94004662,32.8982480186,33.885195459157998,34.901751322932739,35.948803862620721,37.027267978499346,38.138086017854327]
["Sentenças Judiciais - Inversões",null,null,0,24,0,0,0,0,0,0,0,0,0,0,0,0]
["Demais Inversões Financeiras Primárias",null,null,653.59978609999996,2421.0732967199997,1544.4531860800003,1792.5596150100002,1928.1828899100001,2516.4214137999998,2414.1158175700007,2268.8725020699999,700.82728237999982,824.85210081999981,849.59766386529952,875.08559374975846,1040.2165240442516,664.78236162047926]
["Amortização da Dívida (XXVI)",null,null,3645.9136437100001,3352.3211193299999,2669.94731968,2091.0221546799999,865.29022749000012,2441.0743268200013,3924.2678902699995,5500.1637892799999,7165.3611207099993,8543.7098571899987,10360.095468890004,12292.576336330001,14375.85404665,10847.418338230003]
["Despesas Primárias de Capital (XXVII) = (XXIII-h-XXVI)",null,{"$f":"C58-C63-C66","v":0},2644.6213856500012,8847.492111619993,10889.548976840004,{"$f":"G58-G63-G66","v":9012.7228934399955},{"$f":"H58-H63-H66","v":7964.6242118331602},9297.8676341780483,9280.41859881868,9274.0181327180435,7966.8869852390117,8504.5555657253681,{"$f":"N58-N63-N66","v":9016.8750963342336},9555.2453446266572,{"$f":"P58-P63-P66","v":10267.135686495667},{"$f":"Q58-Q63-Q66","v":10610.351736412427}]
["DESPESA PRIMÁRIA ORÇAMENTÁRIA (XXVIII) = (XXII+XXVII)",null,{"$f":"C57+C67","v":0},86247.42136882995,101822.92693613999,114541.17380607994,{"$f":"G57+G67","v":120820.10292926006},{"$f":"H57+H67","v":126937.84582451638},134804.18700544984,141030.03325454067,147004.88339324118,152928.64656266297,160221.18367387645,{"$f":"N57+N67","v":165762.94020701156},173108.88919454947,{"$f":"P57+P67","v":180805.06616046274},{"$f":"Q57+Q67","v":188833.55374629406}]
["Receitas Correntes Intraorçamentárias (exceto fonte RPPS) (XXIX)",null,null,5253.0247165000001,3196.8960678600001,3639.0216681099996,3914.2392489700001,3902.4061734300003,4033.4763631712244,4162.3482474235461,4281.6413605545522,4460.1557893377867,4587.507301302121,4718.3291176135854,4852.7197969729941,4990.7807107036833,5132.6161239196927]
["RECEITA CORRENTE LÍQUIDA (XXX) = (II-a-d-g-XXIX)",null,{"$f":"C8-C16-C29-C54-C69","v":0},68881.643076120003,82442.894520469999,91428.239183310026,92113.467957050016,{"$f":"H8-H16-H29-H54-H69","v":98797.680056535668},104460.40872335243,109836.48880252634,115605.92327107783,121725.23322392005,128173.02906476455,134997.30515432745,142198.68493327251,149852.20078395822,{"$f":"Q8-Q16-Q29-Q54-Q69","v":158050.0948945471}]
["RESTOS A PAGAR"]
["Inscrições de Restos a Pagar (XXXI) = (i+l)",null,{"$f":"SUM(C73,C76)","v":39931.177718509978},20516.173934170009,22786.160540929988,10287.252300600005,{"$f":"SUM(G73,G76)","v":10888.836950670007},10147.529016239556,13981.48509180275,15779.045785698105,16815.151543124524,17637.957467033244,18804.948583765512,18157.328527051024,{"$f":"SUM(O73,O76)","v":18909.978265757625},19564.407860402418,{"$f":"SUM(Q73,Q76)","v":19160.273840621965}]
["Inscrição de RAP Processados (i)",null,{"$f":"SUM(C74:C75)","v":31851.749572059998},16237.199755590002,15774.949030059997,4837.2300887700003,{"$f":"SUM(G74:G75)","v":5290.9366497299998},6283.5820499186484,7720.0137577852729,8455.9187214434442,8899.3356398730302,9338.3302070106874,9848.1049427142643,9739.4132499403859,{"$f":"SUM(O74:O75)","v":10031.566344822479},10354.993528903728,{"$f":"SUM(Q74:Q75)","v":10431.791748766016}]
["Inscrição de RAP Processados Primários (j)",null,19323.50731872,5714.8179657500013,3958.1331027999995,3388.7421644199999,4284.2959560599993,6189.0096179060283,7602.4719984831927,8314.2820559105494,8735.4448550392608,9150.4209510729488,9643.9794588595614,9519.684770599988,9794.7890659263558,10099.442640046118,10173.964282458815]
["Inscrição de RAP Processados Não Primários (k)",null,12528.24225334,10522.381789839999,11816.815927259999,1448.4879243500002,1006.64069367,94.572432012620212,117.54175930208015,141.63666553289463,163.8907848337698,187.90925593773841,204.12548385470296,219.72847934039783,236.77727889612294,255.55088885760975,257.82746630720141]
["Inscrição de RAP Não Processados (l)",null,{"$f":"SUM(C77:C78)","v":8079.42814644998},4278.9741785800052,7011.2115108699891,5450.0222118300053,{"$f":"SUM(G77:G78)","v":5597.9003009400067},3863.9469663209079,6261.4713340174767,7323.1270642546606,7915.8159032514941,8299.6272600225548,8956.8436410512477,8417.9152771106383,{"$f":"SUM(O77:O78)","v":8878.4119209351466},9209.4143314986904,{"$f":"SUM(Q77:Q78)","v":8728.4820918559508}]
["Inscrição de RAP Não Processados Primários (m)",null,6965.07681760998,1929.7985276100055,7011.0909921999892,5201.3636295600054,5595.8815009400068,3781.4027352520684,6120.9773679590644,7137.4659389918406,7691.6322198268317,8027.9797375503103,8652.7965874893325,8114.6781000154415,8551.8818422664353,8857.9260620570294,8397.2859668053025]
["Inscrição de RAP Não Processados Não Primários (n)",null,1114.35132884,2349.1756509699999,0.12051866999999999,248.65858227000001,2.0188000000000001,82.544231068839437,140.49396605841255,185.66112526282024,224.18368342466212,271.64752247224379,304.04705356191442,303.23717709519769,326.53007866871167,351.48826944166183,331.19612505064771]
["Cancelamentos  de Restos a Pagar (XXXII) = (o+p)",null,{"$f":"SUM(C80:C81)","v":0},1556.2992307899995,2308.7011046499961,36728.558048839994,{"$f":"SUM(G80:G81)","v":4342.7763288400147},1449.1956269137779,1350.5349323289984,1860.7962580939225,2100.0336632002518,2237.9290086337123,2347.4362730119396,2502.7511547276927,{"$f":"SUM(O80:O81)","v":2416.5593825170508},2516.7295581631215,{"$f":"SUM(Q80:Q81)","v":2603.8276119755201}]
["Cancelamento de RAP Processados (o)",null,null,880.30173043000002,981.46957675999988,34526.691443389995,615.50279369000032,704.17091281679586,836.28211803977263,1027.4568558773592,1125.3984689246513,1184.4128395134405,1242.8386392399825,1310.6845736625089,1296.2187931054721,1335.1014570125969,1378.1463903621373]
["Cancelamento de RAP Não Processados (p)",null,null,675.99750035999955,1327.2315278899962,2201.8666054499977,3727.2735351500141,745.02471409698205,514.25281428922585,833.33940221656326,974.6351942756005,1053.516169120272,1104.5976337719571,1192.0665810651835,1120.3405894115785,1181.6281011505243,1225.6812216133826]
["Liquidação de Restos a Pagar Não Processados (XXXIII)",null,null,3409.7428166500044,3230.496979860005,3323.3070866300036,3612.1795307399948,5662.9427519567171,5166.2674006896395,6082.1383612191112,6656.9874459347302,7094.8914141291179,7455.0844719860588,7947.0573515235683,7639.1884732743238,8213.2742803975689,7835.9056192286089]
["Pagamento de Restos a Pagar Primário (XXXIV)",null,null,10806.699965799995,7634.5118821500018,8063.8303889500048,7260.4486863399943,12701.444256134839,12952.02334939675,13560.416138788469,14171.815239324776,14839.534482965279,15572.203013745502,16367.843218378941,16235.339321708556,17128.426207925077,16319.684433562381]
["Pagamento de Restos a Pagar Não Primário (XXXV)",null,null,986.14274445000012,1071.8480373099997,1506.1451765799998,1846.6427728000003,199.55991522055137,110.36527514558905,153.77298769092928,191.22230038752073,225.79981181118171,270.97727950120412,297.87837260743271,297.72090519110844,325.53621874262319,319.51477227092158]
["ESTOQUE DE RESTOS A PAGAR (XXXVI) = (XXXVII+XXXVIII)",null,{"$f":"SUM(C86:C87)","v":39931.177718509978},47098.209711639982,58869.309228459977,{"$f":"SUM(F86:F87)","v":22858.027914689981},{"$f":"SUM(G86:G87)","v":20296.99707737998},16094.326295350365,15662.887830281777,15866.948231406564,16219.028571618541,16553.722735241608,17168.05475274847,16156.910534085431,{"$f":"SUM(O86:O87)","v":16117.269190426343},15710.985065997938,{"$f":"SUM(Q86:Q87)","v":15628.232088811084}]
["Estoque de RAP Processados (XXXVII) = XXXVII(t-1) + (i-o+XXXIII-XXXIV-XXXV)",null,{"$f":"B86+C73-C80+C82-C83-C84","v":31851.749572059998},{"$f":"C86+D73-D80+D82-D83-D84","v":38825.547703620003},{"$f":"D86+E73-E80+E82-E83-E84","v":48143.164217320009},{"$f":"E86+F73-F80+F82-F83-F84","v":12207.03438380001},{"$f":"F86+G73-G80+G82-G83-G84","v":11387.556311440012},{"$f":"G86+H73-H80+H82-H83-H84","v":9728.9060291431888},{"$f":"H86+I73-I80+I82-I83-I84","v":8716.5164450359916},{"$f":"I86+J73-J80+J82-J83-J84","v":8512.9275453417922},{"$f":"J86+K73-K80+K82-K83-K84","v":8580.8146225126056},{"$f":"K86+L73-L80+L82-L83-L84","v":8764.2891093625094},{"$f":"L86+M73-M80+M82-M83-M84","v":8981.4595915761383},{"$f":"M86+N73-N80+N82-N83-N84","v":8691.5240283912135},8532.999826482881,8312.2037521038783,8562.5555239030655]
["Estoque de RAP Não Processados (XXXVIII) = XXXVIII(t-1) + (l-p-XXXIII)",null,{"$f":"B87+C76-C81-C82","v":8079.42814644998},{"$f":"C87+D76-D81-D82","v":8272.6620080199809},{"$f":"D87+E76-E81-E82","v":10726.145011139968},{"$f":"E87+F76-F81-F82","v":10650.993530889971},{"$f":"F87+G76-G81-G82","v":8909.4407659399676},{"$f":"G87+H76-H81-H82","v":6365.4202662071757},{"$f":"H87+I76-I81-I82","v":6946.3713852457859},{"$f":"I87+J76-J81-J82","v":7354.0206860647722},{"$f":"J87+K76-K81-K82","v":7638.2139491059352},{"$f":"K87+L76-L81-L82","v":7789.4336258791},{"$f":"L87+M76-M81-M82","v":8186.5951611723331},{"$f":"M87+N76-N81-N82","v":7465.3865056942177},7584.2693639434619,7398.7813138940601,7065.6765649080198]
["ESTOQUE DE RESTOS A PAGAR / RECEITA CORRENTE LÍQUIDA (XXXVI/XXX)",null,{"$f":"IFERROR(C85/C$70,0)","v":0},0.68375560756575604,0.71406164922852311,{"$f":"IFERROR(F85/F$70,0)","v":0.25001058883853744},{"$f":"IFERROR(G85/G$70,0)","v":0.22034776811186735},0.1629018645593763,0.14994090126300924,0.1444597182993855,0.14029582665576271,0.13599253249973367,0.13394436316296796,0.1196832078656313,{"$f":"IFERROR(O85/O$70,0)","v":0.11334330692291182},0.10484320539708623,{"$f":"IFERROR(Q85/Q$70,0)","v":9.8881510316323612E-2}]
["RAP Processados / RCL (XXXVII/XXX)",null,{"$f":"IFERROR(C86/C$70,0)","v":0},0.56365594619620951,0.58395771397092799,{"$f":"IFERROR(F86/F$70,0)","v":0.13351492375703949},{"$f":"IFERROR(G86/G$70,0)","v":0.12362531304053949},9.847302106259935E-2,8.3443254258370417E-2,7.7505459598650128E-2,7.4224696968095097E-2,7.2000594102293758E-2,7.0072929204457651E-2,6.4382944670304032E-2,{"$f":"IFERROR(O86/O$70,0)","v":6.0007586079203451E-2},5.5469347187550318E-2,{"$f":"IFERROR(Q86/Q$70,0)","v":5.4176212482606255E-2}]
["RAP Não Processados / RCL (XXXVIII/XXX)",null,0,0.12009966136954651,0.13010393525759506,{"$f":"IFERROR(F87/F$70,0)","v":0.11649566508149793},{"$f":"IFERROR(G87/G$70,0)","v":9.6722455071327845E-2},6.4428843496776925E-2,6.6497647004638838E-2,6.6954258700735375E-2,6.6071129687667624E-2,6.3991938397439926E-2,6.3871433958510332E-2,5.5300263195327264E-2,{"$f":"IFERROR(O87/O$70,0)","v":5.333572084370837E-2},4.9373858209535916E-2,{"$f":"IFERROR(Q87/Q$70,0)","v":4.4705297833717357E-2}]
["DESPESA PRIMÁRIA (XXXIX) = (XXVIII-j-m+XXXIV)",null,{"$f":"C68-C74-C77+C83","v":-26288.584136329981},89409.50484126994,98488.214723290017,{"$f":"F68-F74-F77+F83","v":114014.89840104996},{"$f":"G68-G74-G77+G83","v":118200.37415860004},129668.87772749312,134032.76098840433,139138.70139842675,144749.62155769987,150589.78035700499,157496.61064127306,164496.42055477505,{"$f":"O68-O74-O77+O83","v":170997.55760806522},178976.12366628466,{"$f":"Q68-Q74-Q77+Q83","v":186581.98793059232}]
["Demais Despesas Primárias (XL) 2)"]
["DESPESA PRIMÁRIA TOTAL (XLI) = (XXXIX+XL)",null,{"$f":"C91+C92","v":-26288.584136329981},89409.50484126994,98488.214723290017,{"$f":"F91+F92","v":114014.89840104996},{"$f":"G91+G92","v":118200.37415860004},{"$f":"H91+H92","v":129668.87772749312},134032.76098840433,139138.70139842675,144749.62155769987,150589.78035700499,157496.61064127306,164496.42055477505,{"$f":"O91+O92","v":170997.55760806522},178976.12366628466,{"$f":"Q91+Q92","v":186581.98793059232}]
["RESULTADO PRIMÁRIO"]
["RESULTADO PRIMÁRIO (XLII) = (XVI-XLI)",null,{"$f":"C44-C93","v":26288.584136329981},3860.3186514000845,12183.651561869978,4779.435653490058,3154.4140273599769,-110.776032869966,2470.3252878763888,4501.1320730166335,6465.306134643004,8611.7336228769564,10472.569465318695,12748.137669015588,16047.287887003855,18363.375541687739,{"$f":"Q44-Q93","v":21778.30059840469}]
["Juros e Encargos da Dívida (XX)",null,{"$f":"C52","v":0},6818.9844676999992,7056.8584360899995,2759.5451251700001,1595.9086516900002,1907.2793426700002,2791.3377084099998,3246.6968199299995,3685.9453641299988,4102.2238297899994,4476.7042544199994,4812.9484776999989,5108.9814107400034,5358.3228765199974,{"$f":"Q52","v":10471.400234610001}]
["Amortização da Dívida (XXVI)",null,{"$f":"C66","v":0},3645.9136437100001,3352.3211193299999,2669.94731968,2091.0221546799999,865.29022749000012,2441.0743268200013,3924.2678902699995,5500.1637892799999,7165.3611207099993,8543.7098571899987,10360.095468890004,{"$f":"O66","v":12292.576336330001},14375.85404665,{"$f":"Q66","v":10847.418338230003}]
["Inversões Financeiras Não Primárias (h) 1)",null,{"$f":"C63","v":0},2.8018994700000004,2.5091073399999999,4.9831865400000002,9.6793543399999997,28.948999999999998,29.963965000000002,31.009754000000001,31.94004662,32.8982480186,33.885195459157998,34.901751322932739,35.948803862620721,37.027267978499346,{"$f":"Q63","v":38.138086017854327}]
["Receita de Aplicações Financeiras (b)",null,{"$f":"C19","v":0},223.08227150000002,783.59194783999942,3234.3781914800011,3365.391154829998,2817.0845384033664,2549.6698705076378,2430.5567188642758,2456.9785006812463,2353.826579834295,2241.011632307398,2128.7362666233162,2016.0801583045868,2015.0984626237744,{"$f":"Q19","v":1995.1354818598613}]
["Outras Receitas Financeiras (c)",null,{"$f":"C28","v":0},4.6466806500000004,22.890753570000001,66.511425979999999,5.697469260000001,5.7540500000000003,5.9266114999999999,6.1043498449999998,6.2874203403499997,6.4759829505605007,6.6702024390773156,6.8702485122496357,7.0762959676171242,7.2885248466456387,{"$f":"Q28","v":7.5071205920450073}]
["Outras Receitas de Capital Não Primárias (f)",null,{"$f":"C41","v":0},0,0,0,0,0,0,0,0,0,0,0,0,0,{"$f":"Q41","v":0}]
["Amortização de Empréstimos (XI)",null,{"$f":"C35","v":0},75.912059689999992,146.45234957,260.52298671,88.079639210000011,86.780991095999994,88.552030129999991,90.417816869964,92.379112920323735,94.436806774981193,96.591912421926011,98.845568166094395,101.19903566401229,103.653699164221,{"$f":"Q35","v":106.21106494792151}]
["Despesa Financeira Líquida (XLIII) = (XX+XXVI+h-k-n+XXXV-b-c-f-XI)",null,{"$f":"C96+C97+C98-C75-C78+C84-C99-C100-C101-C102","v":-13642.593582180001},-1721.3556973200007,-1286.3347968399987,1682.06169718,1075.4251765400024,-85.657757200274332,2470.5570378774605,4501.3707755159739,6465.5519982171672,8611.9868623599614,10472.830301985341,12748.406330783109,15047.564608622684,17363.660564957205,{"$f":"Q96+Q97+Q98-Q75-Q78+Q84-Q99-Q100-Q101-Q102","v":18978.594172371104}]
["NECESSIDADE DE FINANCIAMENTO (XLIV) = (XLIII-XLII)",null,{"$f":"C103-C95","v":-39931.177718509978},-5581.6743487200856,-13469.986358709977,-3097.373956310058,-2078.9888508199747,25.11827566969167,0.23175000107175947,0.23870249934043386,0.24586357416319515,0.25323948300501797,0.2608366666463553,0.26866176752082538,-999.72327838117053,-999.71497673053454,{"$f":"Q103-Q95","v":-2799.7064260335865}]
["Operações de Crédito (X)",null,{"$f":"C34","v":0},{"$f":"D34","v":4.71734338},0.9147786,9.296383800000001,10.743106289999998,24.893275670000016,0,0,0,0,0,0,0,0,{"$f":"Q34","v":0}]
["Alienação de Bens Não Primária (e)",null,{"$f":"C37","v":0},26.8055527,32.016428490000003,0.86622772999999997,0.22500000000000001,0.22500000000000001,0.23175000000000001,0.23870250000000001,0.245863575,0.25323948225000004,0.26083666671750005,0.26866176671902503,0.27672161972059578,0.28502326831221364,{"$f":"Q37","v":0.29357396636158006}]
["Fontes de Financiamento (XLV) = (X+e)",null,{"$f":"C105+C106","v":0},31.522896079999999,32.931207090000001,{"$f":"F105+F106","v":10.162611530000001},{"$f":"G105+G106","v":10.968106289999998},25.118275670000017,0.23175000000000001,0.23870250000000001,0.245863575,0.25323948225000004,0.26083666671750005,0.26866176671902503,{"$f":"O105+O106","v":0.27672161972059578},0.28502326831221364,{"$f":"Q105+Q106","v":0.29357396636158006}]
["Outros Fluxos de Caixa (XLVI)"]
["FLUXO DE CAIXA (XLVII) = (XLV-XLIV+XLVI)",null,{"$f":"C107-C104+C108","v":39931.177718509978},5613.1972448000852,13502.917565799977,{"$f":"F107-F104+F108","v":3107.5365678400581},{"$f":"G107-G104+G108","v":2089.9569571099746},{"$f":"H107-H104+H108","v":3.0834712561045308E-10},-1.0717594589593205E-9,6.5956615169504573E-10,8.3680484763704044E-10,-7.5501793705967657E-10,7.1144756752516969E-11,-8.0180034833787772E-10,{"$f":"O107-O104+O108","v":1000.0000000008911},999.99999999884676,{"$f":"Q107-Q104+Q108","v":2799.9999999999482}]
["1) Corresponde ao somatório de Concessão de Empréstimos e Financiamentos, Aquisição de Título de Capital já Integralizado e Aquisição de Título de Crédito."]
["2) As Demais Despesas Primárias são despesas que compõem o resultado primário por caixa, mas não transitam pelo orçamento."]

{"sheet":"II-a) Medidas a implementar","index":2,"n_rows":12,"n_cols":14,"rows_kept":12,"cut":false,"hidden":false,"merged":[[3,3,3,13]]}
["PLANO DE RECUPERAÇÃO FISCAL"]
["Anexo II-a) - Medidas de Ajuste Fiscal a implementar no Regime"]
[]
[null,null,null,"Impacto Esperado"]
["Referência","Descrição","Fluxo Afetado",2023,2024,2025,2026,2027,2028,2029,2030,2031,2032,2033]
[1,"Alienação da Folha de Pagamentos","Outras Receitas Patrimoniais",null,null,null,2490,null,null,null,null,2890]
[2,"CODEMIG","Alienação de Bens Não Primária (e)",null,null,null,null,59000]
[3,"Auditoria da Folha de Benefícios de Pensão","Inativos e Pensionistas",null,-1.7494357700000001,-3.5153162400000002,-5.2977959800000001,-7.0970310300000001,-8.9131788900000011,-10.746398540000001,-12.596850460000001,-14.464696620000002,-16.35010054,-18.253227260000003]
[4,"PROFISCO","Operações de Crédito (X)",null,null,null,1128.9062999999999]
[5,"PROGESTÃO","Operações de Crédito (X)",null,null,null,181.72637999999998,115.87863000000002,111.03605999999999,83.277044999999987,61.069832999999996]
[6,"Ações de incremento da Receita Tributária","ICMS",null,204.64400000000001,1038.7360000000001,1098.7079999999999,2303.251088,2400.2037719999998,2804.6408941999998,3211.6172351279997,3621.2237661331201,4045.6467792184449,4519.8139963822659]
[7,"Ações de incremento da Receita Tributária","ITCD",null,null,155,161.20000000000002,167.64800000000002,174.35392000000007,181.32807680000005,188.58119987200007,196.12444786688008,203.96942578155529,212.12820281281751]

{"sheet":"II-b) Vinculos","index":3,"n_rows":5,"n_cols":6,"rows_kept":5,"cut":false,"hidden":false,"merged":[]}
["PLANO DE RECUPERAÇÃO FISCAL"]
["Anexo II-b) Vinculações para Reflexos das Medidas de Ajuste Fiscal a implementar"]
["* quando concluir o preenchimento das abas \"II - Medidas a implementar\" e \"II-a) Vinculações\", executar a macro para gerar os Reflexos:"]
[]
["Sequencial","Medida (nº Referência) ou Fluxo afetado pela medida","Reflexo","Fluxo afetado - reflexo","Proporção","Base legal"]

{"sheet":"II-c) Reflexos","index":4,"n_rows":28,"n_cols":16,"rows_kept":28,"cut":false,"hidden":false,"merged":[]}
["PLANO DE RECUPERAÇÃO FISCAL"]
["Anexo II-c) - Reflexos das Medidas de Ajuste Fiscal a implementar"]
[]
[null,null,null,null,null,"Impacto Esperado"]
["Referência - original","Fluxo afetado pela medida","Reflexo","Fluxo afetado - reflexo","Proporção",2023,2024,2025,2026,2027,2028,2029,2030,2031,2032,2033]
[2,"Alienação de Bens Não Primária (e)","Queda das receitas de dividendos (Reflexo CODEMIG)","Outras Receitas Patrimoniais",null,null,null,null,null,-2020.7308502000001,-2126.3178886599999,-2220.5129274699998,-2325.2346777799999,-2423.0910798899999,-2578.3347343199998,-2733.8627849099998]
[2,"Alienação de Bens Não Primária (e)","Despesas com juros (Reflexo CODEMIG)","Juros e Encargos da Dívida (XX)",null,null,null,null,null,-43.375778839999676,-155.14561466000032,-257.8414752399998,-347.7109421800003,-421.58933220000074,-476.00556405999947,-3215.9223302047349]
[2,"Alienação de Bens Não Primária (e)","Despesas com amortizações (Reflexo CODEMIG)","Amortização da Dívida (XXVI)",null,null,null,null,null,57540.727403023004,-2113.4873996248084,-2836.4609296839503,-3633.1717560803759,-4507.6487293532582,-5463.3763585317538,-3753.6805646081066]
[5,"Operações de Crédito (X)","Despesa com contrapartida (Reflexo PROGESTÃO)","Demais Investimentos",null,null,null,null,18.172637999999999,11.587863000000002,11.103605999999999,8.3277044999999994,6.1069832999999996]
[5,"Operações de Crédito (X)","Despesas com juros (Reflexo PROGESTÃO)","Juros e Encargos da Dívida (XX)",null,null,null,null,7.3613281740053758,19.909470124686703,27.358096847134181,32.335167284114725,34.397730708195063,32.214032698195723,30.111101600894997,27.846636678197047]
[5,"Operações de Crédito (X)","Despesas com amortizações (Reflexo PROGESTÃO)","Amortização da Dívida (XXVI)",null,null,null,null,null,null,null,29.065337050226127,32.882203643198238,32.882203643198238,32.882203643198238,32.882203643198245]
[5,"Operações de Crédito (X)","Despesas com aplicação de recursos das operações de crédito (Reflexo PROGESTÃO)","Demais Investimentos",null,null,null,null,181.72637999999998,115.87863000000002,111.03605999999999,83.277044999999987,61.069832999999996]
[4,"Operações de Crédito (X)","Despesas com juros (Reflexo PROFISCO)","Juros e Encargos da Dívida (XX)",null,null,null,null,39.772364401673961,75.120676717276368,75.326486790474391,74.23373330658967,70.656558224814574,67.079383143039507,63.673716455596136,59.925032979489373]
[4,"Operações de Crédito (X)","Despesas com amortizações (Reflexo PROFISCO)","Amortização da Dívida (XXVI)",null,null,null,null,null,null,null,54.196200973803123,54.196200973803123,54.196200973803116,54.196200973803109,54.196200973803101]
[4,"Operações de Crédito (X)","Despesas com aplicação de recursos das operações de crédito (Reflexo PROFISCO)","Demais Investimentos",null,null,null,null,564.45314999999994,564.45314999999994]
[6,"ICMS","Deduções do Fundeb (Reflexo ICMS)","Deduções para formação do Fundeb (IIa)",null,null,30.696600000000004,155.81040000000004,164.80619999999999,345.48766320000004,360.03056579999998,420.69613413000002,481.74258526919994,543.18356491996803,606.84701688276675,677.97209945733994]
[6,"ICMS","Receitas Retorno Fundeb (Reflexo ICMS)","Transferências do FUNDEB",null,null,18.81361980313568,95.494537732989713,101.00796791825607,211.74571588119176,220.65890627851368,257.84018816972537,295.25490908551433,332.91143233179395,371.93008523091913,415.52189220708755]
[6,"ICMS","Despesas com Transferências aos Municípios (Reflexo ICMS)","Transferências Constitucionais e Legais (g)",null,null,51.161000000000001,259.68400000000003,274.67699999999996,575.812772,600.05094299999996,701.16022354999996,802.90430878199993,905.30594153328002,1011.4116948046112,1129.9534990955665]
[6,"ICMS","Despesas Vinculadas obrigatórias - Fomento e Amparo à Pesquisa (Reflexo ICMS)","Demais Despesas Correntes",null,null,0.85950479999999996,6.2324160000000006,6.5922479999999997,13.819506528,14.401222632,16.827845365199998,19.269703410767999,21.727342596798721,24.273880675310672,27.118883978293599]
[6,"ICMS","Despesas Vinculadas obrigatórias - Emendas Impositivas Estaduais - Parte que não é ASPS (Reflexo ICMS)","Demais Investimentos",null,null,1.6395158292906067,8.3218863707414226,8.8023551033415277,18.452613404775178,19.229354770806971,22.469523374819982,25.730035059004358,29.011618644957078,32.411905231754659,36.21072004318701]
[6,"ICMS","Despesas Vinculadas obrigatórias - Despesa Adicional com o PASEP (Reflexo ICMS)","Demais Despesas Correntes",null,null,1.2278640000000001,6.2324160000000006,6.5922479999999997,13.819506528,14.401222632,16.827845365199998,19.269703410767999,21.727342596798721,24.273880675310672,27.118883978293599]
[6,"ICMS","Despesas Vinculadas obrigatórias - ASPS e MDE (Reflexo ICMS)","Demais Despesas Correntes",null,null,44.905729803135678,227.9333777329897,241.09323791825605,505.4102296011917,526.6848872085136,615.43190218022528,704.73610656433425,794.61746251376667,887.75004958127079,991.79817674582659]
[7,"ITCD","Deduções do Fundeb (Reflexo ITCD)","Deduções para formação do Fundeb (IIa)",null,null,null,31,32.24,33.529600000000009,34.870784000000015,36.265615360000012,37.716239974400018,39.224889573376018,40.793885156311063,42.425640562563501]
[7,"ITCD","Receitas Retorno Fundeb (Reflexo ITCD)","Transferências do FUNDEB",null,null,null,14.249677828258001,14.819664941388323,15.412451539043856,16.028949600605614,16.670107584629836,17.336911888015035,18.030388363535632,18.751603898077061,19.501668054000145]
[7,"ITCD","Despesas Vinculadas obrigatórias - Fomento e Amparo à Pesquisa (Reflexo ITCD)","Demais Despesas Correntes",null,null,null,1.24,1.2896000000000001,1.3411840000000002,1.3948313600000006,1.4506246144000006,1.5086495989760005,1.5689955829350408,1.6317554062524422,1.6970256225025402]
[7,"ITCD","Despesas Vinculadas obrigatórias - Emendas Impositivas Estaduais - Parte que não é ASPS (Reflexo ITCD)","Demais Investimentos",null,null,null,1.6007238947344853,1.6647528505238647,1.7313429645448193,1.8005966831266129,1.8726205504516773,1.9475253724697443,2.0254263873685341,2.1064434428632755,2.1907011805778067]
[7,"ITCD","Despesas Vinculadas obrigatórias - Despesa Adicional com o PASEP (Reflexo ITCD)","Demais Despesas Correntes",null,null,null,1.24,1.2896000000000001,1.3411840000000002,1.3948313600000006,1.4506246144000006,1.5086495989760005,1.5689955829350408,1.6317554062524422,1.6970256225025402]
[7,"ITCD","Despesas Vinculadas obrigatórias - ASPS e MDE (Reflexo ITCD)","Demais Despesas Correntes",null,null,null,40.599677828258002,42.223664941388328,43.912611539043858,45.669116000605626,47.495880640629835,49.395715866255031,51.371544500905244,53.42640628094145,55.56346253217913]

{"sheet":"III-Cenário Ajustado","index":5,"n_rows":111,"n_cols":12,"rows_kept":111,"cut":false,"hidden":false,"merged":[]}
["PLANO DE RECUPERAÇÃO FISCAL"]
["Anexo III - Demonstrativo de Resultados Fiscais"]
["Cenário com medidas de ajuste - Dados anuais em R$ milhões",null,null,null,2,3,4,5,6,7,8]
["Receitas arrecadadas, brutas do repasse para o Fundeb\nDespesas empenhadas e transferências a Municípios"]
[null,2023,2024,2025,2026,2027,2028,2029,2030,2031,2032,2033]
["ACIMA DA LINHA - RECEITAS E DESPESAS"]
["Receita Total (I) = (II+IX)",{"$f":"B8+B33","v":124824.92455555002},132685.60056959564,140264.13635397964,151146.47317238231,213185.00636187999,162057.56895834315,170979.99632522123,180408.44555480892,193222.26820693701,200880.14717564525,{"$f":"L8+L33","v":212182.14100488942}]
["Receitas Correntes (II) = (III+IV+V+VI+VII-IIa)",{"$f":"B9+B15+B18+B21+B27-B31","v":121471.37122331002},129837.98145673465,138282.36890575732,147819.61671061706,152429.94238499514,160683.25774421426,169595.6925947007,179007.4011150997,191842.11340434616,199458.54276114277,{"$f":"L9+L15+L18+L21+L27-L31","v":210717.77912584753}]
["Receitas Tributárias (III)",{"$f":"SUM(B10:B14)","v":96820.673522800003},{"$f":"SUM(C10:C14)","v":103879.87399174998},110833.78470870844,117291.00603178673,125332.41762616193,132681.95300639109,140662.92025769386,149109.89020814703,158081.90165579173,{"$f":"SUM(K10:K14)","v":167613.17124432063},{"$f":"SUM(L10:L14)","v":177769.98367803585}]
["ICMS",{"$f":"'I-Cenário Base'!G10+SUMIF('II-a) Medidas a implementar'!$C:$C,$A10,'II-a) Medidas a implementar'!D:D)+SUMIF('II-c) Reflexos'!$D:$D,$A10,'II-c) Reflexos'!F:F)","v":72002.91443106001},{"$f":"'I-Cenário Base'!H10+SUMIF('II-a) Medidas a implementar'!$C:$C,$A10,'II-a) Medidas a implementar'!E:E)+SUMIF('II-c) Reflexos'!$D:$D,$A10,'II-c) Reflexos'!G:G)","v":78221.256969527007},{"$f":"'I-Cenário Base'!I10+SUMIF('II-a) Medidas a implementar'!$C:$C,$A10,'II-a) Medidas a implementar'!F:F)+SUMIF('II-c) Reflexos'!$D:$D,$A10,'II-c) Reflexos'!H:H)","v":84549.772460759923},{"$f":"'I-Cenário Base'!J10+SUMIF('II-a) Medidas a implementar'!$C:$C,$A10,'II-a) Medidas a implementar'!G:G)+SUMIF('II-c) Reflexos'!$D:$D,$A10,'II-c) Reflexos'!I:I)","v":89614.368633508682},{"$f":"'I-Cenário Base'!K10+SUMIF('II-a) Medidas a implementar'!$C:$C,$A10,'II-a) Medidas a implementar'!H:H)+SUMIF('II-c) Reflexos'!$D:$D,$A10,'II-c) Reflexos'!J:J)","v":96261.808227498812},{"$f":"'I-Cenário Base'!L10+SUMIF('II-a) Medidas a implementar'!$C:$C,$A10,'II-a) Medidas a implementar'!I:I)+SUMIF('II-c) Reflexos'!$D:$D,$A10,'II-c) Reflexos'!K:K)","v":102000.20624586531},{"$f":"'I-Cenário Base'!M10+SUMIF('II-a) Medidas a implementar'!$C:$C,$A10,'II-a) Medidas a implementar'!J:J)+SUMIF('II-c) Reflexos'!$D:$D,$A10,'II-c) Reflexos'!L:L)","v":108422.04550169136},{"$f":"'I-Cenário Base'!N10+SUMIF('II-a) Medidas a implementar'!$C:$C,$A10,'II-a) Medidas a implementar'!K:K)+SUMIF('II-c) Reflexos'!$D:$D,$A10,'II-c) Reflexos'!M:M)","v":115222.33851487549},{"$f":"'I-Cenário Base'!O10+SUMIF('II-a) Medidas a implementar'!$C:$C,$A10,'II-a) Medidas a implementar'!L:L)+SUMIF('II-c) Reflexos'!$D:$D,$A10,'II-c) Reflexos'!N:N)","v":122454.87342082217},{"$f":"'I-Cenário Base'!P10+SUMIF('II-a) Medidas a implementar'!$C:$C,$A10,'II-a) Medidas a implementar'!M:M)+SUMIF('II-c) Reflexos'!$D:$D,$A10,'II-c) Reflexos'!O:O)","v":130148.28898087422},{"$f":"'I-Cenário Base'!Q10+SUMIF('II-a) Medidas a implementar'!$C:$C,$A10,'II-a) Medidas a implementar'!N:N)+SUMIF('II-c) Reflexos'!$D:$D,$A10,'II-c) Reflexos'!P:P)","v":138362.9439701591}]
["IPVA",{"$f":"'I-Cenário Base'!G11+SUMIF('II-a) Medidas a implementar'!$C:$C,$A11,'II-a) Medidas a implementar'!D:D)+SUMIF('II-c) Reflexos'!$D:$D,$A11,'II-c) Reflexos'!F:F)","v":11120.966370189999},{"$f":"'I-Cenário Base'!H11+SUMIF('II-a) Medidas a implementar'!$C:$C,$A11,'II-a) Medidas a implementar'!E:E)+SUMIF('II-c) Reflexos'!$D:$D,$A11,'II-c) Reflexos'!G:G)","v":11569.603040552518},{"$f":"'I-Cenário Base'!I11+SUMIF('II-a) Medidas a implementar'!$C:$C,$A11,'II-a) Medidas a implementar'!F:F)+SUMIF('II-c) Reflexos'!$D:$D,$A11,'II-c) Reflexos'!H:H)","v":11757.76576265398},{"$f":"'I-Cenário Base'!J11+SUMIF('II-a) Medidas a implementar'!$C:$C,$A11,'II-a) Medidas a implementar'!G:G)+SUMIF('II-c) Reflexos'!$D:$D,$A11,'II-c) Reflexos'!I:I)","v":12518.677516683025},{"$f":"'I-Cenário Base'!K11+SUMIF('II-a) Medidas a implementar'!$C:$C,$A11,'II-a) Medidas a implementar'!H:H)+SUMIF('II-c) Reflexos'!$D:$D,$A11,'II-c) Reflexos'!J:J)","v":13324.58479992536},{"$f":"'I-Cenário Base'!L11+SUMIF('II-a) Medidas a implementar'!$C:$C,$A11,'II-a) Medidas a implementar'!I:I)+SUMIF('II-c) Reflexos'!$D:$D,$A11,'II-c) Reflexos'!K:K)","v":14182.758408213647},{"$f":"'I-Cenário Base'!M11+SUMIF('II-a) Medidas a implementar'!$C:$C,$A11,'II-a) Medidas a implementar'!J:J)+SUMIF('II-c) Reflexos'!$D:$D,$A11,'II-c) Reflexos'!L:L)","v":15096.60110289914},{"$f":"'I-Cenário Base'!N11+SUMIF('II-a) Medidas a implementar'!$C:$C,$A11,'II-a) Medidas a implementar'!K:K)+SUMIF('II-c) Reflexos'!$D:$D,$A11,'II-c) Reflexos'!M:M)","v":16069.737651762905},{"$f":"'I-Cenário Base'!O11+SUMIF('II-a) Medidas a implementar'!$C:$C,$A11,'II-a) Medidas a implementar'!L:L)+SUMIF('II-c) Reflexos'!$D:$D,$A11,'II-c) Reflexos'!N:N)","v":17106.029331910311},{"$f":"'I-Cenário Base'!P11+SUMIF('II-a) Medidas a implementar'!$C:$C,$A11,'II-a) Medidas a implementar'!M:M)+SUMIF('II-c) Reflexos'!$D:$D,$A11,'II-c) Reflexos'!O:O)","v":18209.589380886395},{"$f":"'I-Cenário Base'!Q11+SUMIF('II-a) Medidas a implementar'!$C:$C,$A11,'II-a) Medidas a implementar'!N:N)+SUMIF('II-c) Reflexos'!$D:$D,$A11,'II-c) Reflexos'!P:P)","v":19384.799458045316}]
["ITCD",{"$f":"'I-Cenário Base'!G12+SUMIF('II-a) Medidas a implementar'!$C:$C,$A12,'II-a) Medidas a implementar'!D:D)+SUMIF('II-c) Reflexos'!$D:$D,$A12,'II-c) Reflexos'!F:F)","v":1860.7626529100003},{"$f":"'I-Cenário Base'!H12+SUMIF('II-a) Medidas a implementar'!$C:$C,$A12,'II-a) Medidas a implementar'!E:E)+SUMIF('II-c) Reflexos'!$D:$D,$A12,'II-c) Reflexos'!G:G)","v":1879.2407297549664},{"$f":"'I-Cenário Base'!I12+SUMIF('II-a) Medidas a implementar'!$C:$C,$A12,'II-a) Medidas a implementar'!F:F)+SUMIF('II-c) Reflexos'!$D:$D,$A12,'II-c) Reflexos'!H:H)","v":1867.6460940214652},{"$f":"'I-Cenário Base'!J12+SUMIF('II-a) Medidas a implementar'!$C:$C,$A12,'II-a) Medidas a implementar'!G:G)+SUMIF('II-c) Reflexos'!$D:$D,$A12,'II-c) Reflexos'!I:I)","v":1942.3519377823236},{"$f":"'I-Cenário Base'!K12+SUMIF('II-a) Medidas a implementar'!$C:$C,$A12,'II-a) Medidas a implementar'!H:H)+SUMIF('II-c) Reflexos'!$D:$D,$A12,'II-c) Reflexos'!J:J)","v":2002.2344959157936},{"$f":"'I-Cenário Base'!L12+SUMIF('II-a) Medidas a implementar'!$C:$C,$A12,'II-a) Medidas a implementar'!I:I)+SUMIF('II-c) Reflexos'!$D:$D,$A12,'II-c) Reflexos'!K:K)","v":2063.9780107932675},{"$f":"'I-Cenário Base'!M12+SUMIF('II-a) Medidas a implementar'!$C:$C,$A12,'II-a) Medidas a implementar'!J:J)+SUMIF('II-c) Reflexos'!$D:$D,$A12,'II-c) Reflexos'!L:L)","v":2127.640890317065},{"$f":"'I-Cenário Base'!N12+SUMIF('II-a) Medidas a implementar'!$C:$C,$A12,'II-a) Medidas a implementar'!K:K)+SUMIF('II-c) Reflexos'!$D:$D,$A12,'II-c) Reflexos'!M:M)","v":2193.283397794577},{"$f":"'I-Cenário Base'!O12+SUMIF('II-a) Medidas a implementar'!$C:$C,$A12,'II-a) Medidas a implementar'!L:L)+SUMIF('II-c) Reflexos'!$D:$D,$A12,'II-c) Reflexos'!N:N)","v":2260.9677117271344},{"$f":"'I-Cenário Base'!P12+SUMIF('II-a) Medidas a implementar'!$C:$C,$A12,'II-a) Medidas a implementar'!M:M)+SUMIF('II-c) Reflexos'!$D:$D,$A12,'II-c) Reflexos'!O:O)","v":2330.7579875576171},{"$f":"'I-Cenário Base'!Q12+SUMIF('II-a) Medidas a implementar'!$C:$C,$A12,'II-a) Medidas a implementar'!N:N)+SUMIF('II-c) Reflexos'!$D:$D,$A12,'II-c) Reflexos'!P:P)","v":2402.7204214421613}]
["IRRF",{"$f":"'I-Cenário Base'!G13+SUMIF('II-a) Medidas a implementar'!$C:$C,$A13,'II-a) Medidas a implementar'!D:D)+SUMIF('II-c) Reflexos'!$D:$D,$A13,'II-c) Reflexos'!F:F)","v":7059.46214685},{"$f":"'I-Cenário Base'!H13+SUMIF('II-a) Medidas a implementar'!$C:$C,$A13,'II-a) Medidas a implementar'!E:E)+SUMIF('II-c) Reflexos'!$D:$D,$A13,'II-c) Reflexos'!G:G)","v":7612.2228917265365},{"$f":"'I-Cenário Base'!I13+SUMIF('II-a) Medidas a implementar'!$C:$C,$A13,'II-a) Medidas a implementar'!F:F)+SUMIF('II-c) Reflexos'!$D:$D,$A13,'II-c) Reflexos'!H:H)","v":7908.9745775746696},{"$f":"'I-Cenário Base'!J13+SUMIF('II-a) Medidas a implementar'!$C:$C,$A13,'II-a) Medidas a implementar'!G:G)+SUMIF('II-c) Reflexos'!$D:$D,$A13,'II-c) Reflexos'!I:I)","v":8206.1571283587527},{"$f":"'I-Cenário Base'!K13+SUMIF('II-a) Medidas a implementar'!$C:$C,$A13,'II-a) Medidas a implementar'!H:H)+SUMIF('II-c) Reflexos'!$D:$D,$A13,'II-c) Reflexos'!J:J)","v":8515.9786302981811},{"$f":"'I-Cenário Base'!L13+SUMIF('II-a) Medidas a implementar'!$C:$C,$A13,'II-a) Medidas a implementar'!I:I)+SUMIF('II-c) Reflexos'!$D:$D,$A13,'II-c) Reflexos'!K:K)","v":8978.4513361845547},{"$f":"'I-Cenário Base'!M13+SUMIF('II-a) Medidas a implementar'!$C:$C,$A13,'II-a) Medidas a implementar'!J:J)+SUMIF('II-c) Reflexos'!$D:$D,$A13,'II-c) Reflexos'!L:L)","v":9320.4118636488147},{"$f":"'I-Cenário Base'!N13+SUMIF('II-a) Medidas a implementar'!$C:$C,$A13,'II-a) Medidas a implementar'!K:K)+SUMIF('II-c) Reflexos'!$D:$D,$A13,'II-c) Reflexos'!M:M)","v":9677.1780359631339},{"$f":"'I-Cenário Base'!O13+SUMIF('II-a) Medidas a implementar'!$C:$C,$A13,'II-a) Medidas a implementar'!L:L)+SUMIF('II-c) Reflexos'!$D:$D,$A13,'II-c) Reflexos'!N:N)","v":10049.49211564102},{"$f":"'I-Cenário Base'!P13+SUMIF('II-a) Medidas a implementar'!$C:$C,$A13,'II-a) Medidas a implementar'!M:M)+SUMIF('II-c) Reflexos'!$D:$D,$A13,'II-c) Reflexos'!O:O)","v":10438.138550667338},{"$f":"'I-Cenário Base'!Q13+SUMIF('II-a) Medidas a implementar'!$C:$C,$A13,'II-a) Medidas a implementar'!N:N)+SUMIF('II-c) Reflexos'!$D:$D,$A13,'II-c) Reflexos'!P:P)","v":10843.946581453529}]
["Outras Receitas Tributárias",{"$f":"'I-Cenário Base'!G14+SUMIF('II-a) Medidas a implementar'!$C:$C,$A14,'II-a) Medidas a implementar'!D:D)+SUMIF('II-c) Reflexos'!$D:$D,$A14,'II-c) Reflexos'!F:F)","v":4776.5679217900015},{"$f":"'I-Cenário Base'!H14+SUMIF('II-a) Medidas a implementar'!$C:$C,$A14,'II-a) Medidas a implementar'!E:E)+SUMIF('II-c) Reflexos'!$D:$D,$A14,'II-c) Reflexos'!G:G)","v":4597.5503601889468},{"$f":"'I-Cenário Base'!I14+SUMIF('II-a) Medidas a implementar'!$C:$C,$A14,'II-a) Medidas a implementar'!F:F)+SUMIF('II-c) Reflexos'!$D:$D,$A14,'II-c) Reflexos'!H:H)","v":4749.6258136984161},{"$f":"'I-Cenário Base'!J14+SUMIF('II-a) Medidas a implementar'!$C:$C,$A14,'II-a) Medidas a implementar'!G:G)+SUMIF('II-c) Reflexos'!$D:$D,$A14,'II-c) Reflexos'!I:I)","v":5009.4508154539435},{"$f":"'I-Cenário Base'!K14+SUMIF('II-a) Medidas a implementar'!$C:$C,$A14,'II-a) Medidas a implementar'!H:H)+SUMIF('II-c) Reflexos'!$D:$D,$A14,'II-c) Reflexos'!J:J)","v":5227.8114725237838},{"$f":"'I-Cenário Base'!L14+SUMIF('II-a) Medidas a implementar'!$C:$C,$A14,'II-a) Medidas a implementar'!I:I)+SUMIF('II-c) Reflexos'!$D:$D,$A14,'II-c) Reflexos'!K:K)","v":5456.5590053343085},{"$f":"'I-Cenário Base'!M14+SUMIF('II-a) Medidas a implementar'!$C:$C,$A14,'II-a) Medidas a implementar'!J:J)+SUMIF('II-c) Reflexos'!$D:$D,$A14,'II-c) Reflexos'!L:L)","v":5696.22089913745},{"$f":"'I-Cenário Base'!N14+SUMIF('II-a) Medidas a implementar'!$C:$C,$A14,'II-a) Medidas a implementar'!K:K)+SUMIF('II-c) Reflexos'!$D:$D,$A14,'II-c) Reflexos'!M:M)","v":5947.3526077509105},{"$f":"'I-Cenário Base'!O14+SUMIF('II-a) Medidas a implementar'!$C:$C,$A14,'II-a) Medidas a implementar'!L:L)+SUMIF('II-c) Reflexos'!$D:$D,$A14,'II-c) Reflexos'!N:N)","v":6210.5390756910974},{"$f":"'I-Cenário Base'!P14+SUMIF('II-a) Medidas a implementar'!$C:$C,$A14,'II-a) Medidas a implementar'!M:M)+SUMIF('II-c) Reflexos'!$D:$D,$A14,'II-c) Reflexos'!O:O)","v":6486.3963443350831},{"$f":"'I-Cenário Base'!Q14+SUMIF('II-a) Medidas a implementar'!$C:$C,$A14,'II-a) Medidas a implementar'!N:N)+SUMIF('II-c) Reflexos'!$D:$D,$A14,'II-c) Reflexos'!P:P)","v":6775.5732469357472}]
["Receitas de Contribuições (IV)",{"$f":"SUM(B16:B17)","v":3431.3439473500002},{"$f":"SUM(C16:C17)","v":3068.5802840710203},3169.968327946212,3274.8257837583742,3383.286126547102,3541.875963934056,3659.7026347296414,3781.6331836785153,3907.8267991089533,{"$f":"SUM(K16:K17)","v":4038.449161719258},{"$f":"SUM(L16:L17)","v":4173.6727197726559}]
["Receitas Previdenciárias (a)",{"$f":"'I-Cenário Base'!G16+SUMIF('II-a) Medidas a implementar'!$C:$C,$A16,'II-a) Medidas a implementar'!D:D)+SUMIF('II-c) Reflexos'!$D:$D,$A16,'II-c) Reflexos'!F:F)","v":1683.9932622799997},{"$f":"'I-Cenário Base'!H16+SUMIF('II-a) Medidas a implementar'!$C:$C,$A16,'II-a) Medidas a implementar'!E:E)+SUMIF('II-c) Reflexos'!$D:$D,$A16,'II-c) Reflexos'!G:G)","v":1662.83133709102},{"$f":"'I-Cenário Base'!I16+SUMIF('II-a) Medidas a implementar'!$C:$C,$A16,'II-a) Medidas a implementar'!F:F)+SUMIF('II-c) Reflexos'!$D:$D,$A16,'II-c) Reflexos'!H:H)","v":1719.5909334362118},{"$f":"'I-Cenário Base'!J16+SUMIF('II-a) Medidas a implementar'!$C:$C,$A16,'II-a) Medidas a implementar'!G:G)+SUMIF('II-c) Reflexos'!$D:$D,$A16,'II-c) Reflexos'!I:I)","v":1778.6162851360734},{"$f":"'I-Cenário Base'!K16+SUMIF('II-a) Medidas a implementar'!$C:$C,$A16,'II-a) Medidas a implementar'!H:H)+SUMIF('II-c) Reflexos'!$D:$D,$A16,'II-c) Reflexos'!J:J)","v":1840.0047575186329},{"$f":"'I-Cenário Base'!L16+SUMIF('II-a) Medidas a implementar'!$C:$C,$A16,'II-a) Medidas a implementar'!I:I)+SUMIF('II-c) Reflexos'!$D:$D,$A16,'II-c) Reflexos'!K:K)","v":1950.2457652273333},{"$f":"'I-Cenário Base'!M16+SUMIF('II-a) Medidas a implementar'!$C:$C,$A16,'II-a) Medidas a implementar'!J:J)+SUMIF('II-c) Reflexos'!$D:$D,$A16,'II-c) Reflexos'!L:L)","v":2018.4083382880165},{"$f":"'I-Cenário Base'!N16+SUMIF('II-a) Medidas a implementar'!$C:$C,$A16,'II-a) Medidas a implementar'!K:K)+SUMIF('II-c) Reflexos'!$D:$D,$A16,'II-c) Reflexos'!M:M)","v":2089.3200634099412},{"$f":"'I-Cenário Base'!O16+SUMIF('II-a) Medidas a implementar'!$C:$C,$A16,'II-a) Medidas a implementar'!L:L)+SUMIF('II-c) Reflexos'!$D:$D,$A16,'II-c) Reflexos'!N:N)","v":2163.0994871451217},{"$f":"'I-Cenário Base'!P16+SUMIF('II-a) Medidas a implementar'!$C:$C,$A16,'II-a) Medidas a implementar'!M:M)+SUMIF('II-c) Reflexos'!$D:$D,$A16,'II-c) Reflexos'!O:O)","v":2239.870429137512},{"$f":"'I-Cenário Base'!Q16+SUMIF('II-a) Medidas a implementar'!$C:$C,$A16,'II-a) Medidas a implementar'!N:N)+SUMIF('II-c) Reflexos'!$D:$D,$A16,'II-c) Reflexos'!P:P)","v":2319.762220790858}]
["Outras Receitas de Contribuições",{"$f":"'I-Cenário Base'!G17+SUMIF('II-a) Medidas a implementar'!$C:$C,$A17,'II-a) Medidas a implementar'!D:D)+SUMIF('II-c) Reflexos'!$D:$D,$A17,'II-c) Reflexos'!F:F)","v":1747.3506850700005},{"$f":"'I-Cenário Base'!H17+SUMIF('II-a) Medidas a implementar'!$C:$C,$A17,'II-a) Medidas a implementar'!E:E)+SUMIF('II-c) Reflexos'!$D:$D,$A17,'II-c) Reflexos'!G:G)","v":1405.74894698},{"$f":"'I-Cenário Base'!I17+SUMIF('II-a) Medidas a implementar'!$C:$C,$A17,'II-a) Medidas a implementar'!F:F)+SUMIF('II-c) Reflexos'!$D:$D,$A17,'II-c) Reflexos'!H:H)","v":1450.3773945100002},{"$f":"'I-Cenário Base'!J17+SUMIF('II-a) Medidas a implementar'!$C:$C,$A17,'II-a) Medidas a implementar'!G:G)+SUMIF('II-c) Reflexos'!$D:$D,$A17,'II-c) Reflexos'!I:I)","v":1496.2094986223005},{"$f":"'I-Cenário Base'!K17+SUMIF('II-a) Medidas a implementar'!$C:$C,$A17,'II-a) Medidas a implementar'!H:H)+SUMIF('II-c) Reflexos'!$D:$D,$A17,'II-c) Reflexos'!J:J)","v":1543.2813690284688},{"$f":"'I-Cenário Base'!L17+SUMIF('II-a) Medidas a implementar'!$C:$C,$A17,'II-a) Medidas a implementar'!I:I)+SUMIF('II-c) Reflexos'!$D:$D,$A17,'II-c) Reflexos'!K:K)","v":1591.6301987067229},{"$f":"'I-Cenário Base'!M17+SUMIF('II-a) Medidas a implementar'!$C:$C,$A17,'II-a) Medidas a implementar'!J:J)+SUMIF('II-c) Reflexos'!$D:$D,$A17,'II-c) Reflexos'!L:L)","v":1641.2942964416252},{"$f":"'I-Cenário Base'!N17+SUMIF('II-a) Medidas a implementar'!$C:$C,$A17,'II-a) Medidas a implementar'!K:K)+SUMIF('II-c) Reflexos'!$D:$D,$A17,'II-c) Reflexos'!M:M)","v":1692.313120268574},{"$f":"'I-Cenário Base'!O17+SUMIF('II-a) Medidas a implementar'!$C:$C,$A17,'II-a) Medidas a implementar'!L:L)+SUMIF('II-c) Reflexos'!$D:$D,$A17,'II-c) Reflexos'!N:N)","v":1744.7273119638314},{"$f":"'I-Cenário Base'!P17+SUMIF('II-a) Medidas a implementar'!$C:$C,$A17,'II-a) Medidas a implementar'!M:M)+SUMIF('II-c) Reflexos'!$D:$D,$A17,'II-c) Reflexos'!O:O)","v":1798.5787325817457},{"$f":"'I-Cenário Base'!Q17+SUMIF('II-a) Medidas a implementar'!$C:$C,$A17,'II-a) Medidas a implementar'!N:N)+SUMIF('II-c) Reflexos'!$D:$D,$A17,'II-c) Reflexos'!P:P)","v":1853.9104989817984}]
["Receita Patrimonial (V)",{"$f":"SUM(B19:B20)","v":6090.6691526399991},{"$f":"SUM(C19:C20)","v":5655.0884914253102},5739.3929555019404,8689.3709202758582,4442.9038343129141,4353.481544559032,4390.7284036857491,4383.5116845659522,7302.8940028126981,{"$f":"SUM(K19:K20)","v":4409.8345566911266},{"$f":"SUM(L19:L20)","v":4486.3177980572873}]
["Receita de Aplicações Financeiras (b)",{"$f":"'I-Cenário Base'!G19+SUMIF('II-a) Medidas a implementar'!$C:$C,$A19,'II-a) Medidas a implementar'!D:D)+SUMIF('II-c) Reflexos'!$D:$D,$A19,'II-c) Reflexos'!F:F)","v":3365.391154829998},{"$f":"'I-Cenário Base'!H19+SUMIF('II-a) Medidas a implementar'!$C:$C,$A19,'II-a) Medidas a implementar'!E:E)+SUMIF('II-c) Reflexos'!$D:$D,$A19,'II-c) Reflexos'!G:G)","v":2817.0845384033664},{"$f":"'I-Cenário Base'!I19+SUMIF('II-a) Medidas a implementar'!$C:$C,$A19,'II-a) Medidas a implementar'!F:F)+SUMIF('II-c) Reflexos'!$D:$D,$A19,'II-c) Reflexos'!H:H)","v":2549.6698705076378},{"$f":"'I-Cenário Base'!J19+SUMIF('II-a) Medidas a implementar'!$C:$C,$A19,'II-a) Medidas a implementar'!G:G)+SUMIF('II-c) Reflexos'!$D:$D,$A19,'II-c) Reflexos'!I:I)","v":2430.5567188642758},{"$f":"'I-Cenário Base'!K19+SUMIF('II-a) Medidas a implementar'!$C:$C,$A19,'II-a) Medidas a implementar'!H:H)+SUMIF('II-c) Reflexos'!$D:$D,$A19,'II-c) Reflexos'!J:J)","v":2456.9785006812463},{"$f":"'I-Cenário Base'!L19+SUMIF('II-a) Medidas a implementar'!$C:$C,$A19,'II-a) Medidas a implementar'!I:I)+SUMIF('II-c) Reflexos'!$D:$D,$A19,'II-c) Reflexos'!K:K)","v":2353.826579834295},{"$f":"'I-Cenário Base'!M19+SUMIF('II-a) Medidas a implementar'!$C:$C,$A19,'II-a) Medidas a implementar'!J:J)+SUMIF('II-c) Reflexos'!$D:$D,$A19,'II-c) Reflexos'!L:L)","v":2241.011632307398},{"$f":"'I-Cenário Base'!N19+SUMIF('II-a) Medidas a implementar'!$C:$C,$A19,'II-a) Medidas a implementar'!K:K)+SUMIF('II-c) Reflexos'!$D:$D,$A19,'II-c) Reflexos'!M:M)","v":2128.7362666233162},{"$f":"'I-Cenário Base'!O19+SUMIF('II-a) Medidas a implementar'!$C:$C,$A19,'II-a) Medidas a implementar'!L:L)+SUMIF('II-c) Reflexos'!$D:$D,$A19,'II-c) Reflexos'!N:N)","v":2016.0801583045868},{"$f":"'I-Cenário Base'!P19+SUMIF('II-a) Medidas a implementar'!$C:$C,$A19,'II-a) Medidas a implementar'!M:M)+SUMIF('II-c) Reflexos'!$D:$D,$A19,'II-c) Reflexos'!O:O)","v":2015.0984626237744},{"$f":"'I-Cenário Base'!Q19+SUMIF('II-a) Medidas a implementar'!$C:$C,$A19,'II-a) Medidas a implementar'!N:N)+SUMIF('II-c) Reflexos'!$D:$D,$A19,'II-c) Reflexos'!P:P)","v":1995.1354818598613}]
["Outras Receitas Patrimoniais",{"$f":"'I-Cenário Base'!G20+SUMIF('II-a) Medidas a implementar'!$C:$C,$A20,'II-a) Medidas a implementar'!D:D)+SUMIF('II-c) Reflexos'!$D:$D,$A20,'II-c) Reflexos'!F:F)","v":2725.2779978100016},{"$f":"'I-Cenário Base'!H20+SUMIF('II-a) Medidas a implementar'!$C:$C,$A20,'II-a) Medidas a implementar'!E:E)+SUMIF('II-c) Reflexos'!$D:$D,$A20,'II-c) Reflexos'!G:G)","v":2838.0039530219437},{"$f":"'I-Cenário Base'!I20+SUMIF('II-a) Medidas a implementar'!$C:$C,$A20,'II-a) Medidas a implementar'!F:F)+SUMIF('II-c) Reflexos'!$D:$D,$A20,'II-c) Reflexos'!H:H)","v":3189.7230849943026},{"$f":"'I-Cenário Base'!J20+SUMIF('II-a) Medidas a implementar'!$C:$C,$A20,'II-a) Medidas a implementar'!G:G)+SUMIF('II-c) Reflexos'!$D:$D,$A20,'II-c) Reflexos'!I:I)","v":6258.814201411582},{"$f":"'I-Cenário Base'!K20+SUMIF('II-a) Medidas a implementar'!$C:$C,$A20,'II-a) Medidas a implementar'!H:H)+SUMIF('II-c) Reflexos'!$D:$D,$A20,'II-c) Reflexos'!J:J)","v":1985.9253336316674},{"$f":"'I-Cenário Base'!L20+SUMIF('II-a) Medidas a implementar'!$C:$C,$A20,'II-a) Medidas a implementar'!I:I)+SUMIF('II-c) Reflexos'!$D:$D,$A20,'II-c) Reflexos'!K:K)","v":1999.6549647247375},{"$f":"'I-Cenário Base'!M20+SUMIF('II-a) Medidas a implementar'!$C:$C,$A20,'II-a) Medidas a implementar'!J:J)+SUMIF('II-c) Reflexos'!$D:$D,$A20,'II-c) Reflexos'!L:L)","v":2149.7167713783506},{"$f":"'I-Cenário Base'!N20+SUMIF('II-a) Medidas a implementar'!$C:$C,$A20,'II-a) Medidas a implementar'!K:K)+SUMIF('II-c) Reflexos'!$D:$D,$A20,'II-c) Reflexos'!M:M)","v":2254.7754179426361},{"$f":"'I-Cenário Base'!O20+SUMIF('II-a) Medidas a implementar'!$C:$C,$A20,'II-a) Medidas a implementar'!L:L)+SUMIF('II-c) Reflexos'!$D:$D,$A20,'II-c) Reflexos'!N:N)","v":5286.8138445081113},{"$f":"'I-Cenário Base'!P20+SUMIF('II-a) Medidas a implementar'!$C:$C,$A20,'II-a) Medidas a implementar'!M:M)+SUMIF('II-c) Reflexos'!$D:$D,$A20,'II-c) Reflexos'!O:O)","v":2394.736094067352},{"$f":"'I-Cenário Base'!Q20+SUMIF('II-a) Medidas a implementar'!$C:$C,$A20,'II-a) Medidas a implementar'!N:N)+SUMIF('II-c) Reflexos'!$D:$D,$A20,'II-c) Reflexos'!P:P)","v":2491.1823161974257}]
["Transferências Correntes (VI)",{"$f":"SUM(B22:B26)","v":25871.059102210005},28706.640951484678,31022.634319173485,31727.891020549323,33450.107608526021,35221.255531848772,37044.083877443103,39005.230646720578,41006.803698840726,43123.830435212527,{"$f":"SUM(L22:L26)","v":45365.86413949402}]
["Cota-Parte do FPE",{"$f":"'I-Cenário Base'!G22+SUMIF('II-a) Medidas a implementar'!$C:$C,$A22,'II-a) Medidas a implementar'!D:D)+SUMIF('II-c) Reflexos'!$D:$D,$A22,'II-c) Reflexos'!F:F)","v":7391.1742211700002},{"$f":"'I-Cenário Base'!H22+SUMIF('II-a) Medidas a implementar'!$C:$C,$A22,'II-a) Medidas a implementar'!E:E)+SUMIF('II-c) Reflexos'!$D:$D,$A22,'II-c) Reflexos'!G:G)","v":8945.0313065384835},{"$f":"'I-Cenário Base'!I22+SUMIF('II-a) Medidas a implementar'!$C:$C,$A22,'II-a) Medidas a implementar'!F:F)+SUMIF('II-c) Reflexos'!$D:$D,$A22,'II-c) Reflexos'!H:H)","v":9467.6715957169163},{"$f":"'I-Cenário Base'!J22+SUMIF('II-a) Medidas a implementar'!$C:$C,$A22,'II-a) Medidas a implementar'!G:G)+SUMIF('II-c) Reflexos'!$D:$D,$A22,'II-c) Reflexos'!I:I)","v":9997.444627526851},{"$f":"'I-Cenário Base'!K22+SUMIF('II-a) Medidas a implementar'!$C:$C,$A22,'II-a) Medidas a implementar'!H:H)+SUMIF('II-c) Reflexos'!$D:$D,$A22,'II-c) Reflexos'!J:J)","v":10560.980586291287},{"$f":"'I-Cenário Base'!L22+SUMIF('II-a) Medidas a implementar'!$C:$C,$A22,'II-a) Medidas a implementar'!I:I)+SUMIF('II-c) Reflexos'!$D:$D,$A22,'II-c) Reflexos'!K:K)","v":11156.281939979355},{"$f":"'I-Cenário Base'!M22+SUMIF('II-a) Medidas a implementar'!$C:$C,$A22,'II-a) Medidas a implementar'!J:J)+SUMIF('II-c) Reflexos'!$D:$D,$A22,'II-c) Reflexos'!L:L)","v":11785.139240372115},{"$f":"'I-Cenário Base'!N22+SUMIF('II-a) Medidas a implementar'!$C:$C,$A22,'II-a) Medidas a implementar'!K:K)+SUMIF('II-c) Reflexos'!$D:$D,$A22,'II-c) Reflexos'!M:M)","v":12449.443969073411},{"$f":"'I-Cenário Base'!O22+SUMIF('II-a) Medidas a implementar'!$C:$C,$A22,'II-a) Medidas a implementar'!L:L)+SUMIF('II-c) Reflexos'!$D:$D,$A22,'II-c) Reflexos'!N:N)","v":13151.194226722146},{"$f":"'I-Cenário Base'!P22+SUMIF('II-a) Medidas a implementar'!$C:$C,$A22,'II-a) Medidas a implementar'!M:M)+SUMIF('II-c) Reflexos'!$D:$D,$A22,'II-c) Reflexos'!O:O)","v":13892.500742894023},{"$f":"'I-Cenário Base'!Q22+SUMIF('II-a) Medidas a implementar'!$C:$C,$A22,'II-a) Medidas a implementar'!N:N)+SUMIF('II-c) Reflexos'!$D:$D,$A22,'II-c) Reflexos'!P:P)","v":14675.593224769476}]
["Cota-Parte do IPI-Exp. (LC nº 61/1989)",{"$f":"'I-Cenário Base'!G23+SUMIF('II-a) Medidas a implementar'!$C:$C,$A23,'II-a) Medidas a implementar'!D:D)+SUMIF('II-c) Reflexos'!$D:$D,$A23,'II-c) Reflexos'!F:F)","v":700.54317669000011},{"$f":"'I-Cenário Base'!H23+SUMIF('II-a) Medidas a implementar'!$C:$C,$A23,'II-a) Medidas a implementar'!E:E)+SUMIF('II-c) Reflexos'!$D:$D,$A23,'II-c) Reflexos'!G:G)","v":837.82751830000007},{"$f":"'I-Cenário Base'!I23+SUMIF('II-a) Medidas a implementar'!$C:$C,$A23,'II-a) Medidas a implementar'!F:F)+SUMIF('II-c) Reflexos'!$D:$D,$A23,'II-c) Reflexos'!H:H)","v":886.78010453923241},{"$f":"'I-Cenário Base'!J23+SUMIF('II-a) Medidas a implementar'!$C:$C,$A23,'II-a) Medidas a implementar'!G:G)+SUMIF('II-c) Reflexos'!$D:$D,$A23,'II-c) Reflexos'!I:I)","v":936.40077206882972},{"$f":"'I-Cenário Base'!K23+SUMIF('II-a) Medidas a implementar'!$C:$C,$A23,'II-a) Medidas a implementar'!H:H)+SUMIF('II-c) Reflexos'!$D:$D,$A23,'II-c) Reflexos'!J:J)","v":989.183810788806},{"$f":"'I-Cenário Base'!L23+SUMIF('II-a) Medidas a implementar'!$C:$C,$A23,'II-a) Medidas a implementar'!I:I)+SUMIF('II-c) Reflexos'!$D:$D,$A23,'II-c) Reflexos'!K:K)","v":1044.9421238353493},{"$f":"'I-Cenário Base'!M23+SUMIF('II-a) Medidas a implementar'!$C:$C,$A23,'II-a) Medidas a implementar'!J:J)+SUMIF('II-c) Reflexos'!$D:$D,$A23,'II-c) Reflexos'!L:L)","v":1103.8434214717006},{"$f":"'I-Cenário Base'!N23+SUMIF('II-a) Medidas a implementar'!$C:$C,$A23,'II-a) Medidas a implementar'!K:K)+SUMIF('II-c) Reflexos'!$D:$D,$A23,'II-c) Reflexos'!M:M)","v":1166.0648674532174},{"$f":"'I-Cenário Base'!O23+SUMIF('II-a) Medidas a implementar'!$C:$C,$A23,'II-a) Medidas a implementar'!L:L)+SUMIF('II-c) Reflexos'!$D:$D,$A23,'II-c) Reflexos'!N:N)","v":1231.7936119018204},{"$f":"'I-Cenário Base'!P23+SUMIF('II-a) Medidas a implementar'!$C:$C,$A23,'II-a) Medidas a implementar'!M:M)+SUMIF('II-c) Reflexos'!$D:$D,$A23,'II-c) Reflexos'!O:O)","v":1301.2273542175026},{"$f":"'I-Cenário Base'!Q23+SUMIF('II-a) Medidas a implementar'!$C:$C,$A23,'II-a) Medidas a implementar'!N:N)+SUMIF('II-c) Reflexos'!$D:$D,$A23,'II-c) Reflexos'!P:P)","v":1374.574937720035}]
["Transferências do FUNDEB",{"$f":"'I-Cenário Base'!G24+SUMIF('II-a) Medidas a implementar'!$C:$C,$A24,'II-a) Medidas a implementar'!D:D)+SUMIF('II-c) Reflexos'!$D:$D,$A24,'II-c) Reflexos'!F:F)","v":11296.61775901},{"$f":"'I-Cenário Base'!H24+SUMIF('II-a) Medidas a implementar'!$C:$C,$A24,'II-a) Medidas a implementar'!E:E)+SUMIF('II-c) Reflexos'!$D:$D,$A24,'II-c) Reflexos'!G:G)","v":11935.263988390694},{"$f":"'I-Cenário Base'!I24+SUMIF('II-a) Medidas a implementar'!$C:$C,$A24,'II-a) Medidas a implementar'!F:F)+SUMIF('II-c) Reflexos'!$D:$D,$A24,'II-c) Reflexos'!H:H)","v":12616.74191200166},{"$f":"'I-Cenário Base'!J24+SUMIF('II-a) Medidas a implementar'!$C:$C,$A24,'II-a) Medidas a implementar'!G:G)+SUMIF('II-c) Reflexos'!$D:$D,$A24,'II-c) Reflexos'!I:I)","v":13360.068696442226},{"$f":"'I-Cenário Base'!K24+SUMIF('II-a) Medidas a implementar'!$C:$C,$A24,'II-a) Medidas a implementar'!H:H)+SUMIF('II-c) Reflexos'!$D:$D,$A24,'II-c) Reflexos'!J:J)","v":14246.066880548478},{"$f":"'I-Cenário Base'!L24+SUMIF('II-a) Medidas a implementar'!$C:$C,$A24,'II-a) Medidas a implementar'!I:I)+SUMIF('II-c) Reflexos'!$D:$D,$A24,'II-c) Reflexos'!K:K)","v":15082.947091946646},{"$f":"'I-Cenário Base'!M24+SUMIF('II-a) Medidas a implementar'!$C:$C,$A24,'II-a) Medidas a implementar'!J:J)+SUMIF('II-c) Reflexos'!$D:$D,$A24,'II-c) Reflexos'!L:L)","v":16000.621880333021},{"$f":"'I-Cenário Base'!N24+SUMIF('II-a) Medidas a implementar'!$C:$C,$A24,'II-a) Medidas a implementar'!K:K)+SUMIF('II-c) Reflexos'!$D:$D,$A24,'II-c) Reflexos'!M:M)","v":16972.105622673713},{"$f":"'I-Cenário Base'!O24+SUMIF('II-a) Medidas a implementar'!$C:$C,$A24,'II-a) Medidas a implementar'!L:L)+SUMIF('II-c) Reflexos'!$D:$D,$A24,'II-c) Reflexos'!N:N)","v":18003.458333682865},{"$f":"'I-Cenário Base'!P24+SUMIF('II-a) Medidas a implementar'!$C:$C,$A24,'II-a) Medidas a implementar'!M:M)+SUMIF('II-c) Reflexos'!$D:$D,$A24,'II-c) Reflexos'!O:O)","v":19098.493829350118},{"$f":"'I-Cenário Base'!Q24+SUMIF('II-a) Medidas a implementar'!$C:$C,$A24,'II-a) Medidas a implementar'!N:N)+SUMIF('II-c) Reflexos'!$D:$D,$A24,'II-c) Reflexos'!P:P)","v":20264.011839605057}]
["Royalties e Participações Especiais",{"$f":"'I-Cenário Base'!G25+SUMIF('II-a) Medidas a implementar'!$C:$C,$A25,'II-a) Medidas a implementar'!D:D)+SUMIF('II-c) Reflexos'!$D:$D,$A25,'II-c) Reflexos'!F:F)","v":44.323923719999996},{"$f":"'I-Cenário Base'!H25+SUMIF('II-a) Medidas a implementar'!$C:$C,$A25,'II-a) Medidas a implementar'!E:E)+SUMIF('II-c) Reflexos'!$D:$D,$A25,'II-c) Reflexos'!G:G)","v":47.849864999999994},{"$f":"'I-Cenário Base'!I25+SUMIF('II-a) Medidas a implementar'!$C:$C,$A25,'II-a) Medidas a implementar'!F:F)+SUMIF('II-c) Reflexos'!$D:$D,$A25,'II-c) Reflexos'!H:H)","v":50.645636912219999},{"$f":"'I-Cenário Base'!J25+SUMIF('II-a) Medidas a implementar'!$C:$C,$A25,'II-a) Medidas a implementar'!G:G)+SUMIF('II-c) Reflexos'!$D:$D,$A25,'II-c) Reflexos'!I:I)","v":53.479564171280181},{"$f":"'I-Cenário Base'!K25+SUMIF('II-a) Medidas a implementar'!$C:$C,$A25,'II-a) Medidas a implementar'!H:H)+SUMIF('II-c) Reflexos'!$D:$D,$A25,'II-c) Reflexos'!J:J)","v":56.494100244486901},{"$f":"'I-Cenário Base'!L25+SUMIF('II-a) Medidas a implementar'!$C:$C,$A25,'II-a) Medidas a implementar'!I:I)+SUMIF('II-c) Reflexos'!$D:$D,$A25,'II-c) Reflexos'!K:K)","v":59.678559687068159},{"$f":"'I-Cenário Base'!M25+SUMIF('II-a) Medidas a implementar'!$C:$C,$A25,'II-a) Medidas a implementar'!J:J)+SUMIF('II-c) Reflexos'!$D:$D,$A25,'II-c) Reflexos'!L:L)","v":44.129764517656177},{"$f":"'I-Cenário Base'!N25+SUMIF('II-a) Medidas a implementar'!$C:$C,$A25,'II-a) Medidas a implementar'!K:K)+SUMIF('II-c) Reflexos'!$D:$D,$A25,'II-c) Reflexos'!M:M)","v":66.596101548553463},{"$f":"'I-Cenário Base'!O25+SUMIF('II-a) Medidas a implementar'!$C:$C,$A25,'II-a) Medidas a implementar'!L:L)+SUMIF('II-c) Reflexos'!$D:$D,$A25,'II-c) Reflexos'!N:N)","v":70.349990600642343},{"$f":"'I-Cenário Base'!P25+SUMIF('II-a) Medidas a implementar'!$C:$C,$A25,'II-a) Medidas a implementar'!M:M)+SUMIF('II-c) Reflexos'!$D:$D,$A25,'II-c) Reflexos'!O:O)","v":74.315478870819362},{"$f":"'I-Cenário Base'!Q25+SUMIF('II-a) Medidas a implementar'!$C:$C,$A25,'II-a) Medidas a implementar'!N:N)+SUMIF('II-c) Reflexos'!$D:$D,$A25,'II-c) Reflexos'!P:P)","v":78.504493783809721}]
["Outras Transferências Correntes",{"$f":"'I-Cenário Base'!G26+SUMIF('II-a) Medidas a implementar'!$C:$C,$A26,'II-a) Medidas a implementar'!D:D)+SUMIF('II-c) Reflexos'!$D:$D,$A26,'II-c) Reflexos'!F:F)","v":6438.400021620002},{"$f":"'I-Cenário Base'!H26+SUMIF('II-a) Medidas a implementar'!$C:$C,$A26,'II-a) Medidas a implementar'!E:E)+SUMIF('II-c) Reflexos'!$D:$D,$A26,'II-c) Reflexos'!G:G)","v":6940.6682732554991},{"$f":"'I-Cenário Base'!I26+SUMIF('II-a) Medidas a implementar'!$C:$C,$A26,'II-a) Medidas a implementar'!F:F)+SUMIF('II-c) Reflexos'!$D:$D,$A26,'II-c) Reflexos'!H:H)","v":8000.795070003458},{"$f":"'I-Cenário Base'!J26+SUMIF('II-a) Medidas a implementar'!$C:$C,$A26,'II-a) Medidas a implementar'!G:G)+SUMIF('II-c) Reflexos'!$D:$D,$A26,'II-c) Reflexos'!I:I)","v":7380.4973603401349},{"$f":"'I-Cenário Base'!K26+SUMIF('II-a) Medidas a implementar'!$C:$C,$A26,'II-a) Medidas a implementar'!H:H)+SUMIF('II-c) Reflexos'!$D:$D,$A26,'II-c) Reflexos'!J:J)","v":7597.3822306529682},{"$f":"'I-Cenário Base'!L26+SUMIF('II-a) Medidas a implementar'!$C:$C,$A26,'II-a) Medidas a implementar'!I:I)+SUMIF('II-c) Reflexos'!$D:$D,$A26,'II-c) Reflexos'!K:K)","v":7877.40581640035},{"$f":"'I-Cenário Base'!M26+SUMIF('II-a) Medidas a implementar'!$C:$C,$A26,'II-a) Medidas a implementar'!J:J)+SUMIF('II-c) Reflexos'!$D:$D,$A26,'II-c) Reflexos'!L:L)","v":8110.3495707486136},{"$f":"'I-Cenário Base'!N26+SUMIF('II-a) Medidas a implementar'!$C:$C,$A26,'II-a) Medidas a implementar'!K:K)+SUMIF('II-c) Reflexos'!$D:$D,$A26,'II-c) Reflexos'!M:M)","v":8351.0200859716897},{"$f":"'I-Cenário Base'!O26+SUMIF('II-a) Medidas a implementar'!$C:$C,$A26,'II-a) Medidas a implementar'!L:L)+SUMIF('II-c) Reflexos'!$D:$D,$A26,'II-c) Reflexos'!N:N)","v":8550.007535933255},{"$f":"'I-Cenário Base'!P26+SUMIF('II-a) Medidas a implementar'!$C:$C,$A26,'II-a) Medidas a implementar'!M:M)+SUMIF('II-c) Reflexos'!$D:$D,$A26,'II-c) Reflexos'!O:O)","v":8757.2930298800638},{"$f":"'I-Cenário Base'!Q26+SUMIF('II-a) Medidas a implementar'!$C:$C,$A26,'II-a) Medidas a implementar'!N:N)+SUMIF('II-c) Reflexos'!$D:$D,$A26,'II-c) Reflexos'!P:P)","v":8973.1796436156437}]
["Demais Receitas Correntes (VII)",{"$f":"SUM(B28:B30)","v":3159.3949981500032},{"$f":"SUM(C28:C30)","v":3756.1543652767295},3949.1359401466389,4109.6805343512988,4253.9774916242768,4403.791783912312,4559.3568960505418,4720.9151378867855,4888.7226235815015,{"$f":"SUM(K28:K30)","v":5056.2954976419442},{"$f":"SUM(L28:L30)","v":5236.7113017164811}]
["Outras Receitas Financeiras (c)",{"$f":"'I-Cenário Base'!G28+SUMIF('II-a) Medidas a implementar'!$C:$C,$A28,'II-a) Medidas a implementar'!D:D)+SUMIF('II-c) Reflexos'!$D:$D,$A28,'II-c) Reflexos'!F:F)","v":5.697469260000001},{"$f":"'I-Cenário Base'!H28+SUMIF('II-a) Medidas a implementar'!$C:$C,$A28,'II-a) Medidas a implementar'!E:E)+SUMIF('II-c) Reflexos'!$D:$D,$A28,'II-c) Reflexos'!G:G)","v":5.7540500000000003},{"$f":"'I-Cenário Base'!I28+SUMIF('II-a) Medidas a implementar'!$C:$C,$A28,'II-a) Medidas a implementar'!F:F)+SUMIF('II-c) Reflexos'!$D:$D,$A28,'II-c) Reflexos'!H:H)","v":5.9266114999999999},{"$f":"'I-Cenário Base'!J28+SUMIF('II-a) Medidas a implementar'!$C:$C,$A28,'II-a) Medidas a implementar'!G:G)+SUMIF('II-c) Reflexos'!$D:$D,$A28,'II-c) Reflexos'!I:I)","v":6.1043498449999998},{"$f":"'I-Cenário Base'!K28+SUMIF('II-a) Medidas a implementar'!$C:$C,$A28,'II-a) Medidas a implementar'!H:H)+SUMIF('II-c) Reflexos'!$D:$D,$A28,'II-c) Reflexos'!J:J)","v":6.2874203403499997},{"$f":"'I-Cenário Base'!L28+SUMIF('II-a) Medidas a implementar'!$C:$C,$A28,'II-a) Medidas a implementar'!I:I)+SUMIF('II-c) Reflexos'!$D:$D,$A28,'II-c) Reflexos'!K:K)","v":6.4759829505605007},{"$f":"'I-Cenário Base'!M28+SUMIF('II-a) Medidas a implementar'!$C:$C,$A28,'II-a) Medidas a implementar'!J:J)+SUMIF('II-c) Reflexos'!$D:$D,$A28,'II-c) Reflexos'!L:L)","v":6.6702024390773156},{"$f":"'I-Cenário Base'!N28+SUMIF('II-a) Medidas a implementar'!$C:$C,$A28,'II-a) Medidas a implementar'!K:K)+SUMIF('II-c) Reflexos'!$D:$D,$A28,'II-c) Reflexos'!M:M)","v":6.8702485122496357},{"$f":"'I-Cenário Base'!O28+SUMIF('II-a) Medidas a implementar'!$C:$C,$A28,'II-a) Medidas a implementar'!L:L)+SUMIF('II-c) Reflexos'!$D:$D,$A28,'II-c) Reflexos'!N:N)","v":7.0762959676171242},{"$f":"'I-Cenário Base'!P28+SUMIF('II-a) Medidas a implementar'!$C:$C,$A28,'II-a) Medidas a implementar'!M:M)+SUMIF('II-c) Reflexos'!$D:$D,$A28,'II-c) Reflexos'!O:O)","v":7.2885248466456387},{"$f":"'I-Cenário Base'!Q28+SUMIF('II-a) Medidas a implementar'!$C:$C,$A28,'II-a) Medidas a implementar'!N:N)+SUMIF('II-c) Reflexos'!$D:$D,$A28,'II-c) Reflexos'!P:P)","v":7.5071205920450073}]
["Compensações Financeiras entre o RGPS e o RPPS (d)",{"$f":"'I-Cenário Base'!G29+SUMIF('II-a) Medidas a implementar'!$C:$C,$A29,'II-a) Medidas a implementar'!D:D)+SUMIF('II-c) Reflexos'!$D:$D,$A29,'II-c) Reflexos'!F:F)","v":0},{"$f":"'I-Cenário Base'!H29+SUMIF('II-a) Medidas a implementar'!$C:$C,$A29,'II-a) Medidas a implementar'!E:E)+SUMIF('II-c) Reflexos'!$D:$D,$A29,'II-c) Reflexos'!G:G)","v":0},{"$f":"'I-Cenário Base'!I29+SUMIF('II-a) Medidas a implementar'!$C:$C,$A29,'II-a) Medidas a implementar'!F:F)+SUMIF('II-c) Reflexos'!$D:$D,$A29,'II-c) Reflexos'!H:H)","v":0},{"$f":"'I-Cenário Base'!J29+SUMIF('II-a) Medidas a implementar'!$C:$C,$A29,'II-a) Medidas a implementar'!G:G)+SUMIF('II-c) Reflexos'!$D:$D,$A29,'II-c) Reflexos'!I:I)","v":0},{"$f":"'I-Cenário Base'!K29+SUMIF('II-a) Medidas a implementar'!$C:$C,$A29,'II-a) Medidas a implementar'!H:H)+SUMIF('II-c) Reflexos'!$D:$D,$A29,'II-c) Reflexos'!J:J)","v":0},{"$f":"'I-Cenário Base'!L29+SUMIF('II-a) Medidas a implementar'!$C:$C,$A29,'II-a) Medidas a implementar'!I:I)+SUMIF('II-c) Reflexos'!$D:$D,$A29,'II-c) Reflexos'!K:K)","v":0},{"$f":"'I-Cenário Base'!M29+SUMIF('II-a) Medidas a implementar'!$C:$C,$A29,'II-a) Medidas a implementar'!J:J)+SUMIF('II-c) Reflexos'!$D:$D,$A29,'II-c) Reflexos'!L:L)","v":0},{"$f":"'I-Cenário Base'!N29+SUMIF('II-a) Medidas a implementar'!$C:$C,$A29,'II-a) Medidas a implementar'!K:K)+SUMIF('II-c) Reflexos'!$D:$D,$A29,'II-c) Reflexos'!M:M)","v":0},{"$f":"'I-Cenário Base'!O29+SUMIF('II-a) Medidas a implementar'!$C:$C,$A29,'II-a) Medidas a implementar'!L:L)+SUMIF('II-c) Reflexos'!$D:$D,$A29,'II-c) Reflexos'!N:N)","v":0},{"$f":"'I-Cenário Base'!P29+SUMIF('II-a) Medidas a implementar'!$C:$C,$A29,'II-a) Medidas a implementar'!M:M)+SUMIF('II-c) Reflexos'!$D:$D,$A29,'II-c) Reflexos'!O:O)","v":0},{"$f":"'I-Cenário Base'!Q29+SUMIF('II-a) Medidas a implementar'!$C:$C,$A29,'II-a) Medidas a implementar'!N:N)+SUMIF('II-c) Reflexos'!$D:$D,$A29,'II-c) Reflexos'!P:P)","v":0}]
["Receitas Correntes Restantes",{"$f":"'I-Cenário Base'!G30+SUMIF('II-a) Medidas a implementar'!$C:$C,$A30,'II-a) Medidas a implementar'!D:D)+SUMIF('II-c) Reflexos'!$D:$D,$A30,'II-c) Reflexos'!F:F)","v":3153.697528890003},{"$f":"'I-Cenário Base'!H30+SUMIF('II-a) Medidas a implementar'!$C:$C,$A30,'II-a) Medidas a implementar'!E:E)+SUMIF('II-c) Reflexos'!$D:$D,$A30,'II-c) Reflexos'!G:G)","v":3750.4003152767295},{"$f":"'I-Cenário Base'!I30+SUMIF('II-a) Medidas a implementar'!$C:$C,$A30,'II-a) Medidas a implementar'!F:F)+SUMIF('II-c) Reflexos'!$D:$D,$A30,'II-c) Reflexos'!H:H)","v":3943.2093286466388},{"$f":"'I-Cenário Base'!J30+SUMIF('II-a) Medidas a implementar'!$C:$C,$A30,'II-a) Medidas a implementar'!G:G)+SUMIF('II-c) Reflexos'!$D:$D,$A30,'II-c) Reflexos'!I:I)","v":4103.5761845062989},{"$f":"'I-Cenário Base'!K30+SUMIF('II-a) Medidas a implementar'!$C:$C,$A30,'II-a) Medidas a implementar'!H:H)+SUMIF('II-c) Reflexos'!$D:$D,$A30,'II-c) Reflexos'!J:J)","v":4247.690071283927},{"$f":"'I-Cenário Base'!L30+SUMIF('II-a) Medidas a implementar'!$C:$C,$A30,'II-a) Medidas a implementar'!I:I)+SUMIF('II-c) Reflexos'!$D:$D,$A30,'II-c) Reflexos'!K:K)","v":4397.3158009617518},{"$f":"'I-Cenário Base'!M30+SUMIF('II-a) Medidas a implementar'!$C:$C,$A30,'II-a) Medidas a implementar'!J:J)+SUMIF('II-c) Reflexos'!$D:$D,$A30,'II-c) Reflexos'!L:L)","v":4552.6866936114648},{"$f":"'I-Cenário Base'!N30+SUMIF('II-a) Medidas a implementar'!$C:$C,$A30,'II-a) Medidas a implementar'!K:K)+SUMIF('II-c) Reflexos'!$D:$D,$A30,'II-c) Reflexos'!M:M)","v":4714.0448893745361},{"$f":"'I-Cenário Base'!O30+SUMIF('II-a) Medidas a implementar'!$C:$C,$A30,'II-a) Medidas a implementar'!L:L)+SUMIF('II-c) Reflexos'!$D:$D,$A30,'II-c) Reflexos'!N:N)","v":4881.6463276138848},{"$f":"'I-Cenário Base'!P30+SUMIF('II-a) Medidas a implementar'!$C:$C,$A30,'II-a) Medidas a implementar'!M:M)+SUMIF('II-c) Reflexos'!$D:$D,$A30,'II-c) Reflexos'!O:O)","v":5049.0069727952987},{"$f":"'I-Cenário Base'!Q30+SUMIF('II-a) Medidas a implementar'!$C:$C,$A30,'II-a) Medidas a implementar'!N:N)+SUMIF('II-c) Reflexos'!$D:$D,$A30,'II-c) Reflexos'!P:P)","v":5229.2041811244362}]
["Deduções para formação do Fundeb (IIa)",{"$f":"'I-Cenário Base'!G31+SUMIF('II-a) Medidas a implementar'!$C:$C,$A31,'II-a) Medidas a implementar'!D:D)+SUMIF('II-c) Reflexos'!$D:$D,$A31,'II-c) Reflexos'!F:F)","v":13901.769499839998},{"$f":"'I-Cenário Base'!H31+SUMIF('II-a) Medidas a implementar'!$C:$C,$A31,'II-a) Medidas a implementar'!E:E)+SUMIF('II-c) Reflexos'!$D:$D,$A31,'II-c) Reflexos'!G:G)","v":15228.356627273077},{"$f":"'I-Cenário Base'!I31+SUMIF('II-a) Medidas a implementar'!$C:$C,$A31,'II-a) Medidas a implementar'!F:F)+SUMIF('II-c) Reflexos'!$D:$D,$A31,'II-c) Reflexos'!H:H)","v":16432.547345719384},{"$f":"'I-Cenário Base'!J31+SUMIF('II-a) Medidas a implementar'!$C:$C,$A31,'II-a) Medidas a implementar'!G:G)+SUMIF('II-c) Reflexos'!$D:$D,$A31,'II-c) Reflexos'!I:I)","v":17273.157580104551},{"$f":"'I-Cenário Base'!K31+SUMIF('II-a) Medidas a implementar'!$C:$C,$A31,'II-a) Medidas a implementar'!H:H)+SUMIF('II-c) Reflexos'!$D:$D,$A31,'II-c) Reflexos'!J:J)","v":18432.750302177094},{"$f":"'I-Cenário Base'!L31+SUMIF('II-a) Medidas a implementar'!$C:$C,$A31,'II-a) Medidas a implementar'!I:I)+SUMIF('II-c) Reflexos'!$D:$D,$A31,'II-c) Reflexos'!K:K)","v":19519.100086430986},{"$f":"'I-Cenário Base'!M31+SUMIF('II-a) Medidas a implementar'!$C:$C,$A31,'II-a) Medidas a implementar'!J:J)+SUMIF('II-c) Reflexos'!$D:$D,$A31,'II-c) Reflexos'!L:L)","v":20721.099474902217},{"$f":"'I-Cenário Base'!N31+SUMIF('II-a) Medidas a implementar'!$C:$C,$A31,'II-a) Medidas a implementar'!K:K)+SUMIF('II-c) Reflexos'!$D:$D,$A31,'II-c) Reflexos'!M:M)","v":21993.779745899192},{"$f":"'I-Cenário Base'!O31+SUMIF('II-a) Medidas a implementar'!$C:$C,$A31,'II-a) Medidas a implementar'!L:L)+SUMIF('II-c) Reflexos'!$D:$D,$A31,'II-c) Reflexos'!N:N)","v":23346.035375789485},{"$f":"'I-Cenário Base'!P31+SUMIF('II-a) Medidas a implementar'!$C:$C,$A31,'II-a) Medidas a implementar'!M:M)+SUMIF('II-c) Reflexos'!$D:$D,$A31,'II-c) Reflexos'!O:O)","v":24783.038134442726},{"$f":"'I-Cenário Base'!Q31+SUMIF('II-a) Medidas a implementar'!$C:$C,$A31,'II-a) Medidas a implementar'!N:N)+SUMIF('II-c) Reflexos'!$D:$D,$A31,'II-c) Reflexos'!P:P)","v":26314.770511228733}]
["Receitas Primárias Correntes (VIII) = (II-b-c)",{"$f":"B8-B19-B28","v":118100.28259922002},127015.14286833128,135726.77242374967,145382.95564190779,149966.67646397353,158322.9551814294,167348.01075995422,176871.79459996414,189818.95695007395,197436.15577367236,{"$f":"L8-L19-L28","v":208715.13652339563}]
["Receitas de Capital (IX) = (X+XI+XII+XIII+XIV)",{"$f":"B34+B35+B36+B39+B40","v":3353.5533322399997},{"$f":"C34+C35+C36+C39+C40","v":2847.6191128610008},1981.7674482223244,3326.8564617652337,60755.063976884863,1374.3112141288909,1384.303730520533,1401.0444397092078,1380.1548025908432,{"$f":"K34+K35+K36+K39+K40","v":1421.6044145024762},{"$f":"L34+L35+L36+L39+L40","v":1464.3618790418955}]
["Operações de Crédito (X)",{"$f":"'I-Cenário Base'!G34+SUMIF('II-a) Medidas a implementar'!$C:$C,$A34,'II-a) Medidas a implementar'!D:D)+SUMIF('II-c) Reflexos'!$D:$D,$A34,'II-c) Reflexos'!F:F)","v":10.743106289999998},{"$f":"'I-Cenário Base'!H34+SUMIF('II-a) Medidas a implementar'!$C:$C,$A34,'II-a) Medidas a implementar'!E:E)+SUMIF('II-c) Reflexos'!$D:$D,$A34,'II-c) Reflexos'!G:G)","v":24.893275670000016},{"$f":"'I-Cenário Base'!I34+SUMIF('II-a) Medidas a implementar'!$C:$C,$A34,'II-a) Medidas a implementar'!F:F)+SUMIF('II-c) Reflexos'!$D:$D,$A34,'II-c) Reflexos'!H:H)","v":0},{"$f":"'I-Cenário Base'!J34+SUMIF('II-a) Medidas a implementar'!$C:$C,$A34,'II-a) Medidas a implementar'!G:G)+SUMIF('II-c) Reflexos'!$D:$D,$A34,'II-c) Reflexos'!I:I)","v":1310.6326799999999},{"$f":"'I-Cenário Base'!K34+SUMIF('II-a) Medidas a implementar'!$C:$C,$A34,'II-a) Medidas a implementar'!H:H)+SUMIF('II-c) Reflexos'!$D:$D,$A34,'II-c) Reflexos'!J:J)","v":115.87863000000002},{"$f":"'I-Cenário Base'!L34+SUMIF('II-a) Medidas a implementar'!$C:$C,$A34,'II-a) Medidas a implementar'!I:I)+SUMIF('II-c) Reflexos'!$D:$D,$A34,'II-c) Reflexos'!K:K)","v":111.03605999999999},{"$f":"'I-Cenário Base'!M34+SUMIF('II-a) Medidas a implementar'!$C:$C,$A34,'II-a) Medidas a implementar'!J:J)+SUMIF('II-c) Reflexos'!$D:$D,$A34,'II-c) Reflexos'!L:L)","v":83.277044999999987},{"$f":"'I-Cenário Base'!N34+SUMIF('II-a) Medidas a implementar'!$C:$C,$A34,'II-a) Medidas a implementar'!K:K)+SUMIF('II-c) Reflexos'!$D:$D,$A34,'II-c) Reflexos'!M:M)","v":61.069832999999996},{"$f":"'I-Cenário Base'!O34+SUMIF('II-a) Medidas a implementar'!$C:$C,$A34,'II-a) Medidas a implementar'!L:L)+SUMIF('II-c) Reflexos'!$D:$D,$A34,'II-c) Reflexos'!N:N)","v":0},{"$f":"'I-Cenário Base'!P34+SUMIF('II-a) Medidas a implementar'!$C:$C,$A34,'II-a) Medidas a implementar'!M:M)+SUMIF('II-c) Reflexos'!$D:$D,$A34,'II-c) Reflexos'!O:O)","v":0},{"$f":"'I-Cenário Base'!Q34+SUMIF('II-a) Medidas a implementar'!$C:$C,$A34,'II-a) Medidas a implementar'!N:N)+SUMIF('II-c) Reflexos'!$D:$D,$A34,'II-c) Reflexos'!P:P)","v":0}]
["Amortização de Empréstimos (XI)",{"$f":"'I-Cenário Base'!G35+SUMIF('II-a) Medidas a implementar'!$C:$C,$A35,'II-a) Medidas a implementar'!D:D)+SUMIF('II-c) Reflexos'!$D:$D,$A35,'II-c) Reflexos'!F:F)","v":88.079639210000011},{"$f":"'I-Cenário Base'!H35+SUMIF('II-a) Medidas a implementar'!$C:$C,$A35,'II-a) Medidas a implementar'!E:E)+SUMIF('II-c) Reflexos'!$D:$D,$A35,'II-c) Reflexos'!G:G)","v":86.780991095999994},{"$f":"'I-Cenário Base'!I35+SUMIF('II-a) Medidas a implementar'!$C:$C,$A35,'II-a) Medidas a implementar'!F:F)+SUMIF('II-c) Reflexos'!$D:$D,$A35,'II-c) Reflexos'!H:H)","v":88.552030129999991},{"$f":"'I-Cenário Base'!J35+SUMIF('II-a) Medidas a implementar'!$C:$C,$A35,'II-a) Medidas a implementar'!G:G)+SUMIF('II-c) Reflexos'!$D:$D,$A35,'II-c) Reflexos'!I:I)","v":90.417816869964},{"$f":"'I-Cenário Base'!K35+SUMIF('II-a) Medidas a implementar'!$C:$C,$A35,'II-a) Medidas a implementar'!H:H)+SUMIF('II-c) Reflexos'!$D:$D,$A35,'II-c) Reflexos'!J:J)","v":92.379112920323735},{"$f":"'I-Cenário Base'!L35+SUMIF('II-a) Medidas a implementar'!$C:$C,$A35,'II-a) Medidas a implementar'!I:I)+SUMIF('II-c) Reflexos'!$D:$D,$A35,'II-c) Reflexos'!K:K)","v":94.436806774981193},{"$f":"'I-Cenário Base'!M35+SUMIF('II-a) Medidas a implementar'!$C:$C,$A35,'II-a) Medidas a implementar'!J:J)+SUMIF('II-c) Reflexos'!$D:$D,$A35,'II-c) Reflexos'!L:L)","v":96.591912421926011},{"$f":"'I-Cenário Base'!N35+SUMIF('II-a) Medidas a implementar'!$C:$C,$A35,'II-a) Medidas a implementar'!K:K)+SUMIF('II-c) Reflexos'!$D:$D,$A35,'II-c) Reflexos'!M:M)","v":98.845568166094395},{"$f":"'I-Cenário Base'!O35+SUMIF('II-a) Medidas a implementar'!$C:$C,$A35,'II-a) Medidas a implementar'!L:L)+SUMIF('II-c) Reflexos'!$D:$D,$A35,'II-c) Reflexos'!N:N)","v":101.19903566401229},{"$f":"'I-Cenário Base'!P35+SUMIF('II-a) Medidas a implementar'!$C:$C,$A35,'II-a) Medidas a implementar'!M:M)+SUMIF('II-c) Reflexos'!$D:$D,$A35,'II-c) Reflexos'!O:O)","v":103.653699164221},{"$f":"'I-Cenário Base'!Q35+SUMIF('II-a) Medidas a implementar'!$C:$C,$A35,'II-a) Medidas a implementar'!N:N)+SUMIF('II-c) Reflexos'!$D:$D,$A35,'II-c) Reflexos'!P:P)","v":106.21106494792151}]
["Alienação de Bens (XII)",{"$f":"SUM(B37:B38)","v":53.602816189999999},{"$f":"SUM(C37:C38)","v":25.278086000000002},26.591235605374404,27.93305693371132,59029.247138764134,30.627479297491409,32.077579000497103,33.60112862206077,35.202019708146636,{"$f":"SUM(K37:K38)","v":36.884355703010527},{"$f":"SUM(L37:L38)","v":38.652463669671569}]
["Alienação de Bens Não Primária (e)",{"$f":"'I-Cenário Base'!G37+SUMIF('II-a) Medidas a implementar'!$C:$C,$A37,'II-a) Medidas a implementar'!D:D)+SUMIF('II-c) Reflexos'!$D:$D,$A37,'II-c) Reflexos'!F:F)","v":0.22500000000000001},{"$f":"'I-Cenário Base'!H37+SUMIF('II-a) Medidas a implementar'!$C:$C,$A37,'II-a) Medidas a implementar'!E:E)+SUMIF('II-c) Reflexos'!$D:$D,$A37,'II-c) Reflexos'!G:G)","v":0.22500000000000001},{"$f":"'I-Cenário Base'!I37+SUMIF('II-a) Medidas a implementar'!$C:$C,$A37,'II-a) Medidas a implementar'!F:F)+SUMIF('II-c) Reflexos'!$D:$D,$A37,'II-c) Reflexos'!H:H)","v":0.23175000000000001},{"$f":"'I-Cenário Base'!J37+SUMIF('II-a) Medidas a implementar'!$C:$C,$A37,'II-a) Medidas a implementar'!G:G)+SUMIF('II-c) Reflexos'!$D:$D,$A37,'II-c) Reflexos'!I:I)","v":0.23870250000000001},{"$f":"'I-Cenário Base'!K37+SUMIF('II-a) Medidas a implementar'!$C:$C,$A37,'II-a) Medidas a implementar'!H:H)+SUMIF('II-c) Reflexos'!$D:$D,$A37,'II-c) Reflexos'!J:J)","v":59000.245863575001},{"$f":"'I-Cenário Base'!L37+SUMIF('II-a) Medidas a implementar'!$C:$C,$A37,'II-a) Medidas a implementar'!I:I)+SUMIF('II-c) Reflexos'!$D:$D,$A37,'II-c) Reflexos'!K:K)","v":0.25323948225000004},{"$f":"'I-Cenário Base'!M37+SUMIF('II-a) Medidas a implementar'!$C:$C,$A37,'II-a) Medidas a implementar'!J:J)+SUMIF('II-c) Reflexos'!$D:$D,$A37,'II-c) Reflexos'!L:L)","v":0.26083666671750005},{"$f":"'I-Cenário Base'!N37+SUMIF('II-a) Medidas a implementar'!$C:$C,$A37,'II-a) Medidas a implementar'!K:K)+SUMIF('II-c) Reflexos'!$D:$D,$A37,'II-c) Reflexos'!M:M)","v":0.26866176671902503},{"$f":"'I-Cenário Base'!O37+SUMIF('II-a) Medidas a implementar'!$C:$C,$A37,'II-a) Medidas a implementar'!L:L)+SUMIF('II-c) Reflexos'!$D:$D,$A37,'II-c) Reflexos'!N:N)","v":0.27672161972059578},{"$f":"'I-Cenário Base'!P37+SUMIF('II-a) Medidas a implementar'!$C:$C,$A37,'II-a) Medidas a implementar'!M:M)+SUMIF('II-c) Reflexos'!$D:$D,$A37,'II-c) Reflexos'!O:O)","v":0.28502326831221364},{"$f":"'I-Cenário Base'!Q37+SUMIF('II-a) Medidas a implementar'!$C:$C,$A37,'II-a) Medidas a implementar'!N:N)+SUMIF('II-c) Reflexos'!$D:$D,$A37,'II-c) Reflexos'!P:P)","v":0.29357396636158006}]
["Alienação de Bens Primária",{"$f":"'I-Cenário Base'!G38+SUMIF('II-a) Medidas a implementar'!$C:$C,$A38,'II-a) Medidas a implementar'!D:D)+SUMIF('II-c) Reflexos'!$D:$D,$A38,'II-c) Reflexos'!F:F)","v":53.377816189999997},{"$f":"'I-Cenário Base'!H38+SUMIF('II-a) Medidas a implementar'!$C:$C,$A38,'II-a) Medidas a implementar'!E:E)+SUMIF('II-c) Reflexos'!$D:$D,$A38,'II-c) Reflexos'!G:G)","v":25.053086},{"$f":"'I-Cenário Base'!I38+SUMIF('II-a) Medidas a implementar'!$C:$C,$A38,'II-a) Medidas a implementar'!F:F)+SUMIF('II-c) Reflexos'!$D:$D,$A38,'II-c) Reflexos'!H:H)","v":26.359485605374402},{"$f":"'I-Cenário Base'!J38+SUMIF('II-a) Medidas a implementar'!$C:$C,$A38,'II-a) Medidas a implementar'!G:G)+SUMIF('II-c) Reflexos'!$D:$D,$A38,'II-c) Reflexos'!I:I)","v":27.694354433711322},{"$f":"'I-Cenário Base'!K38+SUMIF('II-a) Medidas a implementar'!$C:$C,$A38,'II-a) Medidas a implementar'!H:H)+SUMIF('II-c) Reflexos'!$D:$D,$A38,'II-c) Reflexos'!J:J)","v":29.001275189134947},{"$f":"'I-Cenário Base'!L38+SUMIF('II-a) Medidas a implementar'!$C:$C,$A38,'II-a) Medidas a implementar'!I:I)+SUMIF('II-c) Reflexos'!$D:$D,$A38,'II-c) Reflexos'!K:K)","v":30.37423981524141},{"$f":"'I-Cenário Base'!M38+SUMIF('II-a) Medidas a implementar'!$C:$C,$A38,'II-a) Medidas a implementar'!J:J)+SUMIF('II-c) Reflexos'!$D:$D,$A38,'II-c) Reflexos'!L:L)","v":31.816742333779604},{"$f":"'I-Cenário Base'!N38+SUMIF('II-a) Medidas a implementar'!$C:$C,$A38,'II-a) Medidas a implementar'!K:K)+SUMIF('II-c) Reflexos'!$D:$D,$A38,'II-c) Reflexos'!M:M)","v":33.332466855341742},{"$f":"'I-Cenário Base'!O38+SUMIF('II-a) Medidas a implementar'!$C:$C,$A38,'II-a) Medidas a implementar'!L:L)+SUMIF('II-c) Reflexos'!$D:$D,$A38,'II-c) Reflexos'!N:N)","v":34.92529808842604},{"$f":"'I-Cenário Base'!P38+SUMIF('II-a) Medidas a implementar'!$C:$C,$A38,'II-a) Medidas a implementar'!M:M)+SUMIF('II-c) Reflexos'!$D:$D,$A38,'II-c) Reflexos'!O:O)","v":36.599332434698312},{"$f":"'I-Cenário Base'!Q38+SUMIF('II-a) Medidas a implementar'!$C:$C,$A38,'II-a) Medidas a implementar'!N:N)+SUMIF('II-c) Reflexos'!$D:$D,$A38,'II-c) Reflexos'!P:P)","v":38.358889703309991}]
["Transferências de Capital (XIII)",{"$f":"'I-Cenário Base'!G39+SUMIF('II-a) Medidas a implementar'!$C:$C,$A39,'II-a) Medidas a implementar'!D:D)+SUMIF('II-c) Reflexos'!$D:$D,$A39,'II-c) Reflexos'!F:F)","v":382.48319520000001},{"$f":"'I-Cenário Base'!H39+SUMIF('II-a) Medidas a implementar'!$C:$C,$A39,'II-a) Medidas a implementar'!E:E)+SUMIF('II-c) Reflexos'!$D:$D,$A39,'II-c) Reflexos'!G:G)","v":979.28561406500046},{"$f":"'I-Cenário Base'!I39+SUMIF('II-a) Medidas a implementar'!$C:$C,$A39,'II-a) Medidas a implementar'!F:F)+SUMIF('II-c) Reflexos'!$D:$D,$A39,'II-c) Reflexos'!H:H)","v":1008.6641824869499},{"$f":"'I-Cenário Base'!J39+SUMIF('II-a) Medidas a implementar'!$C:$C,$A39,'II-a) Medidas a implementar'!G:G)+SUMIF('II-c) Reflexos'!$D:$D,$A39,'II-c) Reflexos'!I:I)","v":1038.9241079615583},{"$f":"'I-Cenário Base'!K39+SUMIF('II-a) Medidas a implementar'!$C:$C,$A39,'II-a) Medidas a implementar'!H:H)+SUMIF('II-c) Reflexos'!$D:$D,$A39,'II-c) Reflexos'!J:J)","v":1070.0918312004057},{"$f":"'I-Cenário Base'!L39+SUMIF('II-a) Medidas a implementar'!$C:$C,$A39,'II-a) Medidas a implementar'!I:I)+SUMIF('II-c) Reflexos'!$D:$D,$A39,'II-c) Reflexos'!K:K)","v":1102.1945861364184},{"$f":"'I-Cenário Base'!M39+SUMIF('II-a) Medidas a implementar'!$C:$C,$A39,'II-a) Medidas a implementar'!J:J)+SUMIF('II-c) Reflexos'!$D:$D,$A39,'II-c) Reflexos'!L:L)","v":1135.2604237205098},{"$f":"'I-Cenário Base'!N39+SUMIF('II-a) Medidas a implementar'!$C:$C,$A39,'II-a) Medidas a implementar'!K:K)+SUMIF('II-c) Reflexos'!$D:$D,$A39,'II-c) Reflexos'!M:M)","v":1169.3182364321246},{"$f":"'I-Cenário Base'!O39+SUMIF('II-a) Medidas a implementar'!$C:$C,$A39,'II-a) Medidas a implementar'!L:L)+SUMIF('II-c) Reflexos'!$D:$D,$A39,'II-c) Reflexos'!N:N)","v":1204.3977835250885},{"$f":"'I-Cenário Base'!P39+SUMIF('II-a) Medidas a implementar'!$C:$C,$A39,'II-a) Medidas a implementar'!M:M)+SUMIF('II-c) Reflexos'!$D:$D,$A39,'II-c) Reflexos'!O:O)","v":1240.5297170308409},{"$f":"'I-Cenário Base'!Q39+SUMIF('II-a) Medidas a implementar'!$C:$C,$A39,'II-a) Medidas a implementar'!N:N)+SUMIF('II-c) Reflexos'!$D:$D,$A39,'II-c) Reflexos'!P:P)","v":1277.7456085417664}]
["Outras Receitas de Capital (XIV)",{"$f":"SUM(B41:B42)","v":2818.6445753499997},{"$f":"SUM(C41:C42)","v":1731.3811460300005},857.96,858.94880000000001,447.467264,36.016281920000004,37.096770377600002,38.209673488928004,39.355963693595839,{"$f":"SUM(K41:K42)","v":40.536642604403717},{"$f":"SUM(L41:L42)","v":41.75274188253583}]
["Outras Receitas de Capital Não Primárias (f)",{"$f":"'I-Cenário Base'!G41+SUMIF('II-a) Medidas a implementar'!$C:$C,$A41,'II-a) Medidas a implementar'!D:D)+SUMIF('II-c) Reflexos'!$D:$D,$A41,'II-c) Reflexos'!F:F)","v":0},{"$f":"'I-Cenário Base'!H41+SUMIF('II-a) Medidas a implementar'!$C:$C,$A41,'II-a) Medidas a implementar'!E:E)+SUMIF('II-c) Reflexos'!$D:$D,$A41,'II-c) Reflexos'!G:G)","v":0},{"$f":"'I-Cenário Base'!I41+SUMIF('II-a) Medidas a implementar'!$C:$C,$A41,'II-a) Medidas a implementar'!F:F)+SUMIF('II-c) Reflexos'!$D:$D,$A41,'II-c) Reflexos'!H:H)","v":0},{"$f":"'I-Cenário Base'!J41+SUMIF('II-a) Medidas a implementar'!$C:$C,$A41,'II-a) Medidas a implementar'!G:G)+SUMIF('II-c) Reflexos'!$D:$D,$A41,'II-c) Reflexos'!I:I)","v":0},{"$f":"'I-Cenário Base'!K41+SUMIF('II-a) Medidas a implementar'!$C:$C,$A41,'II-a) Medidas a implementar'!H:H)+SUMIF('II-c) Reflexos'!$D:$D,$A41,'II-c) Reflexos'!J:J)","v":0},{"$f":"'I-Cenário Base'!L41+SUMIF('II-a) Medidas a implementar'!$C:$C,$A41,'II-a) Medidas a implementar'!I:I)+SUMIF('II-c) Reflexos'!$D:$D,$A41,'II-c) Reflexos'!K:K)","v":0},{"$f":"'I-Cenário Base'!M41+SUMIF('II-a) Medidas a implementar'!$C:$C,$A41,'II-a) Medidas a implementar'!J:J)+SUMIF('II-c) Reflexos'!$D:$D,$A41,'II-c) Reflexos'!L:L)","v":0},{"$f":"'I-Cenário Base'!N41+SUMIF('II-a) Medidas a implementar'!$C:$C,$A41,'II-a) Medidas a implementar'!K:K)+SUMIF('II-c) Reflexos'!$D:$D,$A41,'II-c) Reflexos'!M:M)","v":0},{"$f":"'I-Cenário Base'!O41+SUMIF('II-a) Medidas a implementar'!$C:$C,$A41,'II-a) Medidas a implementar'!L:L)+SUMIF('II-c) Reflexos'!$D:$D,$A41,'II-c) Reflexos'!N:N)","v":0},{"$f":"'I-Cenário Base'!P41+SUMIF('II-a) Medidas a implementar'!$C:$C,$A41,'II-a) Medidas a implementar'!M:M)+SUMIF('II-c) Reflexos'!$D:$D,$A41,'II-c) Reflexos'!O:O)","v":0},{"$f":"'I-Cenário Base'!Q41+SUMIF('II-a) Medidas a implementar'!$C:$C,$A41,'II-a) Medidas a implementar'!N:N)+SUMIF('II-c) Reflexos'!$D:$D,$A41,'II-c) Reflexos'!P:P)","v":0}]
["Outras Receitas de Capital Primárias",{"$f":"'I-Cenário Base'!G42+SUMIF('II-a) Medidas a implementar'!$C:$C,$A42,'II-a) Medidas a implementar'!D:D)+SUMIF('II-c) Reflexos'!$D:$D,$A42,'II-c) Reflexos'!F:F)","v":2818.6445753499997},{"$f":"'I-Cenário Base'!H42+SUMIF('II-a) Medidas a implementar'!$C:$C,$A42,'II-a) Medidas a implementar'!E:E)+SUMIF('II-c) Reflexos'!$D:$D,$A42,'II-c) Reflexos'!G:G)","v":1731.3811460300005},{"$f":"'I-Cenário Base'!I42+SUMIF('II-a) Medidas a implementar'!$C:$C,$A42,'II-a) Medidas a implementar'!F:F)+SUMIF('II-c) Reflexos'!$D:$D,$A42,'II-c) Reflexos'!H:H)","v":857.96},{"$f":"'I-Cenário Base'!J42+SUMIF('II-a) Medidas a implementar'!$C:$C,$A42,'II-a) Medidas a implementar'!G:G)+SUMIF('II-c) Reflexos'!$D:$D,$A42,'II-c) Reflexos'!I:I)","v":858.94880000000001},{"$f":"'I-Cenário Base'!K42+SUMIF('II-a) Medidas a implementar'!$C:$C,$A42,'II-a) Medidas a implementar'!H:H)+SUMIF('II-c) Reflexos'!$D:$D,$A42,'II-c) Reflexos'!J:J)","v":447.467264},{"$f":"'I-Cenário Base'!L42+SUMIF('II-a) Medidas a implementar'!$C:$C,$A42,'II-a) Medidas a implementar'!I:I)+SUMIF('II-c) Reflexos'!$D:$D,$A42,'II-c) Reflexos'!K:K)","v":36.016281920000004},{"$f":"'I-Cenário Base'!M42+SUMIF('II-a) Medidas a implementar'!$C:$C,$A42,'II-a) Medidas a implementar'!J:J)+SUMIF('II-c) Reflexos'!$D:$D,$A42,'II-c) Reflexos'!L:L)","v":37.096770377600002},{"$f":"'I-Cenário Base'!N42+SUMIF('II-a) Medidas a implementar'!$C:$C,$A42,'II-a) Medidas a implementar'!K:K)+SUMIF('II-c) Reflexos'!$D:$D,$A42,'II-c) Reflexos'!M:M)","v":38.209673488928004},{"$f":"'I-Cenário Base'!O42+SUMIF('II-a) Medidas a implementar'!$C:$C,$A42,'II-a) Medidas a implementar'!L:L)+SUMIF('II-c) Reflexos'!$D:$D,$A42,'II-c) Reflexos'!N:N)","v":39.355963693595839},{"$f":"'I-Cenário Base'!P42+SUMIF('II-a) Medidas a implementar'!$C:$C,$A42,'II-a) Medidas a implementar'!M:M)+SUMIF('II-c) Reflexos'!$D:$D,$A42,'II-c) Reflexos'!O:O)","v":40.536642604403717},{"$f":"'I-Cenário Base'!Q42+SUMIF('II-a) Medidas a implementar'!$C:$C,$A42,'II-a) Medidas a implementar'!N:N)+SUMIF('II-c) Reflexos'!$D:$D,$A42,'II-c) Reflexos'!P:P)","v":41.75274188253583}]
["Receitas Primárias de Capital (XV) = (IX-X-XI-e-f)",{"$f":"B33-B34-B35-B37-B41","v":3254.5055867399997},{"$f":"C33-C34-C35-C37-C41","v":2735.7198460950008},1892.9836680923245,1925.5672623952696,1546.5603703895395,1168.5851078716598,1204.1739364318894,1240.8603767763943,1278.6790453071105,{"$f":"K33-K34-K35-K37-K41","v":1317.6656920699429},{"$f":"L33-L34-L35-L37-L41","v":1357.8572401276122}]
["RECEITA PRIMÁRIA TOTAL (XVI) = (VIII+XV)",{"$f":"B32+B43","v":121354.78818596002},{"$f":"C32+C43","v":129750.86271442629},137619.75609184199,147308.52290430304,151513.23683436308,159491.54028930105,168552.1846963861,178112.65497674054,191097.63599538105,{"$f":"K32+K43","v":198753.82146574231},{"$f":"L32+L43","v":210072.99376352323}]
["Despesa Orçamentária (XVII) = (XVIII+XXIII)",{"$f":"B46+B58","v":124516.71308997006},129837.40857333881,140616.13218726657,149622.42049014987,215675.77792683168,163401.43482329141,171876.85645585172,178862.98626371767,187617.98947770681,196840.31932265751,{"$f":"L46+L58","v":205650.85273615262}]
["Despesas Correntes (XVIII) = (XIX+XX+XXI)",{"$f":"B47+B52+B53","v":113403.28868751007},{"$f":"C47+C52+C53","v":120976.90561818636},128837.30365100305,135611.90497110732,142616.82495582133,150206.60625149467,157431.95833571185,162902.35292190241,170123.75227259146,{"$f":"K47+K52+K53","v":177502.08192677348},{"$f":"L47+L52+L53","v":187783.14531425969}]
["Pessoal e Encargos Sociais (XIX)",{"$f":"SUM(B48:B51)","v":61655.360551030048},{"$f":"SUM(C48:C51)","v":65453.053915789867},68517.908747424706,71444.686012618564,73612.072055269979,77116.924402725126,79877.230500970982,81004.17733518318,83451.794356681232,{"$f":"SUM(K48:K51)","v":85844.87113287604},{"$f":"SUM(L48:L51)","v":88387.322340591782}]
["Ativo",{"$f":"'I-Cenário Base'!G48+SUMIF('II-a) Medidas a implementar'!$C:$C,$A48,'II-a) Medidas a implementar'!D:D)+SUMIF('II-c) Reflexos'!$D:$D,$A48,'II-c) Reflexos'!F:F)","v":37302.108446110047},{"$f":"'I-Cenário Base'!H48+SUMIF('II-a) Medidas a implementar'!$C:$C,$A48,'II-a) Medidas a implementar'!E:E)+SUMIF('II-c) Reflexos'!$D:$D,$A48,'II-c) Reflexos'!G:G)","v":40101.014043559117},{"$f":"'I-Cenário Base'!I48+SUMIF('II-a) Medidas a implementar'!$C:$C,$A48,'II-a) Medidas a implementar'!F:F)+SUMIF('II-c) Reflexos'!$D:$D,$A48,'II-c) Reflexos'!H:H)","v":42216.054211824587},{"$f":"'I-Cenário Base'!J48+SUMIF('II-a) Medidas a implementar'!$C:$C,$A48,'II-a) Medidas a implementar'!G:G)+SUMIF('II-c) Reflexos'!$D:$D,$A48,'II-c) Reflexos'!I:I)","v":44003.340389171615},{"$f":"'I-Cenário Base'!K48+SUMIF('II-a) Medidas a implementar'!$C:$C,$A48,'II-a) Medidas a implementar'!H:H)+SUMIF('II-c) Reflexos'!$D:$D,$A48,'II-c) Reflexos'!J:J)","v":45149.030777630993},{"$f":"'I-Cenário Base'!L48+SUMIF('II-a) Medidas a implementar'!$C:$C,$A48,'II-a) Medidas a implementar'!I:I)+SUMIF('II-c) Reflexos'!$D:$D,$A48,'II-c) Reflexos'!K:K)","v":47010.887252947679},{"$f":"'I-Cenário Base'!M48+SUMIF('II-a) Medidas a implementar'!$C:$C,$A48,'II-a) Medidas a implementar'!J:J)+SUMIF('II-c) Reflexos'!$D:$D,$A48,'II-c) Reflexos'!L:L)","v":48308.203353146237},{"$f":"'I-Cenário Base'!N48+SUMIF('II-a) Medidas a implementar'!$C:$C,$A48,'II-a) Medidas a implementar'!K:K)+SUMIF('II-c) Reflexos'!$D:$D,$A48,'II-c) Reflexos'!M:M)","v":49622.588279965763},{"$f":"'I-Cenário Base'!O48+SUMIF('II-a) Medidas a implementar'!$C:$C,$A48,'II-a) Medidas a implementar'!L:L)+SUMIF('II-c) Reflexos'!$D:$D,$A48,'II-c) Reflexos'!N:N)","v":51025.490215965663},{"$f":"'I-Cenário Base'!P48+SUMIF('II-a) Medidas a implementar'!$C:$C,$A48,'II-a) Medidas a implementar'!M:M)+SUMIF('II-c) Reflexos'!$D:$D,$A48,'II-c) Reflexos'!O:O)","v":52371.062619662007},{"$f":"'I-Cenário Base'!Q48+SUMIF('II-a) Medidas a implementar'!$C:$C,$A48,'II-a) Medidas a implementar'!N:N)+SUMIF('II-c) Reflexos'!$D:$D,$A48,'II-c) Reflexos'!P:P)","v":53847.05743099533}]
["Inativos e Pensionistas",{"$f":"'I-Cenário Base'!G49+SUMIF('II-a) Medidas a implementar'!$C:$C,$A49,'II-a) Medidas a implementar'!D:D)+SUMIF('II-c) Reflexos'!$D:$D,$A49,'II-c) Reflexos'!F:F)","v":20505.343475369998},{"$f":"'I-Cenário Base'!H49+SUMIF('II-a) Medidas a implementar'!$C:$C,$A49,'II-a) Medidas a implementar'!E:E)+SUMIF('II-c) Reflexos'!$D:$D,$A49,'II-c) Reflexos'!G:G)","v":23189.81470421893},{"$f":"'I-Cenário Base'!I49+SUMIF('II-a) Medidas a implementar'!$C:$C,$A49,'II-a) Medidas a implementar'!F:F)+SUMIF('II-c) Reflexos'!$D:$D,$A49,'II-c) Reflexos'!H:H)","v":24183.240213490953},{"$f":"'I-Cenário Base'!J49+SUMIF('II-a) Medidas a implementar'!$C:$C,$A49,'II-a) Medidas a implementar'!G:G)+SUMIF('II-c) Reflexos'!$D:$D,$A49,'II-c) Reflexos'!I:I)","v":25028.03007446288},{"$f":"'I-Cenário Base'!K49+SUMIF('II-a) Medidas a implementar'!$C:$C,$A49,'II-a) Medidas a implementar'!H:H)+SUMIF('II-c) Reflexos'!$D:$D,$A49,'II-c) Reflexos'!J:J)","v":25816.93902615058},{"$f":"'I-Cenário Base'!L49+SUMIF('II-a) Medidas a implementar'!$C:$C,$A49,'II-a) Medidas a implementar'!I:I)+SUMIF('II-c) Reflexos'!$D:$D,$A49,'II-c) Reflexos'!K:K)","v":27129.312675894183},{"$f":"'I-Cenário Base'!M49+SUMIF('II-a) Medidas a implementar'!$C:$C,$A49,'II-a) Medidas a implementar'!J:J)+SUMIF('II-c) Reflexos'!$D:$D,$A49,'II-c) Reflexos'!L:L)","v":27990.609003277299},{"$f":"'I-Cenário Base'!N49+SUMIF('II-a) Medidas a implementar'!$C:$C,$A49,'II-a) Medidas a implementar'!K:K)+SUMIF('II-c) Reflexos'!$D:$D,$A49,'II-c) Reflexos'!M:M)","v":28847.868831368756},{"$f":"'I-Cenário Base'!O49+SUMIF('II-a) Medidas a implementar'!$C:$C,$A49,'II-a) Medidas a implementar'!L:L)+SUMIF('II-c) Reflexos'!$D:$D,$A49,'II-c) Reflexos'!N:N)","v":29761.313934208829},{"$f":"'I-Cenário Base'!P49+SUMIF('II-a) Medidas a implementar'!$C:$C,$A49,'II-a) Medidas a implementar'!M:M)+SUMIF('II-c) Reflexos'!$D:$D,$A49,'II-c) Reflexos'!O:O)","v":30702.185934452882},{"$f":"'I-Cenário Base'!Q49+SUMIF('II-a) Medidas a implementar'!$C:$C,$A49,'II-a) Medidas a implementar'!N:N)+SUMIF('II-c) Reflexos'!$D:$D,$A49,'II-c) Reflexos'!P:P)","v":31671.03351319729}]
["Sentenças Judiciais - Pessoal",{"$f":"'I-Cenário Base'!G50+SUMIF('II-a) Medidas a implementar'!$C:$C,$A50,'II-a) Medidas a implementar'!D:D)+SUMIF('II-c) Reflexos'!$D:$D,$A50,'II-c) Reflexos'!F:F)","v":865.32678959999987},{"$f":"'I-Cenário Base'!H50+SUMIF('II-a) Medidas a implementar'!$C:$C,$A50,'II-a) Medidas a implementar'!E:E)+SUMIF('II-c) Reflexos'!$D:$D,$A50,'II-c) Reflexos'!G:G)","v":510.27688575999986},{"$f":"'I-Cenário Base'!I50+SUMIF('II-a) Medidas a implementar'!$C:$C,$A50,'II-a) Medidas a implementar'!F:F)+SUMIF('II-c) Reflexos'!$D:$D,$A50,'II-c) Reflexos'!H:H)","v":457.9435147800001},{"$f":"'I-Cenário Base'!J50+SUMIF('II-a) Medidas a implementar'!$C:$C,$A50,'II-a) Medidas a implementar'!G:G)+SUMIF('II-c) Reflexos'!$D:$D,$A50,'II-c) Reflexos'!I:I)","v":587.31276831999992},{"$f":"'I-Cenário Base'!K50+SUMIF('II-a) Medidas a implementar'!$C:$C,$A50,'II-a) Medidas a implementar'!H:H)+SUMIF('II-c) Reflexos'!$D:$D,$A50,'II-c) Reflexos'!J:J)","v":768.0812502600005},{"$f":"'I-Cenário Base'!L50+SUMIF('II-a) Medidas a implementar'!$C:$C,$A50,'II-a) Medidas a implementar'!I:I)+SUMIF('II-c) Reflexos'!$D:$D,$A50,'II-c) Reflexos'!K:K)","v":1046.3397630700001},{"$f":"'I-Cenário Base'!M50+SUMIF('II-a) Medidas a implementar'!$C:$C,$A50,'II-a) Medidas a implementar'!J:J)+SUMIF('II-c) Reflexos'!$D:$D,$A50,'II-c) Reflexos'!L:L)","v":1597.4159104000003},{"$f":"'I-Cenário Base'!N50+SUMIF('II-a) Medidas a implementar'!$C:$C,$A50,'II-a) Medidas a implementar'!K:K)+SUMIF('II-c) Reflexos'!$D:$D,$A50,'II-c) Reflexos'!M:M)","v":501.86557647000012},{"$f":"'I-Cenário Base'!O50+SUMIF('II-a) Medidas a implementar'!$C:$C,$A50,'II-a) Medidas a implementar'!L:L)+SUMIF('II-c) Reflexos'!$D:$D,$A50,'II-c) Reflexos'!N:N)","v":544.50920302999964},{"$f":"'I-Cenário Base'!P50+SUMIF('II-a) Medidas a implementar'!$C:$C,$A50,'II-a) Medidas a implementar'!M:M)+SUMIF('II-c) Reflexos'!$D:$D,$A50,'II-c) Reflexos'!O:O)","v":590.77678470000012},{"$f":"'I-Cenário Base'!Q50+SUMIF('II-a) Medidas a implementar'!$C:$C,$A50,'II-a) Medidas a implementar'!N:N)+SUMIF('II-c) Reflexos'!$D:$D,$A50,'II-c) Reflexos'!P:P)","v":640.97631951999995}]
["Outras Despesas com Pessoal",{"$f":"'I-Cenário Base'!G51+SUMIF('II-a) Medidas a implementar'!$C:$C,$A51,'II-a) Medidas a implementar'!D:D)+SUMIF('II-c) Reflexos'!$D:$D,$A51,'II-c) Reflexos'!F:F)","v":2982.5818399499994},{"$f":"'I-Cenário Base'!H51+SUMIF('II-a) Medidas a implementar'!$C:$C,$A51,'II-a) Medidas a implementar'!E:E)+SUMIF('II-c) Reflexos'!$D:$D,$A51,'II-c) Reflexos'!G:G)","v":1651.9482822518178},{"$f":"'I-Cenário Base'!I51+SUMIF('II-a) Medidas a implementar'!$C:$C,$A51,'II-a) Medidas a implementar'!F:F)+SUMIF('II-c) Reflexos'!$D:$D,$A51,'II-c) Reflexos'!H:H)","v":1660.6708073291697},{"$f":"'I-Cenário Base'!J51+SUMIF('II-a) Medidas a implementar'!$C:$C,$A51,'II-a) Medidas a implementar'!G:G)+SUMIF('II-c) Reflexos'!$D:$D,$A51,'II-c) Reflexos'!I:I)","v":1826.0027806640724},{"$f":"'I-Cenário Base'!K51+SUMIF('II-a) Medidas a implementar'!$C:$C,$A51,'II-a) Medidas a implementar'!H:H)+SUMIF('II-c) Reflexos'!$D:$D,$A51,'II-c) Reflexos'!J:J)","v":1878.0210012284031},{"$f":"'I-Cenário Base'!L51+SUMIF('II-a) Medidas a implementar'!$C:$C,$A51,'II-a) Medidas a implementar'!I:I)+SUMIF('II-c) Reflexos'!$D:$D,$A51,'II-c) Reflexos'!K:K)","v":1930.384710813255},{"$f":"'I-Cenário Base'!M51+SUMIF('II-a) Medidas a implementar'!$C:$C,$A51,'II-a) Medidas a implementar'!J:J)+SUMIF('II-c) Reflexos'!$D:$D,$A51,'II-c) Reflexos'!L:L)","v":1981.0022341474546},{"$f":"'I-Cenário Base'!N51+SUMIF('II-a) Medidas a implementar'!$C:$C,$A51,'II-a) Medidas a implementar'!K:K)+SUMIF('II-c) Reflexos'!$D:$D,$A51,'II-c) Reflexos'!M:M)","v":2031.8546473786712},{"$f":"'I-Cenário Base'!O51+SUMIF('II-a) Medidas a implementar'!$C:$C,$A51,'II-a) Medidas a implementar'!L:L)+SUMIF('II-c) Reflexos'!$D:$D,$A51,'II-c) Reflexos'!N:N)","v":2120.481003476737},{"$f":"'I-Cenário Base'!P51+SUMIF('II-a) Medidas a implementar'!$C:$C,$A51,'II-a) Medidas a implementar'!M:M)+SUMIF('II-c) Reflexos'!$D:$D,$A51,'II-c) Reflexos'!O:O)","v":2180.8457940611356},{"$f":"'I-Cenário Base'!Q51+SUMIF('II-a) Medidas a implementar'!$C:$C,$A51,'II-a) Medidas a implementar'!N:N)+SUMIF('II-c) Reflexos'!$D:$D,$A51,'II-c) Reflexos'!P:P)","v":2228.2550768791598}]
["Juros e Encargos da Dívida (XX)",{"$f":"'I-Cenário Base'!G52+SUMIF('II-a) Medidas a implementar'!$C:$C,$A52,'II-a) Medidas a implementar'!D:D)+SUMIF('II-c) Reflexos'!$D:$D,$A52,'II-c) Reflexos'!F:F)","v":1595.9086516900002},{"$f":"'I-Cenário Base'!H52+SUMIF('II-a) Medidas a implementar'!$C:$C,$A52,'II-a) Medidas a implementar'!E:E)+SUMIF('II-c) Reflexos'!$D:$D,$A52,'II-c) Reflexos'!G:G)","v":1907.2793426700002},{"$f":"'I-Cenário Base'!I52+SUMIF('II-a) Medidas a implementar'!$C:$C,$A52,'II-a) Medidas a implementar'!F:F)+SUMIF('II-c) Reflexos'!$D:$D,$A52,'II-c) Reflexos'!H:H)","v":2791.3377084099998},{"$f":"'I-Cenário Base'!J52+SUMIF('II-a) Medidas a implementar'!$C:$C,$A52,'II-a) Medidas a implementar'!G:G)+SUMIF('II-c) Reflexos'!$D:$D,$A52,'II-c) Reflexos'!I:I)","v":3293.8305125056786},{"$f":"'I-Cenário Base'!K52+SUMIF('II-a) Medidas a implementar'!$C:$C,$A52,'II-a) Medidas a implementar'!H:H)+SUMIF('II-c) Reflexos'!$D:$D,$A52,'II-c) Reflexos'!J:J)","v":3737.5997321319624},{"$f":"'I-Cenário Base'!L52+SUMIF('II-a) Medidas a implementar'!$C:$C,$A52,'II-a) Medidas a implementar'!I:I)+SUMIF('II-c) Reflexos'!$D:$D,$A52,'II-c) Reflexos'!K:K)","v":4049.7627987676078},{"$f":"'I-Cenário Base'!M52+SUMIF('II-a) Medidas a implementar'!$C:$C,$A52,'II-a) Medidas a implementar'!J:J)+SUMIF('II-c) Reflexos'!$D:$D,$A52,'II-c) Reflexos'!L:L)","v":4325.4316797707042},{"$f":"'I-Cenário Base'!N52+SUMIF('II-a) Medidas a implementar'!$C:$C,$A52,'II-a) Medidas a implementar'!K:K)+SUMIF('II-c) Reflexos'!$D:$D,$A52,'II-c) Reflexos'!M:M)","v":4570.2918244530083},{"$f":"'I-Cenário Base'!O52+SUMIF('II-a) Medidas a implementar'!$C:$C,$A52,'II-a) Medidas a implementar'!L:L)+SUMIF('II-c) Reflexos'!$D:$D,$A52,'II-c) Reflexos'!N:N)","v":4786.6854943812377},{"$f":"'I-Cenário Base'!P52+SUMIF('II-a) Medidas a implementar'!$C:$C,$A52,'II-a) Medidas a implementar'!M:M)+SUMIF('II-c) Reflexos'!$D:$D,$A52,'II-c) Reflexos'!O:O)","v":4976.1021305164886},{"$f":"'I-Cenário Base'!Q52+SUMIF('II-a) Medidas a implementar'!$C:$C,$A52,'II-a) Medidas a implementar'!N:N)+SUMIF('II-c) Reflexos'!$D:$D,$A52,'II-c) Reflexos'!P:P)","v":7343.2495740629529}]
["Outras Despesas Correntes (XXI)",{"$f":"SUM(B54:B56)","v":50152.019484790027},{"$f":"SUM(C54:C56)","v":53616.572359726488},{"$f":"SUM(D54:D56)","v":57528.057195168338},60873.388445983066,65267.153168419391,69039.919050001932,73229.296154970172,77327.883762266225,81885.272421529007,{"$f":"SUM(K54:K56)","v":86681.108663380961},{"$f":"SUM(L54:L56)","v":92052.573399604968}]
["Transferências Constitucionais e Legais (g)",{"$f":"'I-Cenário Base'!G54+SUMIF('II-a) Medidas a implementar'!$C:$C,$A54,'II-a) Medidas a implementar'!D:D)+SUMIF('II-c) Reflexos'!$D:$D,$A54,'II-c) Reflexos'!F:F)","v":23759.670755010004},{"$f":"'I-Cenário Base'!H54+SUMIF('II-a) Medidas a implementar'!$C:$C,$A54,'II-a) Medidas a implementar'!E:E)+SUMIF('II-c) Reflexos'!$D:$D,$A54,'II-c) Reflexos'!G:G)","v":25333.463869874817},{"$f":"'I-Cenário Base'!I54+SUMIF('II-a) Medidas a implementar'!$C:$C,$A54,'II-a) Medidas a implementar'!F:F)+SUMIF('II-c) Reflexos'!$D:$D,$A54,'II-c) Reflexos'!H:H)","v":27211.907070236193},{"$f":"'I-Cenário Base'!J54+SUMIF('II-a) Medidas a implementar'!$C:$C,$A54,'II-a) Medidas a implementar'!G:G)+SUMIF('II-c) Reflexos'!$D:$D,$A54,'II-c) Reflexos'!I:I)","v":28648.150942671429},{"$f":"'I-Cenário Base'!K54+SUMIF('II-a) Medidas a implementar'!$C:$C,$A54,'II-a) Medidas a implementar'!H:H)+SUMIF('II-c) Reflexos'!$D:$D,$A54,'II-c) Reflexos'!J:J)","v":30979.876625823908},{"$f":"'I-Cenário Base'!L54+SUMIF('II-a) Medidas a implementar'!$C:$C,$A54,'II-a) Medidas a implementar'!I:I)+SUMIF('II-c) Reflexos'!$D:$D,$A54,'II-c) Reflexos'!K:K)","v":32857.647599309988},{"$f":"'I-Cenário Base'!M54+SUMIF('II-a) Medidas a implementar'!$C:$C,$A54,'II-a) Medidas a implementar'!J:J)+SUMIF('II-c) Reflexos'!$D:$D,$A54,'II-c) Reflexos'!L:L)","v":34934.903524101675},{"$f":"'I-Cenário Base'!N54+SUMIF('II-a) Medidas a implementar'!$C:$C,$A54,'II-a) Medidas a implementar'!K:K)+SUMIF('II-c) Reflexos'!$D:$D,$A54,'II-c) Reflexos'!M:M)","v":37137.254335580808},{"$f":"'I-Cenário Base'!O54+SUMIF('II-a) Medidas a implementar'!$C:$C,$A54,'II-a) Medidas a implementar'!L:L)+SUMIF('II-c) Reflexos'!$D:$D,$A54,'II-c) Reflexos'!N:N)","v":39480.124628176862},{"$f":"'I-Cenário Base'!P54+SUMIF('II-a) Medidas a implementar'!$C:$C,$A54,'II-a) Medidas a implementar'!M:M)+SUMIF('II-c) Reflexos'!$D:$D,$A54,'II-c) Reflexos'!O:O)","v":41972.780274378048},{"$f":"'I-Cenário Base'!Q54+SUMIF('II-a) Medidas a implementar'!$C:$C,$A54,'II-a) Medidas a implementar'!N:N)+SUMIF('II-c) Reflexos'!$D:$D,$A54,'II-c) Reflexos'!P:P)","v":44632.554151159216}]
["Sentenças Judiciais - Outras Correntes",{"$f":"'I-Cenário Base'!G55+SUMIF('II-a) Medidas a implementar'!$C:$C,$A55,'II-a) Medidas a implementar'!D:D)+SUMIF('II-c) Reflexos'!$D:$D,$A55,'II-c) Reflexos'!F:F)","v":507.02795120000008},{"$f":"'I-Cenário Base'!H55+SUMIF('II-a) Medidas a implementar'!$C:$C,$A55,'II-a) Medidas a implementar'!E:E)+SUMIF('II-c) Reflexos'!$D:$D,$A55,'II-c) Reflexos'!G:G)","v":274.06316919},{"$f":"'I-Cenário Base'!I55+SUMIF('II-a) Medidas a implementar'!$C:$C,$A55,'II-a) Medidas a implementar'!F:F)+SUMIF('II-c) Reflexos'!$D:$D,$A55,'II-c) Reflexos'!H:H)","v":271.65351367},{"$f":"'I-Cenário Base'!J55+SUMIF('II-a) Medidas a implementar'!$C:$C,$A55,'II-a) Medidas a implementar'!G:G)+SUMIF('II-c) Reflexos'!$D:$D,$A55,'II-c) Reflexos'!I:I)","v":297.93132264000008},{"$f":"'I-Cenário Base'!K55+SUMIF('II-a) Medidas a implementar'!$C:$C,$A55,'II-a) Medidas a implementar'!H:H)+SUMIF('II-c) Reflexos'!$D:$D,$A55,'II-c) Reflexos'!J:J)","v":332.44864588000002},{"$f":"'I-Cenário Base'!L55+SUMIF('II-a) Medidas a implementar'!$C:$C,$A55,'II-a) Medidas a implementar'!I:I)+SUMIF('II-c) Reflexos'!$D:$D,$A55,'II-c) Reflexos'!K:K)","v":382.44248247000002},{"$f":"'I-Cenário Base'!M55+SUMIF('II-a) Medidas a implementar'!$C:$C,$A55,'II-a) Medidas a implementar'!J:J)+SUMIF('II-c) Reflexos'!$D:$D,$A55,'II-c) Reflexos'!L:L)","v":475.43598509999987},{"$f":"'I-Cenário Base'!N55+SUMIF('II-a) Medidas a implementar'!$C:$C,$A55,'II-a) Medidas a implementar'!K:K)+SUMIF('II-c) Reflexos'!$D:$D,$A55,'II-c) Reflexos'!M:M)","v":310.24456617429991},{"$f":"'I-Cenário Base'!O55+SUMIF('II-a) Medidas a implementar'!$C:$C,$A55,'II-a) Medidas a implementar'!L:L)+SUMIF('II-c) Reflexos'!$D:$D,$A55,'II-c) Reflexos'!N:N)","v":324.02241290222901},{"$f":"'I-Cenário Base'!P55+SUMIF('II-a) Medidas a implementar'!$C:$C,$A55,'II-a) Medidas a implementar'!M:M)+SUMIF('II-c) Reflexos'!$D:$D,$A55,'II-c) Reflexos'!O:O)","v":338.44613436889597},{"$f":"'I-Cenário Base'!Q55+SUMIF('II-a) Medidas a implementar'!$C:$C,$A55,'II-a) Medidas a implementar'!N:N)+SUMIF('II-c) Reflexos'!$D:$D,$A55,'II-c) Reflexos'!P:P)","v":353.74799822596282}]
["Demais Despesas Correntes",{"$f":"'I-Cenário Base'!G56+SUMIF('II-a) Medidas a implementar'!$C:$C,$A56,'II-a) Medidas a implementar'!D:D)+SUMIF('II-c) Reflexos'!$D:$D,$A56,'II-c) Reflexos'!F:F)","v":25885.320778580026},{"$f":"'I-Cenário Base'!H56+SUMIF('II-a) Medidas a implementar'!$C:$C,$A56,'II-a) Medidas a implementar'!E:E)+SUMIF('II-c) Reflexos'!$D:$D,$A56,'II-c) Reflexos'!G:G)","v":28009.045320661669},{"$f":"'I-Cenário Base'!I56+SUMIF('II-a) Medidas a implementar'!$C:$C,$A56,'II-a) Medidas a implementar'!F:F)+SUMIF('II-c) Reflexos'!$D:$D,$A56,'II-c) Reflexos'!H:H)","v":30044.496611262148},{"$f":"'I-Cenário Base'!J56+SUMIF('II-a) Medidas a implementar'!$C:$C,$A56,'II-a) Medidas a implementar'!G:G)+SUMIF('II-c) Reflexos'!$D:$D,$A56,'II-c) Reflexos'!I:I)","v":31927.306180671636},{"$f":"'I-Cenário Base'!K56+SUMIF('II-a) Medidas a implementar'!$C:$C,$A56,'II-a) Medidas a implementar'!H:H)+SUMIF('II-c) Reflexos'!$D:$D,$A56,'II-c) Reflexos'!J:J)","v":33954.827896715484},{"$f":"'I-Cenário Base'!L56+SUMIF('II-a) Medidas a implementar'!$C:$C,$A56,'II-a) Medidas a implementar'!I:I)+SUMIF('II-c) Reflexos'!$D:$D,$A56,'II-c) Reflexos'!K:K)","v":35799.82896822194},{"$f":"'I-Cenário Base'!M56+SUMIF('II-a) Medidas a implementar'!$C:$C,$A56,'II-a) Medidas a implementar'!J:J)+SUMIF('II-c) Reflexos'!$D:$D,$A56,'II-c) Reflexos'!L:L)","v":37818.9566457685},{"$f":"'I-Cenário Base'!N56+SUMIF('II-a) Medidas a implementar'!$C:$C,$A56,'II-a) Medidas a implementar'!K:K)+SUMIF('II-c) Reflexos'!$D:$D,$A56,'II-c) Reflexos'!M:M)","v":39880.384860511112},{"$f":"'I-Cenário Base'!O56+SUMIF('II-a) Medidas a implementar'!$C:$C,$A56,'II-a) Medidas a implementar'!L:L)+SUMIF('II-c) Reflexos'!$D:$D,$A56,'II-c) Reflexos'!N:N)","v":42081.125380449914},{"$f":"'I-Cenário Base'!P56+SUMIF('II-a) Medidas a implementar'!$C:$C,$A56,'II-a) Medidas a implementar'!M:M)+SUMIF('II-c) Reflexos'!$D:$D,$A56,'II-c) Reflexos'!O:O)","v":44369.882254634023},{"$f":"'I-Cenário Base'!Q56+SUMIF('II-a) Medidas a implementar'!$C:$C,$A56,'II-a) Medidas a implementar'!N:N)+SUMIF('II-c) Reflexos'!$D:$D,$A56,'II-c) Reflexos'!P:P)","v":47066.271250219797}]
["Despesas Primárias Correntes (XXII) = (XVIII-XX-h)",{"$f":"B46-B52","v":111807.38003582007},119069.62627551636,126045.96594259304,132318.07445860165,138879.22522368937,146156.84345272707,153106.52665594115,158332.06109744939,165337.06677821022,172525.97979625699,{"$f":"L46-L52","v":180439.89574019675}]
["Despesas de Capital (XXIII) = (XXIV+XXV+XXVI)",{"$f":"B59+B62+B66","v":11113.424402459996},{"$f":"C59+C62+C66","v":8860.5029551524512},11778.828536263525,14010.515519042545,73058.952971010367,13194.828571796736,14444.898120139878,15960.633341815272,17494.237205115351,{"$f":"K59+K62+K66","v":19338.237395884033},{"$f":"L59+L62+L66","v":17867.707421892945}]
["Investimentos (XXIV)",{"$f":"SUM(B60:B61)","v":7220.1632784299945},{"$f":"SUM(C60:C61)","v":6038.08083775245},6791.3688306435242,7641.122057202545,7717.2492300173662,7409.2293203129457,7795.6503583306412,8262.1318092004094,8711.1967959092253,{"$f":"SUM(K60:K61)","v":9261.4375111260324},{"$f":"SUM(L60:L61)","v":9983.9707960157139}]
["Sentenças Judiciais - Investimentos",{"$f":"'I-Cenário Base'!G60+SUMIF('II-a) Medidas a implementar'!$C:$C,$A60,'II-a) Medidas a implementar'!D:D)+SUMIF('II-c) Reflexos'!$D:$D,$A60,'II-c) Reflexos'!F:F)","v":0.72244967000000004},{"$f":"'I-Cenário Base'!H60+SUMIF('II-a) Medidas a implementar'!$C:$C,$A60,'II-a) Medidas a implementar'!E:E)+SUMIF('II-c) Reflexos'!$D:$D,$A60,'II-c) Reflexos'!G:G)","v":3.0791145000000002},{"$f":"'I-Cenário Base'!I60+SUMIF('II-a) Medidas a implementar'!$C:$C,$A60,'II-a) Medidas a implementar'!F:F)+SUMIF('II-c) Reflexos'!$D:$D,$A60,'II-c) Reflexos'!H:H)","v":2.9196212900000003},{"$f":"'I-Cenário Base'!J60+SUMIF('II-a) Medidas a implementar'!$C:$C,$A60,'II-a) Medidas a implementar'!G:G)+SUMIF('II-c) Reflexos'!$D:$D,$A60,'II-c) Reflexos'!I:I)","v":3.4377012199999997},{"$f":"'I-Cenário Base'!K60+SUMIF('II-a) Medidas a implementar'!$C:$C,$A60,'II-a) Medidas a implementar'!H:H)+SUMIF('II-c) Reflexos'!$D:$D,$A60,'II-c) Reflexos'!J:J)","v":4.1482414800000003},{"$f":"'I-Cenário Base'!L60+SUMIF('II-a) Medidas a implementar'!$C:$C,$A60,'II-a) Medidas a implementar'!I:I)+SUMIF('II-c) Reflexos'!$D:$D,$A60,'II-c) Reflexos'!K:K)","v":5.2228371899999999},{"$f":"'I-Cenário Base'!M60+SUMIF('II-a) Medidas a implementar'!$C:$C,$A60,'II-a) Medidas a implementar'!J:J)+SUMIF('II-c) Reflexos'!$D:$D,$A60,'II-c) Reflexos'!L:L)","v":7.3143830600000008},{"$f":"'I-Cenário Base'!N60+SUMIF('II-a) Medidas a implementar'!$C:$C,$A60,'II-a) Medidas a implementar'!K:K)+SUMIF('II-c) Reflexos'!$D:$D,$A60,'II-c) Reflexos'!M:M)","v":3.2764147399999999},{"$f":"'I-Cenário Base'!O60+SUMIF('II-a) Medidas a implementar'!$C:$C,$A60,'II-a) Medidas a implementar'!L:L)+SUMIF('II-c) Reflexos'!$D:$D,$A60,'II-c) Reflexos'!N:N)","v":3.4773885300000003},{"$f":"'I-Cenário Base'!P60+SUMIF('II-a) Medidas a implementar'!$C:$C,$A60,'II-a) Medidas a implementar'!M:M)+SUMIF('II-c) Reflexos'!$D:$D,$A60,'II-c) Reflexos'!O:O)","v":3.6931194500000002},{"$f":"'I-Cenário Base'!Q60+SUMIF('II-a) Medidas a implementar'!$C:$C,$A60,'II-a) Medidas a implementar'!N:N)+SUMIF('II-c) Reflexos'!$D:$D,$A60,'II-c) Reflexos'!P:P)","v":3.9247920700000001}]
["Demais Investimentos",{"$f":"'I-Cenário Base'!G61+SUMIF('II-a) Medidas a implementar'!$C:$C,$A61,'II-a) Medidas a implementar'!D:D)+SUMIF('II-c) Reflexos'!$D:$D,$A61,'II-c) Reflexos'!F:F)","v":7219.4408287599945},{"$f":"'I-Cenário Base'!H61+SUMIF('II-a) Medidas a implementar'!$C:$C,$A61,'II-a) Medidas a implementar'!E:E)+SUMIF('II-c) Reflexos'!$D:$D,$A61,'II-c) Reflexos'!G:G)","v":6035.0017232524497},{"$f":"'I-Cenário Base'!I61+SUMIF('II-a) Medidas a implementar'!$C:$C,$A61,'II-a) Medidas a implementar'!F:F)+SUMIF('II-c) Reflexos'!$D:$D,$A61,'II-c) Reflexos'!H:H)","v":6788.4492093535246},{"$f":"'I-Cenário Base'!J61+SUMIF('II-a) Medidas a implementar'!$C:$C,$A61,'II-a) Medidas a implementar'!G:G)+SUMIF('II-c) Reflexos'!$D:$D,$A61,'II-c) Reflexos'!I:I)","v":7637.6843559825447},{"$f":"'I-Cenário Base'!K61+SUMIF('II-a) Medidas a implementar'!$C:$C,$A61,'II-a) Medidas a implementar'!H:H)+SUMIF('II-c) Reflexos'!$D:$D,$A61,'II-c) Reflexos'!J:J)","v":7713.100988537366},{"$f":"'I-Cenário Base'!L61+SUMIF('II-a) Medidas a implementar'!$C:$C,$A61,'II-a) Medidas a implementar'!I:I)+SUMIF('II-c) Reflexos'!$D:$D,$A61,'II-c) Reflexos'!K:K)","v":7404.0064831229456},{"$f":"'I-Cenário Base'!M61+SUMIF('II-a) Medidas a implementar'!$C:$C,$A61,'II-a) Medidas a implementar'!J:J)+SUMIF('II-c) Reflexos'!$D:$D,$A61,'II-c) Reflexos'!L:L)","v":7788.335975270641},{"$f":"'I-Cenário Base'!N61+SUMIF('II-a) Medidas a implementar'!$C:$C,$A61,'II-a) Medidas a implementar'!K:K)+SUMIF('II-c) Reflexos'!$D:$D,$A61,'II-c) Reflexos'!M:M)","v":8258.85539446041},{"$f":"'I-Cenário Base'!O61+SUMIF('II-a) Medidas a implementar'!$C:$C,$A61,'II-a) Medidas a implementar'!L:L)+SUMIF('II-c) Reflexos'!$D:$D,$A61,'II-c) Reflexos'!N:N)","v":8707.7194073792252},{"$f":"'I-Cenário Base'!P61+SUMIF('II-a) Medidas a implementar'!$C:$C,$A61,'II-a) Medidas a implementar'!M:M)+SUMIF('II-c) Reflexos'!$D:$D,$A61,'II-c) Reflexos'!O:O)","v":9257.744391676033},{"$f":"'I-Cenário Base'!Q61+SUMIF('II-a) Medidas a implementar'!$C:$C,$A61,'II-a) Medidas a implementar'!N:N)+SUMIF('II-c) Reflexos'!$D:$D,$A61,'II-c) Reflexos'!P:P)","v":9980.0460039457139}]
["Inversões Financeiras (XXV)",{"$f":"SUM(B63:B65)","v":1802.2389693500002},{"$f":"SUM(C63:C65)","v":1957.1318899100002},2546.3853787999997,2445.1255715700008,2300.8125486899999,733.72553039859986,858.73729627915782,884.49941518823221,911.03439761237917,{"$f":"SUM(K63:K65)","v":1077.243792022751},{"$f":"SUM(L63:L65)","v":702.9204476383336}]
["Inversões Financeiras Não Primárias (h) 1)",{"$f":"'I-Cenário Base'!G63+SUMIF('II-a) Medidas a implementar'!$C:$C,$A63,'II-a) Medidas a implementar'!D:D)+SUMIF('II-c) Reflexos'!$D:$D,$A63,'II-c) Reflexos'!F:F)","v":9.6793543399999997},{"$f":"'I-Cenário Base'!H63+SUMIF('II-a) Medidas a implementar'!$C:$C,$A63,'II-a) Medidas a implementar'!E:E)+SUMIF('II-c) Reflexos'!$D:$D,$A63,'II-c) Reflexos'!G:G)","v":28.948999999999998},{"$f":"'I-Cenário Base'!I63+SUMIF('II-a) Medidas a implementar'!$C:$C,$A63,'II-a) Medidas a implementar'!F:F)+SUMIF('II-c) Reflexos'!$D:$D,$A63,'II-c) Reflexos'!H:H)","v":29.963965000000002},{"$f":"'I-Cenário Base'!J63+SUMIF('II-a) Medidas a implementar'!$C:$C,$A63,'II-a) Medidas a implementar'!G:G)+SUMIF('II-c) Reflexos'!$D:$D,$A63,'II-c) Reflexos'!I:I)","v":31.009754000000001},{"$f":"'I-Cenário Base'!K63+SUMIF('II-a) Medidas a implementar'!$C:$C,$A63,'II-a) Medidas a implementar'!H:H)+SUMIF('II-c) Reflexos'!$D:$D,$A63,'II-c) Reflexos'!J:J)","v":31.94004662},{"$f":"'I-Cenário Base'!L63+SUMIF('II-a) Medidas a implementar'!$C:$C,$A63,'II-a) Medidas a implementar'!I:I)+SUMIF('II-c) Reflexos'!$D:$D,$A63,'II-c) Reflexos'!K:K)","v":32.8982480186},{"$f":"'I-Cenário Base'!M63+SUMIF('II-a) Medidas a implementar'!$C:$C,$A63,'II-a) Medidas a implementar'!J:J)+SUMIF('II-c) Reflexos'!$D:$D,$A63,'II-c) Reflexos'!L:L)","v":33.885195459157998},{"$f":"'I-Cenário Base'!N63+SUMIF('II-a) Medidas a implementar'!$C:$C,$A63,'II-a) Medidas a implementar'!K:K)+SUMIF('II-c) Reflexos'!$D:$D,$A63,'II-c) Reflexos'!M:M)","v":34.901751322932739},{"$f":"'I-Cenário Base'!O63+SUMIF('II-a) Medidas a implementar'!$C:$C,$A63,'II-a) Medidas a implementar'!L:L)+SUMIF('II-c) Reflexos'!$D:$D,$A63,'II-c) Reflexos'!N:N)","v":35.948803862620721},{"$f":"'I-Cenário Base'!P63+SUMIF('II-a) Medidas a implementar'!$C:$C,$A63,'II-a) Medidas a implementar'!M:M)+SUMIF('II-c) Reflexos'!$D:$D,$A63,'II-c) Reflexos'!O:O)","v":37.027267978499346},{"$f":"'I-Cenário Base'!Q63+SUMIF('II-a) Medidas a implementar'!$C:$C,$A63,'II-a) Medidas a implementar'!N:N)+SUMIF('II-c) Reflexos'!$D:$D,$A63,'II-c) Reflexos'!P:P)","v":38.138086017854327}]
["Sentenças Judiciais - Inversões",{"$f":"'I-Cenário Base'!G64+SUMIF('II-a) Medidas a implementar'!$C:$C,$A64,'II-a) Medidas a implementar'!D:D)+SUMIF('II-c) Reflexos'!$D:$D,$A64,'II-c) Reflexos'!F:F)","v":0},{"$f":"'I-Cenário Base'!H64+SUMIF('II-a) Medidas a implementar'!$C:$C,$A64,'II-a) Medidas a implementar'!E:E)+SUMIF('II-c) Reflexos'!$D:$D,$A64,'II-c) Reflexos'!G:G)","v":0},{"$f":"'I-Cenário Base'!I64+SUMIF('II-a) Medidas a implementar'!$C:$C,$A64,'II-a) Medidas a implementar'!F:F)+SUMIF('II-c) Reflexos'!$D:$D,$A64,'II-c) Reflexos'!H:H)","v":0},{"$f":"'I-Cenário Base'!J64+SUMIF('II-a) Medidas a implementar'!$C:$C,$A64,'II-a) Medidas a implementar'!G:G)+SUMIF('II-c) Reflexos'!$D:$D,$A64,'II-c) Reflexos'!I:I)","v":0},{"$f":"'I-Cenário Base'!K64+SUMIF('II-a) Medidas a implementar'!$C:$C,$A64,'II-a) Medidas a implementar'!H:H)+SUMIF('II-c) Reflexos'!$D:$D,$A64,'II-c) Reflexos'!J:J)","v":0},{"$f":"'I-Cenário Base'!L64+SUMIF('II-a) Medidas a implementar'!$C:$C,$A64,'II-a) Medidas a implementar'!I:I)+SUMIF('II-c) Reflexos'!$D:$D,$A64,'II-c) Reflexos'!K:K)","v":0},{"$f":"'I-Cenário Base'!M64+SUMIF('II-a) Medidas a implementar'!$C:$C,$A64,'II-a) Medidas a implementar'!J:J)+SUMIF('II-c) Reflexos'!$D:$D,$A64,'II-c) Reflexos'!L:L)","v":0},{"$f":"'I-Cenário Base'!N64+SUMIF('II-a) Medidas a implementar'!$C:$C,$A64,'II-a) Medidas a implementar'!K:K)+SUMIF('II-c) Reflexos'!$D:$D,$A64,'II-c) Reflexos'!M:M)","v":0},{"$f":"'I-Cenário Base'!O64+SUMIF('II-a) Medidas a implementar'!$C:$C,$A64,'II-a) Medidas a implementar'!L:L)+SUMIF('II-c) Reflexos'!$D:$D,$A64,'II-c) Reflexos'!N:N)","v":0},{"$f":"'I-Cenário Base'!P64+SUMIF('II-a) Medidas a implementar'!$C:$C,$A64,'II-a) Medidas a implementar'!M:M)+SUMIF('II-c) Reflexos'!$D:$D,$A64,'II-c) Reflexos'!O:O)","v":0},{"$f":"'I-Cenário Base'!Q64+SUMIF('II-a) Medidas a implementar'!$C:$C,$A64,'II-a) Medidas a implementar'!N:N)+SUMIF('II-c) Reflexos'!$D:$D,$A64,'II-c) Reflexos'!P:P)","v":0}]
["Demais Inversões Financeiras Primárias",{"$f":"'I-Cenário Base'!G65+SUMIF('II-a) Medidas a implementar'!$C:$C,$A65,'II-a) Medidas a implementar'!D:D)+SUMIF('II-c) Reflexos'!$D:$D,$A65,'II-c) Reflexos'!F:F)","v":1792.5596150100002},{"$f":"'I-Cenário Base'!H65+SUMIF('II-a) Medidas a implementar'!$C:$C,$A65,'II-a) Medidas a implementar'!E:E)+SUMIF('II-c) Reflexos'!$D:$D,$A65,'II-c) Reflexos'!G:G)","v":1928.1828899100001},{"$f":"'I-Cenário Base'!I65+SUMIF('II-a) Medidas a implementar'!$C:$C,$A65,'II-a) Medidas a implementar'!F:F)+SUMIF('II-c) Reflexos'!$D:$D,$A65,'II-c) Reflexos'!H:H)","v":2516.4214137999998},{"$f":"'I-Cenário Base'!J65+SUMIF('II-a) Medidas a implementar'!$C:$C,$A65,'II-a) Medidas a implementar'!G:G)+SUMIF('II-c) Reflexos'!$D:$D,$A65,'II-c) Reflexos'!I:I)","v":2414.1158175700007},{"$f":"'I-Cenário Base'!K65+SUMIF('II-a) Medidas a implementar'!$C:$C,$A65,'II-a) Medidas a implementar'!H:H)+SUMIF('II-c) Reflexos'!$D:$D,$A65,'II-c) Reflexos'!J:J)","v":2268.8725020699999},{"$f":"'I-Cenário Base'!L65+SUMIF('II-a) Medidas a implementar'!$C:$C,$A65,'II-a) Medidas a implementar'!I:I)+SUMIF('II-c) Reflexos'!$D:$D,$A65,'II-c) Reflexos'!K:K)","v":700.82728237999982},{"$f":"'I-Cenário Base'!M65+SUMIF('II-a) Medidas a implementar'!$C:$C,$A65,'II-a) Medidas a implementar'!J:J)+SUMIF('II-c) Reflexos'!$D:$D,$A65,'II-c) Reflexos'!L:L)","v":824.85210081999981},{"$f":"'I-Cenário Base'!N65+SUMIF('II-a) Medidas a implementar'!$C:$C,$A65,'II-a) Medidas a implementar'!K:K)+SUMIF('II-c) Reflexos'!$D:$D,$A65,'II-c) Reflexos'!M:M)","v":849.59766386529952},{"$f":"'I-Cenário Base'!O65+SUMIF('II-a) Medidas a implementar'!$C:$C,$A65,'II-a) Medidas a implementar'!L:L)+SUMIF('II-c) Reflexos'!$D:$D,$A65,'II-c) Reflexos'!N:N)","v":875.08559374975846},{"$f":"'I-Cenário Base'!P65+SUMIF('II-a) Medidas a implementar'!$C:$C,$A65,'II-a) Medidas a implementar'!M:M)+SUMIF('II-c) Reflexos'!$D:$D,$A65,'II-c) Reflexos'!O:O)","v":1040.2165240442516},{"$f":"'I-Cenário Base'!Q65+SUMIF('II-a) Medidas a implementar'!$C:$C,$A65,'II-a) Medidas a implementar'!N:N)+SUMIF('II-c) Reflexos'!$D:$D,$A65,'II-c) Reflexos'!P:P)","v":664.78236162047926}]
["Amortização da Dívida (XXVI)",{"$f":"'I-Cenário Base'!G66+SUMIF('II-a) Medidas a implementar'!$C:$C,$A66,'II-a) Medidas a implementar'!D:D)+SUMIF('II-c) Reflexos'!$D:$D,$A66,'II-c) Reflexos'!F:F)","v":2091.0221546799999},{"$f":"'I-Cenário Base'!H66+SUMIF('II-a) Medidas a implementar'!$C:$C,$A66,'II-a) Medidas a implementar'!E:E)+SUMIF('II-c) Reflexos'!$D:$D,$A66,'II-c) Reflexos'!G:G)","v":865.29022749000012},{"$f":"'I-Cenário Base'!I66+SUMIF('II-a) Medidas a implementar'!$C:$C,$A66,'II-a) Medidas a implementar'!F:F)+SUMIF('II-c) Reflexos'!$D:$D,$A66,'II-c) Reflexos'!H:H)","v":2441.0743268200013},{"$f":"'I-Cenário Base'!J66+SUMIF('II-a) Medidas a implementar'!$C:$C,$A66,'II-a) Medidas a implementar'!G:G)+SUMIF('II-c) Reflexos'!$D:$D,$A66,'II-c) Reflexos'!I:I)","v":3924.2678902699995},{"$f":"'I-Cenário Base'!K66+SUMIF('II-a) Medidas a implementar'!$C:$C,$A66,'II-a) Medidas a implementar'!H:H)+SUMIF('II-c) Reflexos'!$D:$D,$A66,'II-c) Reflexos'!J:J)","v":63040.891192303003},{"$f":"'I-Cenário Base'!L66+SUMIF('II-a) Medidas a implementar'!$C:$C,$A66,'II-a) Medidas a implementar'!I:I)+SUMIF('II-c) Reflexos'!$D:$D,$A66,'II-c) Reflexos'!K:K)","v":5051.8737210851905},{"$f":"'I-Cenário Base'!M66+SUMIF('II-a) Medidas a implementar'!$C:$C,$A66,'II-a) Medidas a implementar'!J:J)+SUMIF('II-c) Reflexos'!$D:$D,$A66,'II-c) Reflexos'!L:L)","v":5790.5104655300775},{"$f":"'I-Cenário Base'!N66+SUMIF('II-a) Medidas a implementar'!$C:$C,$A66,'II-a) Medidas a implementar'!K:K)+SUMIF('II-c) Reflexos'!$D:$D,$A66,'II-c) Reflexos'!M:M)","v":6814.0021174266294},{"$f":"'I-Cenário Base'!O66+SUMIF('II-a) Medidas a implementar'!$C:$C,$A66,'II-a) Medidas a implementar'!L:L)+SUMIF('II-c) Reflexos'!$D:$D,$A66,'II-c) Reflexos'!N:N)","v":7872.0060115937449},{"$f":"'I-Cenário Base'!P66+SUMIF('II-a) Medidas a implementar'!$C:$C,$A66,'II-a) Medidas a implementar'!M:M)+SUMIF('II-c) Reflexos'!$D:$D,$A66,'II-c) Reflexos'!O:O)","v":8999.5560927352471},{"$f":"'I-Cenário Base'!Q66+SUMIF('II-a) Medidas a implementar'!$C:$C,$A66,'II-a) Medidas a implementar'!N:N)+SUMIF('II-c) Reflexos'!$D:$D,$A66,'II-c) Reflexos'!P:P)","v":7180.8161782388979}]
["Despesas Primárias de Capital (XXVII) = (XXIII-h-XXVI)",{"$f":"B58-B63-B66","v":9012.7228934399955},{"$f":"C58-C63-C66","v":7966.2637276624509},9307.790244443524,10055.237874772545,9986.121732087362,8110.0566026929446,8620.5024591506444,9111.7294730657104,9586.2823896589834,{"$f":"K58-K63-K66","v":10301.654035170288},{"$f":"L58-L63-L66","v":10648.753157636193}]
["DESPESA PRIMÁRIA ORÇAMENTÁRIA (XXVIII) = (XXII+XXVII)",{"$f":"B57+B67","v":120820.10292926006},{"$f":"C57+C67","v":127035.89000317881},135353.75618703658,142373.3123333742,148865.34695577674,154266.90005542,161727.02911509181,167443.79057051509,174923.34916786919,{"$f":"K57+K67","v":182827.63383142729},{"$f":"L57+L67","v":191088.64889783293}]
["Receitas Correntes Intraorçamentárias (exceto fonte RPPS) (XXIX)",{"$f":"'I-Cenário Base'!G69","v":3914.2392489700001},{"$f":"'I-Cenário Base'!H69","v":3902.4061734300003},{"$f":"'I-Cenário Base'!I69","v":4033.4763631712244},{"$f":"'I-Cenário Base'!J69","v":4162.3482474235461},{"$f":"'I-Cenário Base'!K69","v":4281.6413605545522},{"$f":"'I-Cenário Base'!L69","v":4460.1557893377867},{"$f":"'I-Cenário Base'!M69","v":4587.507301302121},{"$f":"'I-Cenário Base'!N69","v":4718.3291176135854},{"$f":"'I-Cenário Base'!O69","v":4852.7197969729941},{"$f":"'I-Cenário Base'!P69","v":4990.7807107036833},{"$f":"'I-Cenário Base'!Q69","v":5132.6161239196927}]
["RECEITA CORRENTE LÍQUIDA (XXX) = (II-a-d-g-XXIX)",{"$f":"B8-B16-B29-B54-B69","v":92113.467957050016},{"$f":"C8-C16-C29-C54-C69","v":98939.280076338808},105317.39453891369,113230.50123538599,115328.41964109804,121415.20859033916,128054.87343100888,135062.49759849536,145346.16949205121,150255.11134692351,{"$f":"L8-L16-L29-L54-L69","v":158632.84662997775}]
["RESTOS A PAGAR"]
["Inscrições de Restos a Pagar (XXXI) = (i+l)",{"$f":"SUM(B73,B76)","v":10888.836950670007},{"$f":"SUM(C73,C76)","v":10167.136656926883},13514.159469874578,12737.877158604679,23704.097018205008,16386.032813233989,16735.979666335981,15134.962450114534,15220.672887718079,{"$f":"SUM(K73,K76)","v":16080.666905769598},{"$f":"SUM(L73,L76)","v":17165.70252014096}]
["Inscrição de RAP Processados (i)",{"$f":"SUM(B74:B75)","v":5290.9366497299998},{"$f":"SUM(C74:C75)","v":6291.8858937378563},7571.1737702169703,7431.1629028065463,10676.608616466488,8956.0451937649086,9198.7108706163945,8778.0188391032352,8856.3946139106265,{"$f":"SUM(K74:K75)","v":9263.7257430927457},{"$f":"SUM(L74:L75)","v":9861.8905818120584}]
["Inscrição de RAP Processados Primários (j)",4284.2959560599993,6197.2821843808997,7455.5613756786079,7303.9326148344289,10055.410471305593,8790.4786606288417,9025.3786115239473,8600.7117867147463,8672.5975908750843,9067.9004975349508,9663.5250229598696]
["Inscrição de RAP Processados Não Primários (k)",1006.64069367,94.603709356956486,115.61239453836251,127.23028797211694,621.19814516089582,165.56653313606691,173.33225909244632,177.30705238848876,183.79702303554154,195.82524555779457,198.36555885218812]
["Inscrição de RAP Não Processados (l)",{"$f":"SUM(B77:B78)","v":5597.9003009400067},{"$f":"SUM(C77:C78)","v":3875.2507631890262},5942.9856996576073,5306.7142557981333,13027.488401738519,7429.9876194690814,7537.2687957195858,6356.9436110112983,6364.278273807452,{"$f":"SUM(K77:K78)","v":6816.9411626768533},{"$f":"SUM(L77:L78)","v":7303.8119383289004}]
["Inscrição de RAP Não Processados Primários (m)",5595.8815009400068,3792.5146750915173,5810.0857564290582,5177.023131248865,11759.78835007489,7212.3579828962365,7313.5211298110908,6161.0894023087612,6167.8160651341113,6602.8935534708044,7082.7680083398036]
["Inscrição de RAP Não Processados Não Primários (n)",2.0188000000000001,82.736088097508784,132.89994322854901,129.69112454926824,1267.700051663629,217.62963657284499,223.74766590849495,195.85420870253753,196.4622086733408,214.04760920604897,221.04392998909665]
["Cancelamentos  de Restos a Pagar (XXXII) = (o+p)",{"$f":"SUM(B80:B81)","v":4342.7763288400147},{"$f":"SUM(C80:C81)","v":1449.1956269137779},1353.1445137991652,1798.599877460143,1695.2844420430783,3154.7789625601454,2180.8175843741374,2227.3920212460589,2014.3125933079104,{"$f":"SUM(K80:K81)","v":2025.7197979448533},{"$f":"SUM(L80:L81)","v":2140.1764268557258}]
["Cancelamento de RAP Processados (o)",615.50279369000032,704.17091281679586,837.38727685553101,1007.6477375967689,989.01368717514936,1420.9501517332599,1191.9603156926396,1224.256697692703,1168.2667829655099,1178.6978171173919,1232.9095289642066]
["Cancelamento de RAP Não Processados (p)",3727.2735351500141,745.02471409698205,515.75723694363421,790.95213986337421,706.2707548679291,1733.8288108268853,988.857268681498,1003.135323553356,846.0458103424005,847.02198082746133,907.26689789151919]
["Liquidação de Restos a Pagar Não Processados (XXXIII)",3612.1795307399948,5713.1258994962582,5204.5624627381339,5354.2771436895791,8649.3915228518072,8173.5323197553635,6758.8180191790325,5886.4947634018963,5793.8340264133976,5692.3296104516685,6663.9559481084116]
["Pagamento de Restos a Pagar Primário (XXXIV)",7260.4486863399943,12813.848043546737,13051.046920603165,12129.231964175277,20490.782362422338,12223.300302028663,14622.434576382984,12892.112364524621,13643.934169245029,13444.775282071098,15487.746817937112]
["Pagamento de Restos a Pagar Não Primário (XXXV)",1846.6427728000003,201.48060963670116,111.11671598556671,132.69787666118262,222.54309083030918,818.86664625746482,216.68495932252986,188.30937668205232,181.01744770240629,175.71947668733893,209.24397094059162]
["ESTOQUE DE RESTOS A PAGAR (XXXVI) = (XXXVII+XXXVIII)",{"$f":"SUM(B86:B87)","v":20296.99707737998},{"$f":"SUM(C86:C87)","v":15999.609454209643},14998.460773696326,13675.808214004403,14971.295336913689,15160.382239301405,14876.424785557731,14703.573473219531,14084.982150682259,{"$f":"SUM(K86:K87)","v":14519.434499748568},{"$f":"SUM(L86:L87)","v":13847.969804156099}]
["Estoque de RAP Processados (XXXVII) = XXXVII(t-1) + (i-o+XXXIII-XXXIV-XXXV)",{"$f":"'I-Cenário Base'!F86+B73-B80+B82-B83-B84","v":11387.556311440012},{"$f":"B86+C73-C80+C82-C83-C84","v":9673.0685386738915},{"$f":"C86+D73-D80+D82-D83-D84","v":8449.253858184733},7965.1163262476293,5588.7773251381304,8255.2377386390144,8181.6867770362851,8541.5219406420383,8198.532181053115,8355.3949587216994,7951.3411708002586]
["Estoque de RAP Não Processados (XXXVIII) = XXXVIII(t-1) + (l-p-XXXIII)",{"$f":"'I-Cenário Base'!F87+B76-B81-B82","v":8909.4407659399676},{"$f":"B87+C76-C81-C82","v":6326.5409155357529},{"$f":"C87+D76-D81-D82","v":6549.2069155115923},5710.6918877567723,9382.5180117755572,6905.1445006623899,6694.7380085214445,6162.0515325774913,5886.449969629145,6164.0395410268684,5896.6286333558392]
["ESTOQUE DE RESTOS A PAGAR / RECEITA CORRENTE LÍQUIDA (XXXVI/XXX)",{"$f":"IFERROR(B85/B$70,0)","v":0.22034776811186735},{"$f":"IFERROR(C85/C$70,0)","v":0.1617113995762329},0.14241199983498024,0.12077848340152482,0.12981444975578743,0.1248639475673371,0.11617226574022257,0.10886496055277547,9.6906455807578396E-2,{"$f":"IFERROR(K85/K$70,0)","v":9.6631884064327739E-2},{"$f":"IFERROR(L85/L$70,0)","v":8.7295727829038203E-2}]
["RAP Processados / RCL (XXXVII/XXX)",{"$f":"IFERROR(B86/B$70,0)","v":0.12362531304053949},{"$f":"IFERROR(C86/C$70,0)","v":9.7767727147503189E-2},8.0226575060806507E-2,7.0344264481259994E-2,4.845967145418624E-2,6.7991793075055276E-2,6.3892037513466976E-2,6.3241255659536935E-2,5.6406936692621139E-2,{"$f":"IFERROR(K86/K$70,0)","v":5.5608058080832648E-2},{"$f":"IFERROR(L86/L$70,0)","v":5.0124178817438234E-2}]
["RAP Não Processados / RCL (XXXVIII/XXX)",{"$f":"IFERROR(B87/B$70,0)","v":9.6722455071327845E-2},{"$f":"IFERROR(C87/C$70,0)","v":6.3943672428729711E-2},6.2185424774173728E-2,5.0434218920264812E-2,8.1354778301601177E-2,5.6872154492281807E-2,5.2280228226755592E-2,4.562370489323854E-2,4.0499519114957257E-2,{"$f":"IFERROR(K87/K$70,0)","v":4.1023825983495091E-2},{"$f":"IFERROR(L87/L$70,0)","v":3.7171549011599969E-2}]
["DESPESA PRIMÁRIA (XXXIX) = (XXVIII-j-m+XXXIV)",{"$f":"B68-B74-B77+B83","v":118200.37415860004},{"$f":"C68-C74-C77+C83","v":129859.94118725312},135139.15597553208,142021.58855146618,147540.93049681859,150487.36371392358,160010.56395013974,165574.10174601621,173726.86968110505,{"$f":"K68-K74-K77+K83","v":180601.61506249261},{"$f":"L68-L74-L77+L83","v":189830.10268447039}]
["Demais Despesas Primárias (XL) 2)",{"$f":"'I-Cenário Base'!G92+SUMIF('II-a) Medidas a implementar'!$C:$C,$A92,'II-a) Medidas a implementar'!D:D)+SUMIF('II-c) Reflexos'!$D:$D,$A92,'II-c) Reflexos'!F:F)","v":0},{"$f":"'I-Cenário Base'!H92+SUMIF('II-a) Medidas a implementar'!$C:$C,$A92,'II-a) Medidas a implementar'!E:E)+SUMIF('II-c) Reflexos'!$D:$D,$A92,'II-c) Reflexos'!G:G)","v":0},{"$f":"'I-Cenário Base'!I92+SUMIF('II-a) Medidas a implementar'!$C:$C,$A92,'II-a) Medidas a implementar'!F:F)+SUMIF('II-c) Reflexos'!$D:$D,$A92,'II-c) Reflexos'!H:H)","v":0},{"$f":"'I-Cenário Base'!J92+SUMIF('II-a) Medidas a implementar'!$C:$C,$A92,'II-a) Medidas a implementar'!G:G)+SUMIF('II-c) Reflexos'!$D:$D,$A92,'II-c) Reflexos'!I:I)","v":0},{"$f":"'I-Cenário Base'!K92+SUMIF('II-a) Medidas a implementar'!$C:$C,$A92,'II-a) Medidas a implementar'!H:H)+SUMIF('II-c) Reflexos'!$D:$D,$A92,'II-c) Reflexos'!J:J)","v":0},{"$f":"'I-Cenário Base'!L92+SUMIF('II-a) Medidas a implementar'!$C:$C,$A92,'II-a) Medidas a implementar'!I:I)+SUMIF('II-c) Reflexos'!$D:$D,$A92,'II-c) Reflexos'!K:K)","v":0},{"$f":"'I-Cenário Base'!M92+SUMIF('II-a) Medidas a implementar'!$C:$C,$A92,'II-a) Medidas a implementar'!J:J)+SUMIF('II-c) Reflexos'!$D:$D,$A92,'II-c) Reflexos'!L:L)","v":0},{"$f":"'I-Cenário Base'!N92+SUMIF('II-a) Medidas a implementar'!$C:$C,$A92,'II-a) Medidas a implementar'!K:K)+SUMIF('II-c) Reflexos'!$D:$D,$A92,'II-c) Reflexos'!M:M)","v":0},{"$f":"'I-Cenário Base'!O92+SUMIF('II-a) Medidas a implementar'!$C:$C,$A92,'II-a) Medidas a implementar'!L:L)+SUMIF('II-c) Reflexos'!$D:$D,$A92,'II-c) Reflexos'!N:N)","v":0},{"$f":"'I-Cenário Base'!P92+SUMIF('II-a) Medidas a implementar'!$C:$C,$A92,'II-a) Medidas a implementar'!M:M)+SUMIF('II-c) Reflexos'!$D:$D,$A92,'II-c) Reflexos'!O:O)","v":0},{"$f":"'I-Cenário Base'!Q92+SUMIF('II-a) Medidas a implementar'!$C:$C,$A92,'II-a) Medidas a implementar'!N:N)+SUMIF('II-c) Reflexos'!$D:$D,$A92,'II-c) Reflexos'!P:P)","v":0}]
["DESPESA PRIMÁRIA TOTAL (XLI) = (XXXIX+XL)",{"$f":"B91+B92","v":118200.37415860004},{"$f":"C91+C92","v":129859.94118725312},135139.15597553208,142021.58855146618,147540.93049681859,150487.36371392358,160010.56395013974,165574.10174601621,173726.86968110505,{"$f":"K91+K92","v":180601.61506249261},{"$f":"L91+L92","v":189830.10268447039}]
["RESULTADO PRIMÁRIO"]
["RESULTADO PRIMÁRIO (XLII) = (XVI-XLI)",{"$f":"B44-B93","v":3154.4140273599769},-109.0784728268336,2480.6001163099136,5286.9343528368627,3972.3063375444908,9004.1765753774671,8541.6207462463644,12538.553230724327,17370.766314275999,18152.2064032497,{"$f":"L44-L93","v":20242.891079052846}]
["Juros e Encargos da Dívida (XX)",{"$f":"B52","v":1595.9086516900002},1907.2793426700002,2791.3377084099998,3293.8305125056786,3737.5997321319624,4049.7627987676078,4325.4316797707042,4570.2918244530083,4786.6854943812377,4976.1021305164886,{"$f":"L52","v":7343.2495740629529}]
["Amortização da Dívida (XXVI)",{"$f":"B66","v":2091.0221546799999},865.29022749000012,2441.0743268200013,3924.2678902699995,63040.891192303003,5051.8737210851905,5790.5104655300775,6814.0021174266294,7872.0060115937449,{"$f":"K66","v":8999.5560927352471},{"$f":"L66","v":7180.8161782388979}]
["Inversões Financeiras Não Primárias (h) 1)",{"$f":"B63","v":9.6793543399999997},28.948999999999998,29.963965000000002,31.009754000000001,31.94004662,32.8982480186,33.885195459157998,34.901751322932739,35.948803862620721,37.027267978499346,{"$f":"L63","v":38.138086017854327}]
["Receita de Aplicações Financeiras (b)",{"$f":"B19","v":3365.391154829998},2817.0845384033664,2549.6698705076378,2430.5567188642758,2456.9785006812463,2353.826579834295,2241.011632307398,2128.7362666233162,2016.0801583045868,2015.0984626237744,{"$f":"L19","v":1995.1354818598613}]
["Outras Receitas Financeiras (c)",{"$f":"B28","v":5.697469260000001},5.7540500000000003,5.9266114999999999,6.1043498449999998,6.2874203403499997,6.4759829505605007,6.6702024390773156,6.8702485122496357,7.0762959676171242,7.2885248466456387,{"$f":"L28","v":7.5071205920450073}]
["Outras Receitas de Capital Não Primárias (f)",{"$f":"B41","v":0},0,0,0,0,0,0,0,0,0,{"$f":"L41","v":0}]
["Amortização de Empréstimos (XI)",{"$f":"B35","v":88.079639210000011},86.780991095999994,88.552030129999991,90.417816869964,92.379112920323735,94.436806774981193,96.591912421926011,98.845568166094395,101.19903566401229,103.653699164221,{"$f":"L35","v":106.21106494792151}]
["Despesa Financeira Líquida (XLIII) = (XX+XXVI+h-k-n+XXXV-b-c-f-XI)",{"$f":"B96+B97+B98-B75-B78+B84-B99-B100-B101-B102","v":1075.4251765400024},-83.960197157130565,2480.831866311019,4597.8057353362365,62588.430831118829,7115.4658748601169,7625.1586279131261,8999.8917254919343,10371.043035894909,11652.491426519087,{"$f":"L96+L97+L98-L75-L78+L84-L99-L100-L101-L102","v":12243.184653019183}]
["NECESSIDADE DE FINANCIAMENTO (XLIV) = (XLIII-XLII)",{"$f":"B103-B95","v":-2078.9888508199747},25.118275669703038,0.23175000110541077,-689.12861750062621,58616.124493574338,-1888.7107005173502,-916.46211833323832,-3538.6615052323923,-6999.7232783810905,-6499.7149767306128,{"$f":"L103-L95","v":-7999.7064260336629}]
["Operações de Crédito (X)",{"$f":"B34","v":10.743106289999998},24.893275670000016,0,1310.6326799999999,115.87863000000002,111.03605999999999,83.277044999999987,61.069832999999996,0,0,{"$f":"L34","v":0}]
["Alienação de Bens Não Primária (e)",{"$f":"B37","v":0.22500000000000001},0.22500000000000001,0.23175000000000001,0.23870250000000001,59000.245863575001,0.25323948225000004,0.26083666671750005,0.26866176671902503,0.27672161972059578,0.28502326831221364,{"$f":"L37","v":0.29357396636158006}]
["Fontes de Financiamento (XLV) = (X+e)",{"$f":"B105+B106","v":10.968106289999998},{"$f":"C105+C106","v":25.118275670000017},0.23175000000000001,1310.8713825,59116.124493575,111.28929948224999,83.537881666717482,61.338494766719023,0.27672161972059578,{"$f":"K105+K106","v":0.28502326831221364},{"$f":"L105+L106","v":0.29357396636158006}]
["Outros Fluxos de Caixa (XLVI)",{"$f":"'I-Cenário Base'!G108+SUMIF('II-a) Medidas a implementar'!$C:$C,$A108,'II-a) Medidas a implementar'!D:D)+SUMIF('II-c) Reflexos'!$D:$D,$A108,'II-c) Reflexos'!F:F)","v":0},{"$f":"'I-Cenário Base'!H108+SUMIF('II-a) Medidas a implementar'!$C:$C,$A108,'II-a) Medidas a implementar'!E:E)+SUMIF('II-c) Reflexos'!$D:$D,$A108,'II-c) Reflexos'!G:G)","v":0},{"$f":"'I-Cenário Base'!I108+SUMIF('II-a) Medidas a implementar'!$C:$C,$A108,'II-a) Medidas a implementar'!F:F)+SUMIF('II-c) Reflexos'!$D:$D,$A108,'II-c) Reflexos'!H:H)","v":0},{"$f":"'I-Cenário Base'!J108+SUMIF('II-a) Medidas a implementar'!$C:$C,$A108,'II-a) Medidas a implementar'!G:G)+SUMIF('II-c) Reflexos'!$D:$D,$A108,'II-c) Reflexos'!I:I)","v":0},{"$f":"'I-Cenário Base'!K108+SUMIF('II-a) Medidas a implementar'!$C:$C,$A108,'II-a) Medidas a implementar'!H:H)+SUMIF('II-c) Reflexos'!$D:$D,$A108,'II-c) Reflexos'!J:J)","v":0},{"$f":"'I-Cenário Base'!L108+SUMIF('II-a) Medidas a implementar'!$C:$C,$A108,'II-a) Medidas a implementar'!I:I)+SUMIF('II-c) Reflexos'!$D:$D,$A108,'II-c) Reflexos'!K:K)","v":0},{"$f":"'I-Cenário Base'!M108+SUMIF('II-a) Medidas a implementar'!$C:$C,$A108,'II-a) Medidas a implementar'!J:J)+SUMIF('II-c) Reflexos'!$D:$D,$A108,'II-c) Reflexos'!L:L)","v":0},{"$f":"'I-Cenário Base'!N108+SUMIF('II-a) Medidas a implementar'!$C:$C,$A108,'II-a) Medidas a implementar'!K:K)+SUMIF('II-c) Reflexos'!$D:$D,$A108,'II-c) Reflexos'!M:M)","v":0},{"$f":"'I-Cenário Base'!O108+SUMIF('II-a) Medidas a implementar'!$C:$C,$A108,'II-a) Medidas a implementar'!L:L)+SUMIF('II-c) Reflexos'!$D:$D,$A108,'II-c) Reflexos'!N:N)","v":0},{"$f":"'I-Cenário Base'!P108+SUMIF('II-a) Medidas a implementar'!$C:$C,$A108,'II-a) Medidas a implementar'!M:M)+SUMIF('II-c) Reflexos'!$D:$D,$A108,'II-c) Reflexos'!O:O)","v":0},{"$f":"'I-Cenário Base'!Q108+SUMIF('II-a) Medidas a implementar'!$C:$C,$A108,'II-a) Medidas a implementar'!N:N)+SUMIF('II-c) Reflexos'!$D:$D,$A108,'II-c) Reflexos'!P:P)","v":0}]
["FLUXO DE CAIXA (XLVII) = (XLV-XLIV+XLVI)",{"$f":"B107-B104+B108","v":2089.9569571099746},{"$f":"C107-C104+C108","v":2.9697844183829147E-10},{"$f":"D107-D104+D108","v":-1.1054107629249188E-9},2000.0000000006262,500.00000000066211,1999.9999999996003,999.99999999995578,3599.9999999991114,7000.0000000008113,{"$f":"K107-K104+K108","v":6499.999999998925},{"$f":"L107-L104+L108","v":8000.0000000000246}]
["1) Corresponde ao somatório de Concessão de Empréstimos e Financiamentos, Aquisição de Título de Capital já Integralizado e Aquisição de Título de Crédito."]
["2) As Demais Despesas Primárias são despesas que compõem o resultado primário por caixa, mas não transitam pelo orçamento."]

{"sheet":"IV-Verificações","index":6,"n_rows":48,"n_cols":13,"rows_kept":48,"cut":false,"hidden":false,"merged":[]}
["PLANO DE RECUPERAÇÃO FISCAL",null,null,"Ano-Base para a limitação de despesas:",2023]
["Anexo IV - Verificação das condições de equilíbrio e do cumprimento da limitação de despesas"]
[]
["Receitas arrecadadas, brutas do repasse para o Fundeb\nDespesas empenhadas e transferências a Municípios"]
[null,"(Ano-Base)",2023,2024,2025,2026,2027,2028,2029,2030,2031,2032,2033]
["VERIFICAÇÃO DE CUMPRIMENTO DA LIMITAÇÃO DE DESPESAS DO INCISO V DO § 1º DO ART. 2º DA LC 159"]
["Despesa Primária Total (XLI)",{"$f":"IF($E$1=2017,'I-Cenário Base'!#REF!,IF($E$1=2018,'I-Cenário Base'!B68,IF($E$1=2019,'I-Cenário Base'!C68,IF($E$1=2020,'I-Cenário Base'!D68,IF($E$1=2021,'I-Cenário Base'!E68,IF($E$1=2022,'I-Cenário Base'!F68,IF($E$1=2023,'I-Cenário Base'!G68,\"\")))))))","v":120820.10292926006},{"$f":"'III-Cenário Ajustado'!B68","v":120820.10292926006},{"$f":"'III-Cenário Ajustado'!C68","v":127035.89000317881},{"$f":"'III-Cenário Ajustado'!D68","v":135353.75618703658},{"$f":"'III-Cenário Ajustado'!E68","v":142373.3123333742},{"$f":"'III-Cenário Ajustado'!F68","v":148865.34695577674},{"$f":"'III-Cenário Ajustado'!G68","v":154266.90005542},{"$f":"'III-Cenário Ajustado'!H68","v":161727.02911509181},{"$f":"'III-Cenário Ajustado'!I68","v":167443.79057051509},{"$f":"'III-Cenário Ajustado'!J68","v":174923.34916786919},{"$f":"'III-Cenário Ajustado'!K68","v":182827.63383142729},{"$f":"'III-Cenário Ajustado'!L68","v":191088.64889783293}]
["Despesas primárias intraorçamentárias (exceto fontes RPPS) (q)",9671.1798429999981,9671.1798429999981,10583.181233159992,10978.302791479964,11380.140490750036,11786.441759299922,12379.501510949958,12827.599300000013,13295.991460400015,13785.795271190058,14298.197325640012,14834.458085630013]
["Despesas primárias orçamentárias (fonte RPPS) (r)",9646.5426549799995,9646.5426549799995,10437.19773966,10865.007502639997,11311.041186750001,11771.025751139998,12418.217304420003,12934.893539590003,13478.66473067,14051.175118780004,14654.175897699999,15289.53237386]
["Despesas primárias para fins de apuração do cumprimento da limitação de crescimento (s) = (XL) - (q) + (r)",{"$f":"B7-B8+B9","v":120795.46574124007},{"$f":"C7-C8+C9","v":120795.46574124007},{"$f":"D7-D8+D9","v":126889.90650967881},{"$f":"E7-E8+E9","v":135240.46089819662},142304.21302937416,148849.93094761681,154305.61584889004,161834.32335468181,167626.46384078506,175188.72901545913,183183.61240348726,191543.72318606294]
["Despesas não consideradas como primárias (Portaria STN nº 217, Art. 19, inciso II) (t)",{"$f":"SUM(B12:B15)","v":1838.8116517200003},1838.8116517200003,1903.3836855500008,2789.8721329199998,3073.7610802700001,2900.0976524700004,1770.7554932300009,2424.6896532799997,1176.4186811342995,1249.5498772322287,1326.9656603088968,1375.446061925963]
["Sentenças judiciais",1374.3195730900004,1374.3195730900004,787.41916945000071,732.51664974000005,888.68179217999977,1104.6781376200004,1434.0050827300008,2080.1662785599997,815.38655738429964,872.00900446222875,932.9160385188967,998.64910981596302]
["Recomposição de fundos de reserva de depósitos judiciais e administrativos"]
["Despesas com a quitação de passivos (parcelamentos INSS e Pasep)",464.49207862999998,464.49207862999998,319.44558839000007,297.06637340999998,313.73591032000002,331.46620079000002,336.75041049999999,344.52337472000005,361.03212374999993,377.54087276999996,394.04962179000006,376.79695211000001]
["Devolução de depósitos judiciais e administrativos",null,null,796.51892771000007,1760.2891097699999,1871.34337777,1463.9533140600001,0,0,0,0,0,0]
["Despesas primárias custeadas por empresas estatais consideradas não dependentes no ano base para apuração do limite de despesas (u)"]
["Despesas não incluídas no cálculo da limitação de despesas (v)",{"$f":"SUM(B18:B22)","v":28642.548615580006},{"$f":"SUM(C18:C22)","v":28642.548615580006},{"$f":"SUM(D18:D22)","v":34066.635415995072},{"$f":"SUM(E18:E22)","v":37691.842489332681},40197.859175377424,44086.274520713072,47420.495097187355,51101.874881533979,55022.599470648471,59213.489861747788,63693.248002561944,68497.268868319967]
["Transferências constitucionais para os Municípios (LCP 159, Art. 2º, §4º, inciso I)",23759.670755010004,{"$f":"'III-Cenário Ajustado'!B54","v":23759.670755010004},{"$f":"'III-Cenário Ajustado'!C54","v":25333.463869874817},{"$f":"'III-Cenário Ajustado'!D54","v":27211.907070236193},{"$f":"'III-Cenário Ajustado'!E54","v":28648.150942671429},{"$f":"'III-Cenário Ajustado'!F54","v":30979.876625823908},{"$f":"'III-Cenário Ajustado'!G54","v":32857.647599309988},{"$f":"'III-Cenário Ajustado'!H54","v":34934.903524101675},{"$f":"'III-Cenário Ajustado'!I54","v":37137.254335580808},{"$f":"'III-Cenário Ajustado'!J54","v":39480.124628176862},{"$f":"'III-Cenário Ajustado'!K54","v":41972.780274378048},{"$f":"'III-Cenário Ajustado'!L54","v":44632.554151159216}]
["Despesas custeadas com recursos de emendas (LCP 159, Art. 2º, §4º, inciso II)",141.51046041000004,141.51046041000004,247.82570557000005,255.26047671999999,262.91829101000002,270.80583972999995,278.93001497999995,287.29791537,295.91685284999994,304.79435847000008,313.93818926,323.35633484999988]
["Despesas em saúde e educação em função da variação da base de cálculo dos mínimos (LCP 159, Art. 2º, §4º, inciso IV)",null,null,1652.9922221802597,3110.4644541064913,3869.0698160259972,5195.274827439167,6414.4511421673815,7774.1392085123061,9240.3489740576624,10828.918380150924,12548.787225633903,14417.784167200745]
["Despesas custeadas com recursos de transf. da União com aplicações vinculadas (LCP 159, Art. 2º, §4º, inciso V)",2643.3397822900001,2643.3397822900001,3400.6867963199988,3502.8288985600002,3607.9917976699994,3716.2970498300001,3827.7255574699993,3942.5412268500004,4061.19651127,4183.1332141299999,4308.7274541099996,4438.0889101199991]
["Despesas de fundos públicos especiais (ADI 6930)",2098.0276178700001,2098.0276178700001,3431.6668220499987,3611.3815897099998,3809.7283279999997,3924.02017789,4041.7407832599961,4162.9930066999987,4287.8827968900023,4416.5192808199972,4549.014859179998,4685.4853049900012]
["DESPESA PRIMÁRIA PARA APURAÇÃO DA LIMITAÇÃO DE DESPESAS = (s) - (t) - (u) - (v)",{"$f":"B10-B11-B16-B17","v":90314.105473940072},{"$f":"C10-C11-C16-C17","v":90314.105473940072},90919.887408133742,94758.746275943937,99032.592773726748,101863.55877443374,105114.36525847268,108307.75881986784,111427.44568900228,114725.68927647911,118163.39874061642,121671.00825581701]
["LIMITAÇÃO DE DESPESAS",null,{"$f":"IF($E$1<2022,$B23*PRODUCT('V-Parâmetros'!$L7:M7),IF($E$1=2022,$B23*PRODUCT('V-Parâmetros'!$M7:M7),$B23))","v":90314.105473940072},{"$f":"IF($E$1<2022,$B23*PRODUCT('V-Parâmetros'!$L7:N7),IF($E$1=2022,$B23*PRODUCT('V-Parâmetros'!$M7:N7),$B23*PRODUCT('V-Parâmetros'!$N7:N7)))","v":93520.256218264956},{"$f":"IF($E$1<2022,$B23*PRODUCT('V-Parâmetros'!$L7:O7),IF($E$1=2022,$B23*PRODUCT('V-Parâmetros'!$M7:O7),$B23*PRODUCT('V-Parâmetros'!$N7:O7)))","v":96325.863904812912},{"$f":"IF($E$1<2022,$B23*PRODUCT('V-Parâmetros'!$L7:P7),IF($E$1=2022,$B23*PRODUCT('V-Parâmetros'!$M7:P7),$B23*PRODUCT('V-Parâmetros'!$N7:P7)))","v":99215.639821957317},{"$f":"IF($E$1<2022,$B23*PRODUCT('V-Parâmetros'!$L7:Q7),IF($E$1=2022,$B23*PRODUCT('V-Parâmetros'!$M7:Q7),$B23*PRODUCT('V-Parâmetros'!$N7:Q7)))","v":102192.10901661603},{"$f":"IF($E$1<2022,$B23*PRODUCT('V-Parâmetros'!$L7:R7),IF($E$1=2022,$B23*PRODUCT('V-Parâmetros'!$M7:R7),$B23*PRODUCT('V-Parâmetros'!$N7:R7)))","v":105257.8722871145},{"$f":"IF($E$1<2022,$B23*PRODUCT('V-Parâmetros'!$L7:S7),IF($E$1=2022,$B23*PRODUCT('V-Parâmetros'!$M7:S7),$B23*PRODUCT('V-Parâmetros'!$N7:S7)))","v":108415.60845572792},{"$f":"IF($E$1<2022,$B23*PRODUCT('V-Parâmetros'!$L7:T7),IF($E$1=2022,$B23*PRODUCT('V-Parâmetros'!$M7:T7),$B23*PRODUCT('V-Parâmetros'!$N7:T7)))","v":111668.07670939977},{"$f":"IF($E$1<2022,$B23*PRODUCT('V-Parâmetros'!$L7:U7),IF($E$1=2022,$B23*PRODUCT('V-Parâmetros'!$M7:U7),$B23*PRODUCT('V-Parâmetros'!$N7:U7)))","v":115018.11901068177},{"$f":"IF($E$1<2022,$B23*PRODUCT('V-Parâmetros'!$L7:V7),IF($E$1=2022,$B23*PRODUCT('V-Parâmetros'!$M7:V7),$B23*PRODUCT('V-Parâmetros'!$N7:V7)))","v":118468.66258100224},{"$f":"IF($E$1<2022,$B23*PRODUCT('V-Parâmetros'!$L7:W7),IF($E$1=2022,$B23*PRODUCT('V-Parâmetros'!$M7:W7),$B23*PRODUCT('V-Parâmetros'!$N7:W7)))","v":122022.7224584323}]
["VERIFICAÇÃO DO EQUILÍBRIO"]
["Critério I: Resultado primário e serviço da dívida"]
["Resultado Primário",null,{"$f":"'III-Cenário Ajustado'!B95","v":3154.4140273599769},{"$f":"'III-Cenário Ajustado'!C95","v":-109.0784728268336},{"$f":"'III-Cenário Ajustado'!D95","v":2480.6001163099136},{"$f":"'III-Cenário Ajustado'!E95","v":5286.9343528368627},{"$f":"'III-Cenário Ajustado'!F95","v":3972.3063375444908},{"$f":"'III-Cenário Ajustado'!G95","v":9004.1765753774671},{"$f":"'III-Cenário Ajustado'!H95","v":8541.6207462463644},{"$f":"'III-Cenário Ajustado'!I95","v":12538.553230724327},{"$f":"'III-Cenário Ajustado'!J95","v":17370.766314275999},{"$f":"'III-Cenário Ajustado'!K95","v":18152.2064032497},{"$f":"'III-Cenário Ajustado'!L95","v":20242.891079052846}]
["Pagamento de passivos não financeiros (Portaria STN nº 10.464, Art. 41, Inciso II)",null,{"$f":"SUM(C29:C31)","v":0},1903.3836855500008,2789.8721329199998,3073.7610802699996,2900.0976524700009,1770.7554932300009,2424.6896532799997,1176.4186811342995,1249.5498772322287,1326.9656603088968,1375.446061925963]
["Sentenças judiciais",null,null,787.41916945000071,732.51664974000005,888.68179217999977,1104.6781376200004,1434.0050827300008,2080.1662785599997,815.38655738429964,872.00900446222875,932.9160385188967,998.64910981596302]
["Recomposição de fundos de reserva de depósitos judiciais e administrativos"]
["Outros",null,null,1115.9645161000001,2057.3554831799997,2185.0792880899999,1795.4195148500003,336.75041049999999,344.52337472000005,361.03212374999993,377.54087276999996,394.04962179000006,376.79695211000001]
["Receitas não computadas conforme inciso III do art. 41 da Portaria STN nº 10.464",null,{"$f":"SUM(C33:C35)","v":0},0,0,0,0,0,0,0,0,{"$f":"SUM(L33:L35)","v":0},0]
[]
["Incluir uma linha para cada receita extraordinária não computada no cálculo do resultado primário para fins de apuração do equilíbrio"]
[]
["Despesas não computadas conforme inciso III do art. 41 da Portaria STN nº 10.464",null,{"$f":"SUM(C37:C39)","v":0},{"$f":"SUM(D37:D39)","v":0},0,0,0,0,0,0,0,{"$f":"SUM(L37:L39)","v":0},0]
[]
["Incluir uma linha para cada despesa extraordinária não computada no cálculo do resultado primário para fins de apuração do equilíbrio"]
[]
["Resultado primário para fins de apuração do equilíbrio",null,{"$f":"C27+C28-C32+C36","v":3154.4140273599769},1794.3052127231672,5270.4722492299134,8360.6954331068628,6872.4039900144917,10774.932068607468,10966.310399526365,13714.971911858625,18620.316191508227,19479.172063558595,21618.337140978809]
["Serviço da dívida por competência",null,null,13326.934959469578,13937.696679878967,14994.896918761127,11824.915016948482,12478.247152849555,12518.176594972118,13182.530560189056,13835.395278314985,14517.551950326355,14417.459290097428]
["Amortizações extraordinárias a deduzir"]
["Serviço da dívida por competência para apuração do equilíbrio",null,{"$f":"C41-C42","v":0},13326.934959469578,13937.696679878967,14994.896918761127,11824.915016948482,12478.247152849555,12518.176594972118,13182.530560189056,13835.395278314985,14517.551950326355,14417.459290097428]
["Critério II: Estoque de Restos a Pagar"]
["Aumento do estoque de restos a pagar",null,{"$f":"'III-Cenário Ajustado'!B85-'I-Cenário Base'!E85","v":-38572.312151079997},{"$f":"'III-Cenário Ajustado'!C85-'III-Cenário Ajustado'!B85","v":-4297.3876231703362},{"$f":"'III-Cenário Ajustado'!D85-'III-Cenário Ajustado'!C85","v":-1001.1486805133172},{"$f":"'III-Cenário Ajustado'!E85-'III-Cenário Ajustado'!D85","v":-1322.6525596919237},{"$f":"'III-Cenário Ajustado'!F85-'III-Cenário Ajustado'!E85","v":1295.487122909286},{"$f":"'III-Cenário Ajustado'!G85-'III-Cenário Ajustado'!F85","v":189.08690238771669},{"$f":"'III-Cenário Ajustado'!H85-'III-Cenário Ajustado'!G85","v":-283.95745374367471},{"$f":"'III-Cenário Ajustado'!I85-'III-Cenário Ajustado'!H85","v":-172.85131233819993},{"$f":"'III-Cenário Ajustado'!J85-'III-Cenário Ajustado'!I85","v":-618.59132253727148},{"$f":"'III-Cenário Ajustado'!K85-'III-Cenário Ajustado'!J85","v":434.45234906630867},{"$f":"'III-Cenário Ajustado'!L85-'III-Cenário Ajustado'!K85","v":-671.46469559246907}]
["Estoque de restos a pagar",null,null,{"$f":"'III-Cenário Ajustado'!C85","v":15999.609454209643},{"$f":"'III-Cenário Ajustado'!D85","v":14998.460773696326},{"$f":"'III-Cenário Ajustado'!E85","v":13675.808214004403},{"$f":"'III-Cenário Ajustado'!F85","v":14971.295336913689},{"$f":"'III-Cenário Ajustado'!G85","v":15160.382239301405},{"$f":"'III-Cenário Ajustado'!H85","v":14876.424785557731},{"$f":"'III-Cenário Ajustado'!I85","v":14703.573473219531},{"$f":"'III-Cenário Ajustado'!J85","v":14084.982150682259},{"$f":"'III-Cenário Ajustado'!K85","v":14519.434499748568},{"$f":"'III-Cenário Ajustado'!L85","v":13847.969804156099}]
["Estoque de restos a pagar não primários"]
["Estoque de restos a pagar primários / Receita corrente líquida (XXXV/XXIX)",null,{"$f":"(C46-C47)/'III-Cenário Ajustado'!B70","v":0},{"$f":"(D46-D47)/'III-Cenário Ajustado'!C70","v":0.1617113995762329},{"$f":"(E46-E47)/'III-Cenário Ajustado'!D70","v":0.14241199983498024},{"$f":"(F46-F47)/'III-Cenário Ajustado'!E70","v":0.12077848340152482},{"$f":"(G46-G47)/'III-Cenário Ajustado'!F70","v":0.12981444975578743},{"$f":"(H46-H47)/'III-Cenário Ajustado'!G70","v":0.1248639475673371},{"$f":"(I46-I47)/'III-Cenário Ajustado'!H70","v":0.11617226574022257},{"$f":"(J46-J47)/'III-Cenário Ajustado'!I70","v":0.10886496055277547},{"$f":"(K46-K47)/'III-Cenário Ajustado'!J70","v":9.6906455807578396E-2},{"$f":"(L46-L47)/'III-Cenário Ajustado'!K70","v":9.6631884064327739E-2},{"$f":"(M46-M47)/'III-Cenário Ajustado'!L70","v":8.7295727829038203E-2}]

{"sheet":"V-Parâmetros","index":7,"n_rows":13,"n_cols":24,"rows_kept":13,"cut":false,"hidden":false,"merged":[]}
["PLANO DE RECUPERAÇÃO FISCAL"]
["Anexo V - Informações Auxiliares"]
["Parâmetros Utilizados nas Projeções"]
[null,null,null,null,null,null,null,null,null,null,null,null,null,"Projeção",null,null,"Extrapolação"]
[null,2012,2013,2014,2015,2016,2017,2018,2019,2020,2021,2022,2023,2024,2025,2026,2027,2028,2029,2030,2031,2032,2033,"Fontes"]
["IPCA (% a.a.)",5.8400000000000001E-2,5.91E-2,6.4100000000000004E-2,0.1067,6.2899999999999998E-2,2.9499999999999998E-2,3.7499999999999999E-2,4.3061516171595302E-2,4.5199999999999997E-2,0.10059999999999999,5.79E-2,4.6199999999999998E-2,3.5499999999999997E-2,0.03,0.03,0.03,0.03,{"$f":"R6","v":0.03},0.03,0.03,{"$f":"U6","v":0.03},0.03,"SPE"]
["IPCA (1+% a.a.)",{"$f":"1+B6","v":1.0584},1.0590999999999999,1.0641,1.1067,1.0629,1.0295000000000001,1.0375000000000001,1.0430615161715953,1.0451999999999999,1.1006,1.0579000000000001,1.0462,1.0355000000000001,1.03,1.03,1.03,1.03,1.03,1.03,1.03,{"$f":"1+V6","v":1.03},1.03,"SPE"]
["IGP-DI (% a.a.)",8.09667816472142E-2,5.51836640617707E-2,3.7835934440058498E-2,0.10701098976864699,7.1825911939788795E-2,-4.1853288702057298E-3,7.0993559720767596E-2,7.6959363162165909E-2,0.23080000000000001,0.1774,5.0299999999999997E-2,-3.3000000000000002E-2,3.5000000000000003E-2,0.04,3.7999999999999999E-2,3.7999999999999999E-2,{"$f":"Q8","v":3.7999999999999999E-2},3.7999999999999999E-2,3.7999999999999999E-2,3.7999999999999999E-2,3.7999999999999999E-2,3.7999999999999999E-2,"SPE"]
["Deflator (% a.a.)",7.9431269420639827E-2,7.5045645320488408E-2,7.8467097434944844E-2,7.5661750129393496E-2,8.0699999999999994E-2,3.6600000000000001E-2,4.4900000000000002E-2,4.2700000000000002E-2,6.4600000000000005E-2,0.13059999999999999,8.5400000000000004E-2,4.7E-2,0.04,4.3799999999999999E-2,4.2000000000000003E-2,4.0399999999999998E-2,4.0099999999999997E-2,{"$f":"R9","v":4.0099999999999997E-2},4.0099999999999997E-2,4.0099999999999997E-2,4.0099999999999997E-2,4.0099999999999997E-2,"SPE"]
["PIB real Nacional (% a.a.)",1.9199999999999998E-2,0.03,5.0000000000000001E-3,-3.5471622701838498E-2,-3.3046721226561701E-2,1.32E-2,1.78E-2,1.2200000000000001E-2,-3.2800000000000003E-2,4.7600000000000003E-2,3.0200000000000001E-2,2.9100000000000001E-2,2.2200000000000001E-2,2.8000000000000001E-2,2.58E-2,2.6200000000000001E-2,2.5100000000000001E-2,{"$f":"R10","v":2.5100000000000001E-2},2.5100000000000001E-2,2.5100000000000001E-2,2.5100000000000001E-2,2.5100000000000001E-2,"SPE"]
["Selic (% a.a. acum ano)",8.501905746545807E-2,8.2291014266978504E-2,0.10907207520851531,0.13276262880327747,0.14018577710987001,9.9398186786469001E-2,6.4289772211014701E-2,5.9037539376861695E-2,2.6353185633169601E-2,3.9100000000000003E-2,0.1234,0.1318,9.6299999999999997E-2,8.0500000000000002E-2,7.22E-2,7.0199999999999999E-2,6.7699999999999996E-2,{"$f":"R11","v":6.7699999999999996E-2},6.7699999999999996E-2,6.7699999999999996E-2,6.7699999999999996E-2,6.7699999999999996E-2,"SPE"]
["Dólar (fim de período)",2.0434999999999999,2.3426,2.6562000000000001,3.9047999999999998,3.3523000000000001,3.2919,3.8851,4.0307000000000004,5.2,5.58,5.22,4.84,4.92,5,5.04,5.0999999999999996,5.0999999999999996,{"$f":"R12","v":5.0999999999999996},5.0999999999999996,5.0999999999999996,5.0999999999999996,5.0999999999999996,"SPE"]
["Dólar (média ano)",1.9549649402390434,2.160505138339921,2.3545181818181797,3.3386959999999997,3.4849763052208838,3.1920083333333298,3.6544500000000002,3.9450833333333302,5.16,5.4,5.16,4.99,4.9400000000000004,4.9800000000000004,5.03,5.07,5.0999999999999996,{"$f":"R13","v":5.0999999999999996},5.0999999999999996,5.0999999999999996,5.0999999999999996,5.0999999999999996,"SPE"]

{"sheet":"V-Parâmetros (2)","index":8,"n_rows":15,"n_cols":22,"rows_kept":15,"cut":false,"hidden":true,"merged":[]}
["PLANO DE RECUPERAÇÃO FISCAL"]
["Anexo V - Informações Auxiliares"]
["Parâmetros Utilizados nas Projeções"]
[null,null,null,null,null,null,null,null,null,null,"Projeção",null,null,null,"Extrapolação"]
[null,2011,2012,2013,2014,2015,2016,2017,2018,2019,2020,2021,2022,2023,2024,2025,2026,2027,2028,2029,2030,"Fontes"]
["IPCA (% a.a.)",6.5000000000000002E-2,5.8400000000000001E-2,5.91E-2,6.4100000000000004E-2,0.1067,6.2899999999999998E-2,2.9499999999999998E-2,3.7499999999999999E-2,4.3061516171595302E-2,1.8318597899048099E-2,2.9385877866022501E-2,3.4985107758980401E-2,3.2485137740871001E-2,3.2485137740871001E-2,3.2485137740871001E-2,3.2485137740871001E-2,3.2485137740871001E-2,3.2485137740871001E-2,3.2485137740871001E-2,3.2485137740871001E-2,"SPE"]
["IPCA (1+% a.a.)",{"$f":"1+B6","v":1.0649999999999999},{"$f":"1+C6","v":1.0584},1.0590999999999999,1.0641,1.1067,1.0629,1.0295000000000001,1.0375000000000001,1.0430615161715953,1.0183185978990481,1.0293858778660225,1.0349851077589804,1.032485137740871,1.032485137740871,1.032485137740871,1.032485137740871,1.032485137740871,1.032485137740871,1.032485137740871,1.032485137740871,"SPE"]
["IGP-DI (% a.a.)",5.0999999999999997E-2,8.09667816472142E-2,5.51836640617707E-2,3.7835934440058498E-2,0.10701098976864699,7.1825911939788795E-2,-4.1853288702057298E-3,7.0993559720767596E-2,7.6959363162165909E-2,0.130186897706559,4.1778185103098095E-2,3.9985458506078604E-2,3.4985516786170304E-2,3.4985516786170304E-2,3.4985516786170304E-2,3.4985516786170304E-2,3.4985516786170304E-2,3.4985516786170304E-2,3.4985516786170304E-2,3.4985516786170304E-2,"SPE"]
["Deflator (% a.a.)",8.3199999999999996E-2,7.9431269420639827E-2,7.5045645320488408E-2,7.8467097434944844E-2,7.5661750129393496E-2,8.1382864315158607E-2,3.5000000000000003E-2,3.1E-2,4.1401184801407795E-2,3.9768306594927701E-2,3.6522139356802902E-2,4.0645925372831702E-2,4.0698218027858106E-2,4.0698218027858106E-2,4.0698218027858106E-2,4.0698218027858106E-2,4.0698218027858106E-2,4.0698218027858106E-2,4.0698218027858106E-2,4.0698218027858106E-2,"SPE"]
["PIB Nacional (% a.a.)",3.9699999999999999E-2,1.9199999999999998E-2,0.03,5.0000000000000001E-3,-3.5471622701838498E-2,-3.3046721226561701E-2,1.06216902874283E-2,1.11763993215412E-2,1.1365855728662898E-2,-4.6956585962401397E-2,3.20156055147078E-2,2.5012569291415598E-2,2.5023119445885401E-2,2.5023119445885401E-2,2.5023119445885401E-2,2.5023119445885401E-2,2.5023119445885401E-2,2.5023119445885401E-2,2.5023119445885401E-2,2.5023119445885401E-2,"SPE"]
["Selic (% a.a. acum ano)",0.1162462936624582,8.501905746545807E-2,8.2291014266978504E-2,0.10907207520851531,0.13276262880327747,0.14018577710987001,9.9398186786469001E-2,6.4289772211014701E-2,5.9037539376861695E-2,2.6353185633169601E-2,2.0390950669980999E-2,3.5526694960929396E-2,5.0643079816688495E-2,5.0643079816688495E-2,5.0643079816688495E-2,5.0643079816688495E-2,5.0643079816688495E-2,5.0643079816688495E-2,5.0643079816688495E-2,5.0643079816688495E-2,"SPE"]
["Dólar (fim de período)",1.8757999999999999,2.0434999999999999,2.3426,2.6562000000000001,3.9047999999999998,3.3523000000000001,3.2919,3.8851,4.0307000000000004,5.25,5,4.9000000000000004,4.8499999999999996,5.0075529180432241,5.1702239643305585,5.0075529180432241,5.1702239643305585,5.0075529180432241,5.1702239643305585,5.0075529180432241,"SPE"]
["Dólar (média ano)",1.6737919999999999,1.9549649402390434,2.160505138339921,2.3545181818181797,3.3386959999999997,3.4849763052208838,3.1920083333333298,3.6544500000000002,3.9450833333333302,5.1223458333333296,5.1045833333333297,4.8666666666666698,4.875,5.04555439433258,5.2220757222910379,5.04555439433258,5.2220757222910379,5.04555439433258,5.2220757222910379,5.04555439433258,"SPE"]
["Tx de Cresc. Real - Desp. Pessoal Ativo",4.2687186688158407E-2,8.1305189488653618E-2,0.10379971409882915,4.2684998675454056E-2,-4.6616434100493431E-2,-8.8933386591342645E-2,1.1001286066960381E-2,3.6245383309392309E-2,-6.5151401465008085E-2,{"$f":"AVERAGE(B14:J14)","v":1.3002504018955974E-2},{"$f":"K14","v":1.3002504018955974E-2},{"$f":"L14","v":1.3002504018955974E-2},1.3002504018955974E-2,1.3002504018955974E-2,1.3002504018955974E-2,1.3002504018955974E-2,1.3002504018955974E-2,1.3002504018955974E-2,1.3002504018955974E-2,1.3002504018955974E-2,"PAF"]
["Tx de Cresc. - Pop Idosa",3.2110405609852455E-2,3.4266072831224959E-2,3.583327829984051E-2,3.6706359747952888E-2,3.7134688384790948E-2,3.7616521574839856E-2,3.8016518739053984E-2,3.8350289328706655E-2,3.8720442459935889E-2,3.8970014212222459E-2,3.9050108542096895E-2,3.9020001140352978E-2,3.8563363466258993E-2,3.7618167587263329E-2,3.6366541953385179E-2,3.7618167587263329E-2,3.6366541953385179E-2,3.7618167587263329E-2,3.6366541953385179E-2,3.7618167587263329E-2,"IBGE"]

{"sheet":"VI-Referência","index":9,"n_rows":110,"n_cols":2,"rows_kept":110,"cut":false,"hidden":false,"merged":[[3,0,3,1]]}
["PLANO DE RECUPERAÇÃO FISCAL"]
["Mapeamento de Contas RRF e Instruções"]
[]
["Mapeamento de Contas RRF e Instruções"]
[]
["ACIMA DA LINHA - RECEITAS E DESPESAS","."]
["Receita Total (I) = (II+IX)"]
["Receitas Correntes (II) = (III+IV+V+VI+VII-IIa)","NR: 1.0.0.0.00.0.0 + NR: 7.0.0.0.00.0.0 (TODAS AS FR EXCETO FR: 800 + FR: 801 + FR: 802)"]
["Receitas Tributárias (III)","NR: 1.1.0.0.00.0.0 + NR: 7.1.0.0.00.0.0 - Valores brutos, sem dedução das transferências ao FUNDEB - a serem lançadas na linha (IIa) - e das transferências aos Municípios, que devem ser lançadas na despesa."]
["ICMS","NR: 1.1.1.4.50.1.0 + NR: 1.1.1.4.50.2.0 + NR: 7.1.1.4.50.1.0 + NR: 7.1.1.4.50.2.0"]
["IPVA","NR: 1.1.1.2.51.0.0 + NR: 7.1.1.2.51.0.0"]
["ITCD","NR: 1.1.1.2.52.0.0 + NR: 7.1.1.2.52.0.0"]
["IRRF","NR: 1.1.1.3.03.0.0 + NR: 7.1.1.3.03.0.0"]
["Outras Receitas Tributárias","[NR: 1.1.0.0.00.0.0 (-) NR: 1.1.1.4.50.1.0 (-) NR: 1.1.1.4.50.2.0 (-) NR: 1.1.1.2.51.0.0 (-) NR: 1.1.1.2.52.0.0 (-) NR: 1.1.1.3.03.0.0] + [NR: 7.1.0.0.00.0.0 (-) NR: 7.1.1.4.50.1.0 (-) NR: 7.1.1.4.50.2.0 (-) NR: 7.1.1.2.51.0.0 (-) NR: 7.1.1.2.52.0.0 (-) NR: 7.1.1.3.03.0.0]"]
["Receitas de Contribuições (IV)","NR: 1.2.0.0.00.0.0 + NR: 7.2.0.0.00.0.0; (TODAS FR EXCETO FR: 800 + FR: 801 + FR: 802)"]
["Receitas Previdenciárias (a)","NR: 1.2.1.5.01.0.0 + NR: 1.2.1.5.03.0.0 + NR: 1.2.1.5.04.0.0 + NR: 1.2.1.5.52.0.0 + NR: 1.2.1.5.55.0.0 + NR: 1.2.1.5.56.0.0 + NR: 1.2.1.5.02.0.0 + NR: 1.2.1.5.50.0.0 + NR: 1.2.1.5.51.0.0 + NR: 1.2.1.5.53.0.0 + NR: 1.2.1.5.54.0.0 + NR: 7.2.1.5.01.0.0 + NR: 7.2.1.5.03.0.0 + NR: 7.2.1.5.04.0.0 + NR: 7.2.1.5.52.0.0 + NR: 7.2.1.5.55.0.0 + NR: 7.2.1.5.56.0.0 + NR: 7.2.1.5.02.0.0 + NR: 7.2.1.5.50.0.0 + NR: 7.2.1.5.51.0.0 + NR: 7.2.1.5.53.0.0 + NR: 7.2.1.5.54.0.0"]
["Outras Receitas de Contribuições","[NR: 1.2.0.0.00.0.0 (-) NR: 1.2.1.5.01.0.0 (-) NR: 1.2.1.5.03.0.0 (-) NR: 1.2.1.5.04.0.0 (-) NR: 1.2.1.5.52.0.0 (-) NR: 1.2.1.5.55.0.0 (-) NR: 1.2.1.5.56.0.0 (-) NR: 1.2.1.5.02.0.0 (-) NR: 1.2.1.5.50.0.0 (-) NR: 1.2.1.5.51.0.0 (-) NR: 1.2.1.5.53.0.0 (-) NR: 1.2.1.5.54.0.0] + [NR: 7.2.0.0.00.0.0 (-) NR: 7.2.1.5.01.0.0 (-) NR: 7.2.1.5.03.0.0 (-) NR: 7.2.1.5.04.0.0 (-) NR: 7.2.1.5.52.0.0 (-) NR: 7.2.1.5.55.0.0 (-) NR: 7.2.1.5.56.0.0 (-) NR: 7.2.1.5.02.0.0 (-) NR: 7.2.1.5.50.0.0 (-) NR: 7.2.1.5.51.0.0 (-) NR: 7.2.1.5.53.0.0 (-) NR: 7.2.1.5.54.0.0]"]
["Receita Patrimonial (V)","NR: 1.3.0.0.00.0.0 + NR: 7.3.0.0.00.0.0; (TODAS FR EXCETO FR: 800 + FR: 801 + FR: 802)"]
["Receita de Aplicações Financeiras (b)","NR: 1.3.2.1.01.0.0 + NR: 1.3.2.1.02.0.0 + NR: 1.3.2.1.03.0.0 + NR: 1.3.2.1.04.0.0 + NR: 1.3.2.1.05.0.0 + NR: 1.3.2.9.99.0.0 + NR: 7.3.2.1.01.0.0 + NR: 7.3.2.1.02.0.0 + NR: 7.3.2.1.03.0.0 + NR: 7.3.2.1.04.0.0 + NR: 7.3.2.1.05.0.0 + NR: 7.3.2.9.99.0.0"]
["Outras Receitas Patrimoniais","[(NR: 1.3.0.0.00.0.0 (-) NR: 1.3.2.1.01.0.0 (-) NR: 1.3.2.1.02.0.0 (-) NR: 1.3.2.1.03.0.0 (-) NR: 1.3.2.1.04.0.0 (-) NR: 1.3.2.1.05.0.0 (-) NR: 1.3.2.9.99.0.0) + (NR: 7.3.0.0.00.0.0 (-) NR: 7.3.2.1.01.0.0 (-) NR: 7.3.2.1.02.0.0 (-) NR: 7.3.2.1.03.0.0 (-) NR: 7.3.2.1.04.0.0 (-) NR: 7.3.2.1.05.0.0 (-) NR: 7.3.2.9.99.0.0)]"]
["Transferências Correntes (VI)","(NR: 1.7.0.0.00.0.0 + NR: 7.7.0.0.00.0.0); (TODAS FR EXCETO FR: 800 + FR: 801 + FR: 802) - Valores brutos, sem dedução das transferências ao FUNDEB - a serem lançadas na linha (IIa) - e das transferências aos Municípios, que devem ser lançadas na despesa."]
["Cota-Parte do FPE","NR: 1.7.1.1.50.0.0 + NR: 7.7.1.1.50.0.0"]
["Cota-Parte do IPI-Exp. (LC nº 61/1989)","NR: 1.7.1.1.53.0.0 + NR: 7.7.1.1.53.0.0"]
["Transferências do FUNDEB","NR: 1.7.1.5.00.0.0 + NR: 1.7.5.1.00.0.0 + NR: 7.7.1.5.00.0.0 + NR: 7.7.5.1.00.0.0"]
["Royalties e Participações Especiais","NR: 1.7.1.2.52.0.0 + NR: 7.7.1.2.52.0.0"]
["Outras Transferências Correntes","[(NR: 1.7.0.0.00.0.0 (-) NR: 1.7.1.1.50.0.0 (-) NR: 1.7.1.1.53.0.0 (-) NR: 1.7.1.5.00.0.0 (-) NR: 1.7.5.1.00.0.0) + (NR: 7.7.0.0.00.0.0 (-) NR: 7.7.1.1.50.0.0 (-) NR: 7.7.1.1.53.0.0 (-) NR: 7.7.1.5.00.0.0 (-) NR: 7.7.5.1.00.0.0 (-) NR: 1.7.1.2.52.0.0 (-) NR: 7.7.1.2.52.0.0)]"]
["Demais Receitas Correntes (VII)","NR: 1.4.0.0.00.0.0 + NR: 1.5.0.0.00.0.0 + NR: 1.6.0.0.00.0.0 + NR: 1.9.0.0.00.0.0 + NR: 7.4.0.0.00.0.0 + NR: 7.5.0.0.00.0.0 + NR: 7.6.0.0.00.0.0 + NR: 7.9.0.0.00.0.0"]
["Outras Receitas Financeiras (c)","NR: 1.6.4.1.01.0.0 + NR: 1.6.4.1.03.0.0 + NR: 1.9.2.2.01.2.0 + NR: 1.9.2.2.06.4.0 + NR: 1.9.4.4.00.0.0 + NR: 1.9.9.9.11.0.0 + NR: 1.9.9.9.99.3.0 + NR: 7.6.4.1.01.0.0 + NR: 7.6.4.1.03.0.0 + NR: 7.9.2.2.01.2.0 + NR: 7.9.2.2.06.4.0 + NR: 7.9.4.4.00.0.0 + NR: 7.9.9.9.11.0.0 + NR: 7.9.9.9.99.3.0"]
["Compensações Financeiras entre o RGPS e o RPPS (d)","NR: 1.9.9.9.03.0.0 + NR: 7.9.9.9.03.0.0"]
["Receitas Correntes Restantes","[NR: 1.4.0.0.00.0.0 + NR: 1.5.0.0.00.0.0 + (NR: 1.6.0.0.00.0.0 (-) NR: 1.6.4.1.01.0.0 (-) NR: 1.6.4.1.03.0.0) + (NR: 1.9.0.0.00.0.0 (-) NR: 1.9.2.2.01.2.0 (-) NR: 1.9.2.2.06.4.0 (-) NR: 1.9.4.4.00.0.0 (-) NR: 1.9.9.9.11.0.0 (-) NR: 1.9.9.9.99.3.0 (-) NR: 1.9.9.9.03.0.) + NR: 7.4.0.0.00.0.0 + NR: 7.5.0.0.00.0.0 + (NR: 7.6.0.0.00.0.0 (-) NR: 7.6.4.1.01.0.0 (-) NR: 7.6.4.1.03.0.0) + (NR: 7.9.0.0.00.0.0 (-) NR: 7.9.2.2.01.2.0 (-) NR: 7.9.2.2.06.4.0 (-) NR: 7.9.4.4.00.0.0 (-) NR: 7.9.9.9.11.0.0 (-) NR: 7.9.9.9.99.3.0 (-) NR: 7.9.9.9.03.0.0)]"]
["Deduções para formação do Fundeb (IIa)"]
["Receitas Primárias Correntes (VIII) = (II-b-c)"]
["Receitas de Capital (IX) = (X+XI+XII+XIII+XIV)","NR: 2.0.0.0.00.0.0 + NR: 8.0.0.0.00.0.0; (TODAS AS FR EXCETO FR: 800 + FR: 801 + FR: 802)"]
["Operações de Crédito (X)","NR: 2.1.0.0.00.0.0 + NR: 8.1.0.0.00.0.0; (TODAS AS FR EXCETO FR: 800 + FR: 801 + FR: 802)"]
["Amortização de Empréstimos (XI)","NR: 2.3.0.0.00.0.0 + NR: 8.3.0.0.00.0.0; (TODAS AS FR EXCETO FR: 800 + FR: 801 + FR: 802)"]
["Alienação de Bens (XII)","NR: 2.2.0.0.00.0.0 + NR: 8.2.0.0.00.0.0; (TODAS AS FR EXCETO FR: 800 + FR: 801 + FR: 802)"]
["Alienação de Bens Não Primária (e)","NR: 2.2.1.1.01.0.0 + NR: 8.2.1.1.01.0.0 + NR: 2.2.1.1.02.0.0 + NR: 8.2.1.1.02.0.0"]
["Alienação de Bens Primária","NR: 2.2.0.0.00.0.0 (-) NR: 2.2.1.1.01.0.0 (-) NR: 2.2.1.1.02.0.0 + NR: 8.2.0.0.00.0.0 (-) NR: 8.2.1.1.01.0.0 (-) NR: 8.2.1.1.02.0.0"]
["Transferências de Capital (XIII)","NR: 2.4.0.0.00.0.0 + NR: 8.4.0.0.00.0.0; (TODAS AS FR EXCETO FR: 800 + FR: 801 + FR: 802)"]
["Outras Receitas de Capital (XIV)","NR: 2.4.0.0.00.0.0 + NR: 8.4.0.0.00.0.0; (TODAS AS FR EXCETO FR: 800 + FR: 801 + FR: 802)"]
["Outras Receitas de Capital Não Primárias (f)","NR: 2.9.2.0.00.0.0 + NR: 2.9.3.0.00.0.0 + NR: 2.9.4.0.00.0.0 + NR: 8.9.2.0.00.0.0 + NR: 8.9.3.0.00.0.0 + NR: 8.9.4.0.00.0.0"]
["Outras Receitas de Capital Primárias","NR: 2.9.1.0.00.0.0 + NR: 2.9.9.0.00.0.0 + NR: 8.9.1.0.00.0.0 + NR: 8.9.9.0.00.0.0"]
["Receitas Primárias de Capital (XV) = (IX-X-XI-e-f)"]
["RECEITA PRIMÁRIA TOTAL (XVI) = (VIII+XV)"]
["Despesa Orçamentária (XVII) = (XVIII+XXIII)"]
["Despesas Correntes (XVIII) = (XIX+XX+XXI)","ND: 3.0.00.00.00; (TODAS FR EXCETO FR: 800 + FR: 801 + FR: 802)"]
["Pessoal e Encargos Sociais (XIX)","ND: 3.1.00.00.00; (TODAS FR EXCETO FR: 800 + FR: 801 + FR: 802)"]
["Ativo","ND: 3.1.90.04.00 + ND: 3.1.90.07.00 + ND: 3.1.90.11.00 + ND: 3.1.90.12.00 + ND: 3.1.90.13.00 + ND: 3.1.90.16.00 + ND: 3.1.90.17.00 + ND: 3.1.90.67.00 + ND: 3.1.90.96.00 + ND: 3.1.90.99.00 + ND: 3.1.91.04.00 + ND: 3.1.91.08.00 + ND: 3.1.91.13.00 + ND: 3.1.91.96.00 + ND: 3.1.91.99.00 "]
["Inativos e Pensionistas","ND: 3.1.90.01.00 + ND: 3.1.90.03.00"]
["Sentenças Judiciais - Pessoal","ND: 3.1.90.91.00 + ND: 3.1.91.91.00"]
["Outras Despesas com Pessoal","ND: 3.1.00.00.00 (-) Ativo (-) Inativos e Pensionistas (-) Senteças Judiciais"]
["Juros e Encargos da Dívida (XX)","ND: 3.2.00.00.00; (TODAS FR EXCETO FR: 800 + FR: 801 + FR: 802)"]
["Outras Despesas Correntes (XXI)","ND: 3.3.00.00.00; (TODAS FR EXCETO FR: 800 + FR: 801 + FR: 802)"]
["Transferências Constitucionais e Legais (g)","ND: 3.3.40.81.00 - As transferências aos Municípios devem ser lançadas aqui."]
["Sentenças Judiciais - Outras Correntes","ND: 3.3.XX.91.00"]
["Demais Despesas Correntes","ND: 3.3.00.00.00 (-) Transferências Constitucionais e Legais (-) Sentenças Judiciais"]
["Despesas Primárias Correntes (XXII) = (XVIII-XX)"]
["Despesas de Capital (XXIII) = (XXIV+XXV+XXVI)","ND: 4.0.00.00.00; (TODAS AS FR EXCETO FR: 800 + FR: 801 + FR: 802)"]
["Investimentos (XXIV)","[ND: 4.4.00.00.00; (TODAS FR EXCETO FR: 800 + FR: 801 + FR: 802)] + CC 8.6.3.1.1.01.00 + 8.6.3.1.2.01.00"]
["Sentenças Judiciais - Investimentos","ND: 4.4.XX.91.00"]
["Demais Investimentos","ND: 4.4.00.00.00 (-) ND: 4.4.XX.91.00"]
["Inversões Financeiras (XXV)","ND: 4.5.00.00.00; (TODAS FR EXCETO FR: 800 + FR: 801 + FR: 802)"]
["Inversões Financeiras Não Primárias (h) 1)","ND: 4.5.XX.66.00 + ND: 4.5.90.92.66 + ND: 4.5.XX.64.00 + ND: 4.5.90.92.64 + ND: 4.5.XX.63.00 + ND: 4.5.90.92.63"]
["Sentenças Judiciais - Inversões","ND: 4.5.XX.91.00"]
["Demais Inversões Financeiras Primárias","ND: 4.5.00.00.00 (-) Inversões Financeiras Não Primárias (-) Sentenças Judiciais"]
["Amortização da Dívida (XXVI)","ND: 4.6.00.00.00; (TODAS FR EXCETO FR: 800 + FR: 801 + FR: 802)"]
["Despesas Primárias de Capital (XXVII) = (XXIII-h-XXVI)"]
["DESPESA PRIMÁRIA ORÇAMENTÁRIA (XXVIII) = (XXII+XXVII)"]
["RECEITA CORRENTE LÍQUIDA (XXIX) = (II-a-d-g)"]
["RESTOS A PAGAR"]
["Inscrições de Restos a Pagar (XXX) = (i+k)"]
["Inscrição de RAP Processados (i)"]
["Inscrição de RAP Processados Primários (j)"]
["Inscrição de RAP Processados Não Primários"]
["Inscrição de RAP Não Processados (k)"]
["Inscrição de RAP Não Processados Primários (l)"]
["Inscrição de RAP Não Processados Não Primários"]
["Cancelamentos  de Restos a Pagar (XXXI) = (m+n)"]
["Cancelamento de RAP Processados (m)"]
["Cancelamento de RAP Não Processados (n)"]
["Liquidação de Restos a Pagar Não Processados (XXXII)"]
["Pagamento de Restos a Pagar Primário (XXXIII)","Considera o pagamento de RAPs primários, inclusive os processados e não processados liquidados no exercício"]
["Pagamento de Restos a Pagar Não Primário (XXXIV)","Considera o pagamento de RAPs não primários, inclusive os processados e não processados liquidados no exercício"]
["ESTOQUE DE RESTOS A PAGAR (XXXV) = (XXXVI+XXXVII)"]
["Estoque de RAP Processados (XXXVI) = XXXVI(t-1) + (i-m+XXXII-XXXIII-XXXIV)","A primeira célula (B85) deve ser preenchida com o dado realizado"]
["Estoque de RAP Não Processados (XXXVII) = XXXVII(t-1) + (k-n-XXXII)","A primeira célula (B86) deve ser preenchida com o dado realizado"]
["ESTOQUE DE RESTOS A PAGAR / RECEITA CORRENTE LÍQUIDA (XXXV/XXIX)"]
["RAP Processados / RCL (XXXVI/XXIX)"]
["RAP Não Processados / RCL (XXXVII/XXIX)"]
["DESPESA PRIMÁRIA (XXXVIII) = (XXVIII-j-l+XXXIII)"]
["Demais Despesas Primárias (XXXIX) 2)","Despesas que compõe o resultado primário por caixa, mas não transitam pelo orçamento"]
["DESPESA PRIMÁRIA TOTAL (XL) = (XXXVIII+XXXIX)"]
["RESULTADOS PRIMÁRIO E NOMINAL"]
["RESULTADO PRIMÁRIO (XLI) = (XVI-XL)"]
["Juros e Encargos da Dívida (XX)"]
["Amortização da Dívida (XXVI)"]
["Inversões Financeiras Não Primárias (h) 1)"]
["Receita de Aplicações Financeiras (b)"]
["Outras Receitas Financeiras (c)"]
["Outras Receitas de Capital Não Primárias (f)"]
["Amortização de Empréstimos (XI)"]
["Despesa Financeira Líquida (XLII) = (XX+XXVI+h-b-c-f-XI)"]
["NECESSIDADE DE FINANCIAMENTO (XLIII) = (XLII-XLI)"]
["Operações de Crédito (X)"]
["Alienação de Bens Não Primária (e)"]
["Fontes de Financiamento (XLIV) = (X+e)"]
["Outros Fluxos de Caixa (XLV)","Fluxos que impactam o caixa, mas não transitam pelo orçamento (exceto as demais despesas primárias)."]
["FLUXO DE CAIXA (XLVI) = (XLIV-XLIII+XLV)"]
["1) Corresponde ao somatório de Concessão de Empréstimos e Financiamentos, Aquisição de Título de Capital já Integralizado e Aquisição de Título de Crédito."]
["2) As Demais Despesas Primárias são despesas que compõem o resultado primário por caixa, mas não transitam pelo orçamento."]